BEGIN:VCALENDAR
VERSION:2.0
PRODID:-//Quoi faire à Alma - ECPv6.15.14//NONSGML v1.0//EN
CALSCALE:GREGORIAN
METHOD:PUBLISH
X-ORIGINAL-URL:https://quoifairealma.com
X-WR-CALDESC:Évènements pour Quoi faire à Alma
REFRESH-INTERVAL;VALUE=DURATION:PT1H
X-Robots-Tag:noindex
X-PUBLISHED-TTL:PT1H
BEGIN:VTIMEZONE
TZID:America/New_York
BEGIN:DAYLIGHT
TZOFFSETFROM:-0500
TZOFFSETTO:-0400
TZNAME:EDT
DTSTART:20240310T070000
END:DAYLIGHT
BEGIN:STANDARD
TZOFFSETFROM:-0400
TZOFFSETTO:-0500
TZNAME:EST
DTSTART:20241103T060000
END:STANDARD
BEGIN:DAYLIGHT
TZOFFSETFROM:-0500
TZOFFSETTO:-0400
TZNAME:EDT
DTSTART:20250309T070000
END:DAYLIGHT
BEGIN:STANDARD
TZOFFSETFROM:-0400
TZOFFSETTO:-0500
TZNAME:EST
DTSTART:20251102T060000
END:STANDARD
BEGIN:DAYLIGHT
TZOFFSETFROM:-0500
TZOFFSETTO:-0400
TZNAME:EDT
DTSTART:20260308T070000
END:DAYLIGHT
BEGIN:STANDARD
TZOFFSETFROM:-0400
TZOFFSETTO:-0500
TZNAME:EST
DTSTART:20261101T060000
END:STANDARD
END:VTIMEZONE
BEGIN:VEVENT
DTSTART;TZID=America/New_York:20250924T190000
DTEND;TZID=America/New_York:20250924T200000
DTSTAMP:20260422T074723
CREATED:20250922T200802Z
LAST-MODIFIED:20250922T200802Z
UID:10001615-1758740400-1758744000@quoifairealma.com
SUMMARY:Écolo Café - Conférence gratuite à Alma !
DESCRIPTION:Conférence gratuite à Alma !  \n\n\n\n Mercredi 24 septembre 2025 – début à 19h\n Exode café\, 960\, avenue du Pont Sud\, Alma\, QC G8B 2V8\n Arrivée dès 18h30 \n\n\n\nLa Régie des matières résiduelles du Lac-Saint-Jean\, le CREDD – Conseil régional de l’environnement et du développement durable ainsi que L’Exode Café vous invitent à une conférence gratuite et conviviale !\n\n\n Dans une ambiance à la fois ludique et éducative\, nos conférencières partageront avec vous des astuces pratiques pour améliorer la gestion des matières résiduelles et réduire à la source.\n\n\n Le café sera ouvert spécialement pour l’occasion – profitez-en pour prendre une boisson et échanger après la conférence ! \n\n\n\nInscription gratuite : https://my.weezevent.com/conference-gratuite-ecolo-cafe
URL:https://quoifairealma.com/evenement/ecolo-cafe-conference-gratuite-a-alma/
LOCATION:L’Éxode café\, 960 Av. du Pont S\,\, Alma\, Québec\, G8B 2V8\, Canada
CATEGORIES:Communauté,Événements
ATTACH;FMTTYPE=image/jpeg:https://quoifairealma.com/app/uploads/2025/09/541850042_1364732825655410_1595986264728885955_n.jpg
END:VEVENT
END:VCALENDAR