BEGIN:VCALENDAR
VERSION:2.0
PRODID:-//Quoi faire à Alma - ECPv6.15.14//NONSGML v1.0//EN
CALSCALE:GREGORIAN
METHOD:PUBLISH
X-WR-CALNAME:Quoi faire à Alma
X-ORIGINAL-URL:https://quoifairealma.com
X-WR-CALDESC:Évènements pour Quoi faire à Alma
REFRESH-INTERVAL;VALUE=DURATION:PT1H
X-Robots-Tag:noindex
X-PUBLISHED-TTL:PT1H
BEGIN:VTIMEZONE
TZID:America/New_York
BEGIN:DAYLIGHT
TZOFFSETFROM:-0500
TZOFFSETTO:-0400
TZNAME:EDT
DTSTART:20240310T070000
END:DAYLIGHT
BEGIN:STANDARD
TZOFFSETFROM:-0400
TZOFFSETTO:-0500
TZNAME:EST
DTSTART:20241103T060000
END:STANDARD
BEGIN:DAYLIGHT
TZOFFSETFROM:-0500
TZOFFSETTO:-0400
TZNAME:EDT
DTSTART:20250309T070000
END:DAYLIGHT
BEGIN:STANDARD
TZOFFSETFROM:-0400
TZOFFSETTO:-0500
TZNAME:EST
DTSTART:20251102T060000
END:STANDARD
BEGIN:DAYLIGHT
TZOFFSETFROM:-0500
TZOFFSETTO:-0400
TZNAME:EDT
DTSTART:20260308T070000
END:DAYLIGHT
BEGIN:STANDARD
TZOFFSETFROM:-0400
TZOFFSETTO:-0500
TZNAME:EST
DTSTART:20261101T060000
END:STANDARD
END:VTIMEZONE
BEGIN:VEVENT
DTSTART;TZID=America/New_York:20251220T140000
DTEND;TZID=America/New_York:20251221T160000
DTSTAMP:20260420T143302
CREATED:20251124T145214Z
LAST-MODIFIED:20251124T203235Z
UID:10000989-1766239200-1766332800@quoifairealma.com
SUMMARY:Casse-Noisette
DESCRIPTION:Le Prisme culturel vous invite à plonger dans l’univers féérique de Casse-Noisette\, l’une des plus belles traditions du temps des fêtes. \nSur scène\, les danseurs présentent des extraits du conte devenu un classique de Noël\, accompagnés de la merveilleuse musique de Tchaïkovski\, dans un décor enchanteur. La veille de Noël\, Clara reçoit un Casse-Noisette magique de son parrain Drosselmeyer. Endormie\, elle se retrouve au cœur d’une bataille entre souris\, rats et soldats de plomb\, jusqu’à ce que le Casse-Noisette s’anime pour la sauver. Ils partent alors pour un merveilleux pays\, rempli de surprises et de découvertes. \n20 décembre 14 h\, 21 décembre 10 h et 14 h. \nAdulte: 47$\nÉtudiant/Aîné: 42$\nEnfant: 22$
URL:https://quoifairealma.com/evenement/casse-noisette/
LOCATION:Salle Michel-Côté\, 850\, avenue Bégin\, Alma\, Québec\, G8B 5W2\, Canada
CATEGORIES:Danse,Spectacles et festivals
ATTACH;FMTTYPE=image/jpeg:https://quoifairealma.com/app/uploads/2025/11/Creation-sans-titre-scaled.jpg
END:VEVENT
END:VCALENDAR