BEGIN:VCALENDAR
VERSION:2.0
PRODID:-//Quoi faire à Alma - ECPv6.15.14//NONSGML v1.0//EN
CALSCALE:GREGORIAN
METHOD:PUBLISH
X-ORIGINAL-URL:https://quoifairealma.com
X-WR-CALDESC:Évènements pour Quoi faire à Alma
REFRESH-INTERVAL;VALUE=DURATION:PT1H
X-Robots-Tag:noindex
X-PUBLISHED-TTL:PT1H
BEGIN:VTIMEZONE
TZID:America/New_York
BEGIN:DAYLIGHT
TZOFFSETFROM:-0500
TZOFFSETTO:-0400
TZNAME:EDT
DTSTART:20240310T070000
END:DAYLIGHT
BEGIN:STANDARD
TZOFFSETFROM:-0400
TZOFFSETTO:-0500
TZNAME:EST
DTSTART:20241103T060000
END:STANDARD
BEGIN:DAYLIGHT
TZOFFSETFROM:-0500
TZOFFSETTO:-0400
TZNAME:EDT
DTSTART:20250309T070000
END:DAYLIGHT
BEGIN:STANDARD
TZOFFSETFROM:-0400
TZOFFSETTO:-0500
TZNAME:EST
DTSTART:20251102T060000
END:STANDARD
BEGIN:DAYLIGHT
TZOFFSETFROM:-0500
TZOFFSETTO:-0400
TZNAME:EDT
DTSTART:20260308T070000
END:DAYLIGHT
BEGIN:STANDARD
TZOFFSETFROM:-0400
TZOFFSETTO:-0500
TZNAME:EST
DTSTART:20261101T060000
END:STANDARD
BEGIN:DAYLIGHT
TZOFFSETFROM:-0500
TZOFFSETTO:-0400
TZNAME:EDT
DTSTART:20270314T070000
END:DAYLIGHT
BEGIN:STANDARD
TZOFFSETFROM:-0400
TZOFFSETTO:-0500
TZNAME:EST
DTSTART:20271107T060000
END:STANDARD
END:VTIMEZONE
BEGIN:VEVENT
DTSTART;TZID=America/New_York:20260402T170000
DTEND;TZID=America/New_York:20260402T190000
DTSTAMP:20260422T030027
CREATED:20260318T154010Z
LAST-MODIFIED:20260331T153939Z
UID:10002422-1775149200-1775156400@quoifairealma.com
SUMMARY:Conférence: Survie hivernale par les Primitifs
DESCRIPTION:Conférence immersive sur Détox Boréale Digitale par Les Primitifs\, une expédition et une expérience hivernale qui se veut simple : revenir aux sources\, sans technologie moderne\, pour cinq jours consécutifs sans abris. C’était 14 personnes hautement passionnées qui ont passé des mois à la préparation de cette aventure. \nAu menu: dégustation de pemmican et thé boréal\, artefacts souvenirs et témoignages vibrants des participant.e.s ! \nhttps://www.facebook.com/story.php?story_fbid=1249168550681792&id=100067659762702&mibextid=wwXIfr&rdid=uziHNvUyoVZ93m83#
URL:https://quoifairealma.com/evenement/conference_survie_hivernale/
LOCATION:Bibliothèque d’Alma\, 500\, rue Collard Ouest\, Alma\, Québec\, G8B 1N2\, Canada
CATEGORIES:Communauté,Conférences et formations,Événements,Loisirs et culture
ATTACH;FMTTYPE=image/png:https://quoifairealma.com/app/uploads/2026/03/Programmation-mars-2026-11.png
ORGANIZER;CN="Biblioth%C3%A8que d'Alma":MAILTO:bibliotheque@ville.alma.qc.ca
END:VEVENT
BEGIN:VEVENT
DTSTART;TZID=America/New_York:20260325T163000
DTEND;TZID=America/New_York:20260325T183000
DTSTAMP:20260422T030027
CREATED:20260310T171953Z
LAST-MODIFIED:20260310T182721Z
UID:10002196-1774456200-1774463400@quoifairealma.com
SUMMARY:Semaine d'actions contre le racisme : Fais partie de la solution! Conférence et dédicaces de Valérie Mvogo Balla
DESCRIPTION:Dans le cadre de la Semaine d’actions contre le racisme\, venez rencontrer Valérie Mvogo Balla\, autrice et conférencière. \nUne rencontre chaleureuse\, organisée par la MRC Lac-St-Jean Est \nGrignotines et surprises sur place \nValérie Mvogo Balla\, Ph. D. est spécialiste en diversité et inclusion interculturelle\, entrepreneure et fondatrice de Divers’icitte Conseil. Titulaire d’un doctorat en développement régional (UQAC)\, elle accompagne les organisations\, institutions et communautés à transformer la diversité en levier de performance\, de mobilisation et d’appartenance durable. Engagée dans sa communauté et active dans plusieurs instances stratégiques comme au Conseil du statut de la femme du Québec. Une expertise unique ancrée dans la réalité. Forte de plus de 15 ans d’engagement interculturel et de son vécu de femme immigrante noire établie en région\, Valérie propose une approche qui relie analyse professionnelle\, réalité terrain et expérience vécue. Son approche repose sur une immersion dans la réalité des personnes immigrantes. Sa démarche est interactive\, participative et orientée vers des actions concrètes. \nPour tous les détails sur la Semaine d’actions contre le racisme: www.sacr.ca
URL:https://quoifairealma.com/evenement/conference-et-dedicace-fais-partie-de-la-solution/
LOCATION:Bibliothèque d’Alma\, 500\, rue Collard Ouest\, Alma\, Québec\, G8B 1N2\, Canada
CATEGORIES:Communauté,Conférences et formations,Événements,Loisirs et culture
ATTACH;FMTTYPE=image/png:https://quoifairealma.com/app/uploads/2026/03/Publicite-SACR-2026.png
ORGANIZER;CN="Biblioth%C3%A8que d'Alma":MAILTO:bibliotheque@ville.alma.qc.ca
END:VEVENT
BEGIN:VEVENT
DTSTART;TZID=America/New_York:20250514T180000
DTEND;TZID=America/New_York:20250514T200000
DTSTAMP:20260422T030027
CREATED:20250429T190150Z
LAST-MODIFIED:20250430T155444Z
UID:10001432-1747245600-1747252800@quoifairealma.com
SUMMARY:Soirée conférence: Je suis raciste\, mais je me soigne\, par Jérôme Pruneau
DESCRIPTION:Pourquoi a-t-on parfois l’impression que le mot Racisme est comme Voldemort dans Harry Potter ? Comme s’il y avait toujours un malaise à le prononcer ou à en parler… \nJérôme Pruneau nous invite\, à travers cette conférence qui « brasse la cage » et ne laisse personne indifférent\, à comprendre pourquoi nous sommes collectivement dans un déni historique qui nous empêche souvent de l’évoquer. \nEt si nous nous soignions pour changer les choses ?
URL:https://quoifairealma.com/evenement/soiree-conference-je-suis-raciste-mais-je-me-soigne-par-jerome-pruneau/
LOCATION:Bibliothèque d’Alma\, 500\, rue Collard Ouest\, Alma\, Québec\, G8B 1N2\, Canada
CATEGORIES:Conférences et formations,Loisirs et culture
ATTACH;FMTTYPE=image/png:https://quoifairealma.com/app/uploads/2025/04/Programmation-mai-2025.png
ORGANIZER;CN="Biblioth%C3%A8que d'Alma":MAILTO:bibliotheque@ville.alma.qc.ca
END:VEVENT
BEGIN:VEVENT
DTSTART;TZID=America/New_York:20250501T090000
DTEND;TZID=America/New_York:20250501T210000
DTSTAMP:20260422T030027
CREATED:20250428T142517Z
LAST-MODIFIED:20250428T142517Z
UID:10001366-1746090000-1746133200@quoifairealma.com
SUMMARY:CONSULTATION PUBLIQUE PLAN CLIMA | MRC de Lac-Saint-Jean-Est
DESCRIPTION:🌎 Participez à la journée portes ouvertes de consultation sur le Plan climat de la MRC de Lac-Saint-Jean-Est! \nBienvenue à toutes et à tous — votre avis est important! \n 
URL:https://quoifairealma.com/evenement/consultation-publique-plan-clima-mrc-de-lac-saint-jean-est/
LOCATION:Hôtel Universel d’Alma\, 900\, boulevard des Cascades\, Alma\, Québec\, G8B3G4\, Canada
CATEGORIES:Communauté,Événements
ATTACH;FMTTYPE=image/jpeg:https://quoifairealma.com/app/uploads/2025/04/mrc-alma2-scaled.jpg
END:VEVENT
END:VCALENDAR