BEGIN:VCALENDAR
VERSION:2.0
PRODID:-//Quoi faire à Alma - ECPv6.15.14//NONSGML v1.0//EN
CALSCALE:GREGORIAN
METHOD:PUBLISH
X-WR-CALNAME:Quoi faire à Alma
X-ORIGINAL-URL:https://quoifairealma.com
X-WR-CALDESC:Évènements pour Quoi faire à Alma
REFRESH-INTERVAL;VALUE=DURATION:PT1H
X-Robots-Tag:noindex
X-PUBLISHED-TTL:PT1H
BEGIN:VTIMEZONE
TZID:America/New_York
BEGIN:DAYLIGHT
TZOFFSETFROM:-0500
TZOFFSETTO:-0400
TZNAME:EDT
DTSTART:20240310T070000
END:DAYLIGHT
BEGIN:STANDARD
TZOFFSETFROM:-0400
TZOFFSETTO:-0500
TZNAME:EST
DTSTART:20241103T060000
END:STANDARD
BEGIN:DAYLIGHT
TZOFFSETFROM:-0500
TZOFFSETTO:-0400
TZNAME:EDT
DTSTART:20250309T070000
END:DAYLIGHT
BEGIN:STANDARD
TZOFFSETFROM:-0400
TZOFFSETTO:-0500
TZNAME:EST
DTSTART:20251102T060000
END:STANDARD
BEGIN:DAYLIGHT
TZOFFSETFROM:-0500
TZOFFSETTO:-0400
TZNAME:EDT
DTSTART:20260308T070000
END:DAYLIGHT
BEGIN:STANDARD
TZOFFSETFROM:-0400
TZOFFSETTO:-0500
TZNAME:EST
DTSTART:20261101T060000
END:STANDARD
END:VTIMEZONE
BEGIN:VEVENT
DTSTART;TZID=America/New_York:20250514T180000
DTEND;TZID=America/New_York:20250514T200000
DTSTAMP:20260421T220731
CREATED:20250429T125337Z
LAST-MODIFIED:20250429T125337Z
UID:10001369-1747245600-1747252800@quoifairealma.com
SUMMARY:Inscriptions au Jardin du Ruisseau Rouge
DESCRIPTION:Les inscriptions pour les parcelles au Jardin communautaire du Ruisseau Rouge sont ouvertes ! 🌿 \nVenez nous rencontrer et réserver votre coin de terre lors de l’une de nos deux séances d’inscription.
URL:https://quoifairealma.com/evenement/inscriptions-au-jardin-du-ruisseau-rouge-2/
LOCATION:Chemin des Aulnaies coin rue Notre-Dame\, Chemin des Aulnaies coin rue Notre-Dame\, Alma\, G8B2C1
CATEGORIES:Communauté,Événements
ATTACH;FMTTYPE=image/jpeg:https://quoifairealma.com/app/uploads/2025/04/jardin-rouge-2.jpg
END:VEVENT
BEGIN:VEVENT
DTSTART;TZID=America/New_York:20250510T100000
DTEND;TZID=America/New_York:20250510T120000
DTSTAMP:20260421T220731
CREATED:20250428T211717Z
LAST-MODIFIED:20250429T125224Z
UID:10000998-1746871200-1746878400@quoifairealma.com
SUMMARY:Inscriptions au Jardin du Ruisseau Rouge
DESCRIPTION:Les inscriptions pour les parcelles au Jardin communautaire du Ruisseau Rouge sont ouvertes ! 🌿 \nVenez nous rencontrer et réserver votre coin de terre lors de l’une de nos deux séances d’inscription.
URL:https://quoifairealma.com/evenement/inscriptions-au-jardin-du-ruisseau-rouge/
LOCATION:Chemin des Aulnaies coin rue Notre-Dame\, Chemin des Aulnaies coin rue Notre-Dame\, Alma\, G8B2C1
CATEGORIES:Communauté,Événements
ATTACH;FMTTYPE=image/jpeg:https://quoifairealma.com/app/uploads/2025/04/jardin-rouge-2.jpg
END:VEVENT
END:VCALENDAR