BEGIN:VCALENDAR
VERSION:2.0
PRODID:-//Quoi faire à Alma - ECPv6.15.14//NONSGML v1.0//EN
CALSCALE:GREGORIAN
METHOD:PUBLISH
X-WR-CALNAME:Quoi faire à Alma
X-ORIGINAL-URL:https://quoifairealma.com
X-WR-CALDESC:Évènements pour Quoi faire à Alma
REFRESH-INTERVAL;VALUE=DURATION:PT1H
X-Robots-Tag:noindex
X-PUBLISHED-TTL:PT1H
BEGIN:VTIMEZONE
TZID:America/New_York
BEGIN:DAYLIGHT
TZOFFSETFROM:-0500
TZOFFSETTO:-0400
TZNAME:EDT
DTSTART:20240310T070000
END:DAYLIGHT
BEGIN:STANDARD
TZOFFSETFROM:-0400
TZOFFSETTO:-0500
TZNAME:EST
DTSTART:20241103T060000
END:STANDARD
BEGIN:DAYLIGHT
TZOFFSETFROM:-0500
TZOFFSETTO:-0400
TZNAME:EDT
DTSTART:20250309T070000
END:DAYLIGHT
BEGIN:STANDARD
TZOFFSETFROM:-0400
TZOFFSETTO:-0500
TZNAME:EST
DTSTART:20251102T060000
END:STANDARD
BEGIN:DAYLIGHT
TZOFFSETFROM:-0500
TZOFFSETTO:-0400
TZNAME:EDT
DTSTART:20260308T070000
END:DAYLIGHT
BEGIN:STANDARD
TZOFFSETFROM:-0400
TZOFFSETTO:-0500
TZNAME:EST
DTSTART:20261101T060000
END:STANDARD
BEGIN:DAYLIGHT
TZOFFSETFROM:-0500
TZOFFSETTO:-0400
TZNAME:EDT
DTSTART:20270314T070000
END:DAYLIGHT
BEGIN:STANDARD
TZOFFSETFROM:-0400
TZOFFSETTO:-0500
TZNAME:EST
DTSTART:20271107T060000
END:STANDARD
END:VTIMEZONE
BEGIN:VEVENT
DTSTART;TZID=America/New_York:20260326T163000
DTEND;TZID=America/New_York:20260326T190000
DTSTAMP:20260421T201156
CREATED:20260225T004639Z
LAST-MODIFIED:20260225T145840Z
UID:10001778-1774542600-1774551600@quoifairealma.com
SUMMARY:Vernissage : Je vois très bien\, merci.
DESCRIPTION:Joëlle Gobeil est une artiste multidisciplinaire résidant à Saguenay. Sa pratique en art visuel prend régulièrement la forme de récits illustrés\, à grande ou petite échelle\, sur des murs ou sur des pages. Elle met en valeur les paroles du public et la sienne\, en les accompagnant d’illustrations délicates. Je vois très bien\, merci. est un projet de résidence-création sur la représentation d’un deuil à travers le tissu\, où les souvenirs d’un proche sont autant de fils mémoriels qui nous rapprochent et donnent sens à ce qui n’en a pas. Ils sont ainsi un témoignage du vide laissé par l’absence\, elle-même imagée par l’aquarelle\, le textile et le crayon pour illustrer le flou lié à la mort. L’artiste usera des jours de sa résidence pour percer le papier et entrer en contact avec les particules invisibles de ce qu’on laisse dans notre monde. \nExpo disponible du 26 mars au 2 avril 2026
URL:https://quoifairealma.com/evenement/vernissage-je-vois-tres-bien-merci/
LOCATION:Collège d’Alma\, 675\, boulevard Auger Ouest\, Alma\, G8B 2B7
CATEGORIES:Expositions,Loisirs et culture
ATTACH;FMTTYPE=image/jpeg:https://quoifairealma.com/app/uploads/2026/02/641359700_1489681673165049_5934079312375670582_n1.jpg
END:VEVENT
BEGIN:VEVENT
DTSTART;VALUE=DATE:20260326
DTEND;VALUE=DATE:20260403
DTSTAMP:20260421T201156
CREATED:20260225T001031Z
LAST-MODIFIED:20260225T145548Z
UID:10001775-1774483200-1775174399@quoifairealma.com
SUMMARY:Résidence de Joëlle Gobeil
DESCRIPTION:Je vois très bien\, merci. \nJoëlle Gobeil est une artiste multidisciplinaire résidant à Saguenay. Sa pratique en art visuel prend régulièrement la forme de récits illustrés\, à grande ou petite échelle\, sur des murs ou sur des pages. Elle met en valeur les paroles du public et la sienne\, en les accompagnant d’illustrations délicates. Je vois très bien\, merci. est un projet de résidence-création sur la représentation d’un deuil à travers le tissu\, où les souvenirs d’un proche sont autant de fils mémoriels qui nous rapprochent et donnent sens à ce qui n’en a pas. Ils sont ainsi un témoignage du vide laissé par l’absence\, elle-même imagée par l’aquarelle\, le textile et le crayon pour illustrer le flou lié à la mort. L’artiste usera des jours de sa résidence pour percer le papier et entrer en contact avec les particules invisibles de ce qu’on laisse dans notre monde. \nVernissage le 26 mars 2026 à 16h30 \nExpo disponible du 26 mars au 2 avril 2026
URL:https://quoifairealma.com/evenement/residence-de-joelle-gobeil/
LOCATION:Collège d’Alma\, 675\, boulevard Auger Ouest\, Alma\, G8B 2B7
CATEGORIES:Expositions,Loisirs et culture
ATTACH;FMTTYPE=image/jpeg:https://quoifairealma.com/app/uploads/2026/02/69966ee7927eac48e69874d7_jevoisbien_carree-scaled.jpg
END:VEVENT
BEGIN:VEVENT
DTSTART;TZID=America/New_York:20260321T184500
DTEND;TZID=America/New_York:20260321T203000
DTSTAMP:20260421T201156
CREATED:20260225T003946Z
LAST-MODIFIED:20260225T145805Z
UID:10001777-1774118700-1774125000@quoifairealma.com
SUMMARY:Feuilleton théâtral MALMA MATER\, épisode 2 : La classe de maître
DESCRIPTION:« Ce que nous allons faire ce soir ne produira pas un spectacle.\nNous allons essayer de comprendre ce que ce spectacle aurait pu être. »\n– L’auteur \nDans une dystopie inspirée de la ville d’Alma\, rebaptisée mAlma\, le public n’est plus simple spectateur : il devient enquêteur\, témoin et co-auteur. \nAu cœur du feuilleton plane l’ombre d’une série web culte diffusée sur le dark web — une œuvre que presque personne n’a réellement vue\, mais qui attire pourtant des pèlerins fascinés par ses lieux de tournage. Tous cherchent à comprendre l’origine de cet engouement mystérieux. \nAvec La classe de maître\, le déambulatoire laisse place à un espace de réflexion participatif. Dans une salle de théâtre dite « classique »\, acteurs et public tenteront ensemble de reconstruire un épisode qui n’existera jamais. Improvisations\, débats\, votes\, contradictions : la fiction se fabrique sous nos yeux — puis se dérobe. \nEntre théâtre\, faux making-of et démocratie narrative\, cette soirée brouille volontairement les frontières entre réalité et invention. \nUne seule question persiste :\nPourquoi tout ça ?\nEt si la réponse n’était pas à comprendre…\nmais à construire ensemble ? \nBillets en quantité limitée
URL:https://quoifairealma.com/evenement/feuilleton-theatral-malma-mater-episode-2-la-classe-de-maitre/
LOCATION:Collège d’Alma\, 675\, boulevard Auger Ouest\, Alma\, G8B 2B7
CATEGORIES:Activités de loisir,Loisirs et culture
ATTACH;FMTTYPE=image/jpeg:https://quoifairealma.com/app/uploads/2026/02/641535705_1489673129832570_3899980129656965638_n.jpg
END:VEVENT
BEGIN:VEVENT
DTSTART;TZID=America/New_York:20260315T170000
DTEND;TZID=America/New_York:20260315T190000
DTSTAMP:20260421T201156
CREATED:20260225T002423Z
LAST-MODIFIED:20260225T145708Z
UID:10001776-1773594000-1773601200@quoifairealma.com
SUMMARY:Feuilleton théâtral MALMA MATER\, épisode 1 : Naître sous le regard de la loi
DESCRIPTION:Dans une dystopie baptisée Malma\, le public explore les entrailles de la ville\, transformées en labyrinthe dramatique. Entre procès absurde\, fanfare déglinguée\, bars clandestins et carcasses automobiles\, chaque station dévoile un fragment d’un récit plus grand que nature.\nAu cœur de cette déambulation plane l’ombre d’une série culte\, diffusée sur le dark web : une œuvre que presque personne n’a réellement vue\, mais qui attire de nombreux pèlerins fascinés par ses lieux de tournage. Tous cherchent à comprendre l’origine de cet engouement mystérieux. \nPrenez note que le feuilleton s’adresse à un public averti (12 ans et plus).\nHabillez-vous chaudement et soyez bien chaussés pour cette aventure unique de 45 minutes. \nBienvenue à toutes et à tous!\nBillets en quantité limitée
URL:https://quoifairealma.com/evenement/feuilleton-theatral-malma-mater-episode-1-naitre-sous-le-regard-de-la-loi/
LOCATION:Complexe Jacques Gagnon\, 900 Bd des Cascades\, Alma\, Québec\, G8B 3G4\, Canada
CATEGORIES:Activités de loisir,Loisirs et culture
ATTACH;FMTTYPE=image/jpeg:https://quoifairealma.com/app/uploads/2026/02/641285570_1488827653250451_4611213382811417439_n.jpg
END:VEVENT
BEGIN:VEVENT
DTSTART;TZID=America/New_York:20260221T130000
DTEND;TZID=America/New_York:20260221T160000
DTSTAMP:20260421T201156
CREATED:20260205T150322Z
LAST-MODIFIED:20260205T152025Z
UID:10001667-1771678800-1771689600@quoifairealma.com
SUMMARY:Activités création en plein air | À faire en famille
DESCRIPTION:Dans le cadre du Bifröst 2026\n\nVenez jouer avec les couleurs de l’hiver \nPlongez dans l’univers magique de la Mosaïque de glace\, une activité créative et familiale en plein air qui fera briller votre samedi! \n📅 Samedi 21 février | 13 h à 16 h\n📍 Plaines vertes\, à côté de la Place Festivalma \nLaissez libre cours à votre imagination\, créez votre propre œuvre givrée et profitez de l’ambiance festive du site.\nQue vous soyez petits ou grands\, artistes ou curieux… tout le monde est invité! \n✨ GRATUIT | OUVERT À TOUS\nEt tant qu’à être là… pourquoi ne pas en profiter pour vous glisser? \n❄️ On a hâte de vous voir!
URL:https://quoifairealma.com/evenement/activites-creation-en-plein-air-a-faire-en-famille/
LOCATION:Plaines vertes\, "Entre le Centre Mario-Tremblay et rue Gauthier. À proximité de Place Festivalma"\, Alma
CATEGORIES:Activités de loisir,Activités de plein air,Événements
ATTACH;FMTTYPE=image/png:https://quoifairealma.com/app/uploads/2026/02/Quoi-Faire.png
END:VEVENT
BEGIN:VEVENT
DTSTART;TZID=America/New_York:20251213T190000
DTEND;TZID=America/New_York:20251213T200000
DTSTAMP:20260421T201156
CREATED:20251202T204331Z
LAST-MODIFIED:20251205T184229Z
UID:10000996-1765652400-1765656000@quoifairealma.com
SUMMARY:Feuilleton théâtral MALMA MATER\, épisode pilote
DESCRIPTION:🌃𝗣𝗹𝗼𝗻𝗴𝗲𝘇 𝗮𝘂 𝗰œ𝘂𝗿 𝗱𝗲 𝗠𝗮𝗹𝗺𝗮 𝗠𝗮𝘁𝗲𝗿\, 𝘂𝗻𝗲 𝗱𝘆𝘀𝘁𝗼𝗽𝗶𝗲 𝗶𝗺𝗺𝗲𝗿𝘀𝗶𝘃𝗲 𝗶𝗻𝘀𝗽𝗶𝗿𝗲́𝗲 𝗱𝗲 𝗹𝗮 𝘃𝗶𝗹𝗹𝗲 𝗱’𝗔𝗹𝗺𝗮. \nDéambulatoire théâtral qui plonge le public almatois dans un stationnement à étages transformé en labyrinthe dramatique où scènes absurdes\, bars clandestins et carcasses d’autos composent un récit fragmenté. Inspiré d’une série web culte et quasi introuvable\, le parcours explore le mystère entourant cette œuvre devenue objet de fascination. Le trajet de 45 minutes débute à la Plaza 1. \nDans une dystopie inspirée de la ville d’Alma\, rebaptisée Malma\, le public explore les entrailles d’un stationnement à étages transformé en labyrinthe dramatique. Entre conférences de presse absurdes\, fanfare déglinguée\, bars clandestins et carcasses automobiles\, chaque station dévoile un fragment d’un récit plus grand que nature. \nAu cœur de cette déambulation plane l’ombre d’une série web culte\, diffusée sur le dark web : une œuvre que presque personne n’a réellement vue\, mais qui attire malgré tout des pèlerins fascinés par ses lieux de tournage. Tous cherchent à comprendre l’origine de cet engouement mystérieux. \n\n𝗗𝗲́𝗮𝗺𝗯𝘂𝗹𝗮𝘁𝗶𝗼𝗻 𝗶𝗺𝗺𝗲𝗿𝘀𝗶𝘃𝗲 – 𝟰𝟱 𝗺𝗶𝗻𝘂𝘁𝗲𝘀\n\n\n𝗣𝘂𝗯𝗹𝗶𝗰 𝗮𝘃𝗲𝗿𝘁𝗶 – 𝟭𝟮 𝗮𝗻𝘀 𝗲𝘁 +\n\n\n𝗛𝗮𝗯𝗶𝗹𝗹𝗲𝘇-𝘃𝗼𝘂𝘀 𝗰𝗵𝗮𝘂𝗱𝗲𝗺𝗲𝗻𝘁 𝗲𝘁 𝗽𝗼𝗿𝘁𝗲𝘇 𝗱𝗲 𝗯𝗼𝗻𝗻𝗲𝘀 𝗰𝗵𝗮𝘂𝘀𝘀𝘂𝗿𝗲𝘀 !\n\n\n\n\n\n📍𝗗𝗲́𝗽𝗮𝗿𝘁 : Plaza 1 (entrée rue Collard)\, stationnement à étages\n\n\n📅𝗦𝗮𝗺𝗲𝗱𝗶 𝟭𝟯 𝗱𝗲́𝗰𝗲𝗺𝗯𝗿𝗲 – 𝟭𝟵 𝗵\n\n\n✅𝗚𝗿𝗮𝘁𝘂𝗶𝘁\, 𝗺𝗮𝗶𝘀 𝘃𝗼𝘂𝘀 𝗱𝗲𝘃𝗲𝘇 𝗿𝗲́𝘀𝗲𝗿𝘃𝗲𝗿 𝗮𝘂 : Lepointdevente.com\n\n\n\n\n\nAprès l’expérience\, rejoignez-nous à 𝗜𝗤 𝗟’𝗔𝘁𝗲𝗹𝗶𝗲𝗿 (𝟰𝟴 𝗿𝘂𝗲 𝗦𝗮𝗶𝗻𝘁-𝗝𝗼𝘀𝗲𝗽𝗵) pour rencontrer les artistes\, discuter et prendre un verre.\n\n\n𝗕𝗶𝗲𝗻𝘃𝗲𝗻𝘂𝗲 𝗮̀ 𝘁𝗼𝘂𝘁𝗲𝘀 𝗲𝘁 𝘁𝗼𝘂𝘀 !\n\n\n\n\n\nÉvénement produit par 𝗜𝗤 𝗟’𝗔𝘁𝗲𝗹𝗶𝗲𝗿\, 𝗮𝘃𝗲𝗰 𝗹𝗲 𝘀𝗼𝘂𝘁𝗶𝗲𝗻 𝗱𝗲 𝗹𝗮 𝗩𝗶𝗹𝗹𝗲 𝗱’𝗔𝗹𝗺𝗮 dans le cadre de l’entente de développement culturel avec le 𝗠𝗖𝗖 𝗱𝘂 𝗤𝘂𝗲́𝗯𝗲𝗰\, en collaboration avec le 𝗖𝗼𝗹𝗹𝗲̀𝗴𝗲 𝗱’𝗔𝗹𝗺𝗮.
URL:https://quoifairealma.com/evenement/feuilleton-theatral-malma-mater-episode-pilote/
LOCATION:Autogare\, rue Collard\, Alma
CATEGORIES:Événements,Loisirs et culture,Théâtre
ATTACH;FMTTYPE=image/jpeg:https://quoifairealma.com/app/uploads/2025/12/CouvertureTheatre25-scaled.jpg
END:VEVENT
BEGIN:VEVENT
DTSTART;TZID=America/New_York:20250804T080000
DTEND;TZID=America/New_York:20250814T170000
DTSTAMP:20260421T201156
CREATED:20250612T121121Z
LAST-MODIFIED:20250612T121121Z
UID:10001599-1754294400-1755190800@quoifairealma.com
SUMMARY:IQ Atelier - Camp Multi-Arts
DESCRIPTION:Le Camp Multi-Arts est de retour cet été !\n\n Alma |  4 au 14 août (lundi à mercredi)\n\n Vernissage festif le 14 août !\n\n\nAu programme :\n Création\, découvertes et plaisir\n Des artistes inspirants pour t’accompagner\n Une ambiance 100 % artistique\n\n\n\n Inscris-toi ici : https://forms.gle/PGqwqMmEawJcL6Bc9\n\n Les places sont limitées — alors fais vite !
URL:https://quoifairealma.com/evenement/iq-atelier-camp-multi-arts/
LOCATION:IQ l’Atelier\, 48 rue St-Joseph\, Alma\, Québec\, G8B 1M4\, Canada
CATEGORIES:Ateliers,Communauté
ATTACH;FMTTYPE=image/jpeg:https://quoifairealma.com/app/uploads/2025/06/Camps-Multi-Art-IQ-atelier.jpg
END:VEVENT
BEGIN:VEVENT
DTSTART;TZID=America/New_York:20250726T170000
DTEND;TZID=America/New_York:20250726T173000
DTSTAMP:20260421T201156
CREATED:20250716T170202Z
LAST-MODIFIED:20250722T115516Z
UID:10001024-1753549200-1753551000@quoifairealma.com
SUMMARY:L'IA joue dehors
DESCRIPTION:Grâce au soutien de la ville d’Alma et du ministère de la Culture et des Communications dans le cadre de l’entente de développement culturel\, Impro Alma vous offre des interventions d’improvisation théâtrale tout au long de la saison chaude ! \nOrchestrés par le metteur en scène Hugues Fortin\, chaque événement aura sa couleur et sa folie. Venez nous rejoindre pour la deuxième intervention ce samedi 26 juillet à 17 h dans le petit parc à la Dem-en-Terre et préparez-vous à être surpris !
URL:https://quoifairealma.com/evenement/lia-joue-dehors/
LOCATION:IQ l’Atelier\, 48 rue St-Joseph\, Alma\, Québec\, G8B 1M4\, Canada
CATEGORIES:Ateliers,Communauté
ATTACH;FMTTYPE=image/jpeg:https://quoifairealma.com/app/uploads/2025/07/Promo-Impro-IA-Montagne-scaled.jpg
END:VEVENT
END:VCALENDAR