BEGIN:VCALENDAR
VERSION:2.0
PRODID:-//Quoi faire à Alma - ECPv6.15.14//NONSGML v1.0//EN
CALSCALE:GREGORIAN
METHOD:PUBLISH
X-ORIGINAL-URL:https://quoifairealma.com
X-WR-CALDESC:Évènements pour Quoi faire à Alma
REFRESH-INTERVAL;VALUE=DURATION:PT1H
X-Robots-Tag:noindex
X-PUBLISHED-TTL:PT1H
BEGIN:VTIMEZONE
TZID:America/New_York
BEGIN:DAYLIGHT
TZOFFSETFROM:-0500
TZOFFSETTO:-0400
TZNAME:EDT
DTSTART:20240310T070000
END:DAYLIGHT
BEGIN:STANDARD
TZOFFSETFROM:-0400
TZOFFSETTO:-0500
TZNAME:EST
DTSTART:20241103T060000
END:STANDARD
BEGIN:DAYLIGHT
TZOFFSETFROM:-0500
TZOFFSETTO:-0400
TZNAME:EDT
DTSTART:20250309T070000
END:DAYLIGHT
BEGIN:STANDARD
TZOFFSETFROM:-0400
TZOFFSETTO:-0500
TZNAME:EST
DTSTART:20251102T060000
END:STANDARD
BEGIN:DAYLIGHT
TZOFFSETFROM:-0500
TZOFFSETTO:-0400
TZNAME:EDT
DTSTART:20260308T070000
END:DAYLIGHT
BEGIN:STANDARD
TZOFFSETFROM:-0400
TZOFFSETTO:-0500
TZNAME:EST
DTSTART:20261101T060000
END:STANDARD
END:VTIMEZONE
BEGIN:VEVENT
DTSTART;TZID=America/New_York:20250622T090000
DTEND;TZID=America/New_York:20250622T120000
DTSTAMP:20260422T073436
CREATED:20250617T160706Z
LAST-MODIFIED:20250617T160706Z
UID:10001600-1750582800-1750593600@quoifairealma.com
SUMMARY:🥐☕ Brunch bénéfice honorifique 🌟 Havre de l'hospitalité
DESCRIPTION:🥐☕ Brunch bénéfice honorifique 🌟En l’honneur de deux personnes d’exception : Mme Patricia Lessard et M. René Pearson \n📅 Quand : Dimanche 22 juin 2025🕘 Heure : de 9 h à midi📍 Où : Havre de l’Hospitalité \nJoignez-vous à nous pour un moment chaleureux\, en reconnaissance du parcours et de l’engagement de deux fondateurs qui ont profondément marqué notre communauté. 💛 \n🎟️ Coût des billets :👨‍👩‍👧‍👦 20 $ – 11 ans et plus🧒 10 $ – enfants de 5 à 10 ans👶 Gratuit – enfants de 4 ans et moins \n🎫 Les billets sont en vente :➡️ au Havre de l’Hospitalité cette semaine➡️ ou directement sur place\, le jour de l’événement \n🥞 Buffet brunch\, ambiance conviviale\, et hommage bien mérité au rendez-vous!Bienvenue à toutes et à tous!
URL:https://quoifairealma.com/evenement/%f0%9f%a5%90%e2%98%95-brunch-benefice-honorifique-%f0%9f%8c%9f-havre-de-lhospitalite/
LOCATION:Havre de l’Hospitalité\, 1153 Chem. de Villebois\, Alma\, Québec\, G8B 5V2\, Canada
CATEGORIES:Communauté,Événements
ATTACH;FMTTYPE=image/jpeg:https://quoifairealma.com/app/uploads/2025/06/havre-de-lhospitalite.jpg
END:VEVENT
END:VCALENDAR