BEGIN:VCALENDAR
VERSION:2.0
PRODID:-//Quoi faire à Alma - ECPv6.15.14//NONSGML v1.0//EN
CALSCALE:GREGORIAN
METHOD:PUBLISH
X-ORIGINAL-URL:https://quoifairealma.com
X-WR-CALDESC:Évènements pour Quoi faire à Alma
REFRESH-INTERVAL;VALUE=DURATION:PT1H
X-Robots-Tag:noindex
X-PUBLISHED-TTL:PT1H
BEGIN:VTIMEZONE
TZID:America/New_York
BEGIN:DAYLIGHT
TZOFFSETFROM:-0500
TZOFFSETTO:-0400
TZNAME:EDT
DTSTART:20250309T070000
END:DAYLIGHT
BEGIN:STANDARD
TZOFFSETFROM:-0400
TZOFFSETTO:-0500
TZNAME:EST
DTSTART:20251102T060000
END:STANDARD
BEGIN:DAYLIGHT
TZOFFSETFROM:-0500
TZOFFSETTO:-0400
TZNAME:EDT
DTSTART:20260308T070000
END:DAYLIGHT
BEGIN:STANDARD
TZOFFSETFROM:-0400
TZOFFSETTO:-0500
TZNAME:EST
DTSTART:20261101T060000
END:STANDARD
BEGIN:DAYLIGHT
TZOFFSETFROM:-0500
TZOFFSETTO:-0400
TZNAME:EDT
DTSTART:20270314T070000
END:DAYLIGHT
BEGIN:STANDARD
TZOFFSETFROM:-0400
TZOFFSETTO:-0500
TZNAME:EST
DTSTART:20271107T060000
END:STANDARD
END:VTIMEZONE
BEGIN:VEVENT
DTSTART;TZID=America/New_York:20260703T180000
DTEND;TZID=America/New_York:20260710T230000
DTSTAMP:20260421T213926
CREATED:20260120T181934Z
LAST-MODIFIED:20260130T145848Z
UID:10001656-1783101600-1783724400@quoifairealma.com
SUMMARY:Festirame
DESCRIPTION:Festirame\, c’est le plus gros festival du Lac‑Saint‑Jean !\nS’il y a un endroit où tu dois être en juillet\, c’est bien à Place Festivalma.\nFestirame\, c’est 8 soirs de spectacles\, des activités familiales\, un marathon de chaloupe à rames et bien d’autres activités… !
URL:https://quoifairealma.com/evenement/festirame-2/
LOCATION:Place Festivalma\, 605\, boulevard Saint-Luc\, Alma\, Québec\, G8B 2K8\, Canada
CATEGORIES:Festivals,Spectacles et festivals
ATTACH;FMTTYPE=image/jpeg:https://quoifairealma.com/app/uploads/2026/01/514259484_1194068416092936_8659113701230609705_n.jpg
ORGANIZER;CN="Festivalma":MAILTO:administration@festivalma.com
END:VEVENT
BEGIN:VEVENT
DTSTART;TZID=America/New_York:20260711T180000
DTEND;TZID=America/New_York:20260712T010000
DTSTAMP:20260421T213926
CREATED:20260120T182927Z
LAST-MODIFIED:20260130T145923Z
UID:10001657-1783792800-1783818000@quoifairealma.com
SUMMARY:Grande Nuit d'Alma
DESCRIPTION:La Grande Nuit d’Alma\, c’est l’événement gratuit le plus attendu de l’année au centre‑ville.\nChaque été\, le centre-ville s’anime avec des spectacles\, des activités et une ambiance festive où tout le monde se réunit pour célébrer l’été.
URL:https://quoifairealma.com/evenement/grande-nuit-dalma-2/
LOCATION:Centre-ville d’Alma
CATEGORIES:Festivals,Spectacles et festivals
ATTACH;FMTTYPE=image/jpeg:https://quoifairealma.com/app/uploads/2026/01/514355351_1202426758590435_5428524743360958316_n-1.jpg
ORGANIZER;CN="Festivalma":MAILTO:administration@festivalma.com
END:VEVENT
END:VCALENDAR