BEGIN:VCALENDAR
VERSION:2.0
PRODID:-//Quoi faire à Alma - ECPv6.15.14//NONSGML v1.0//EN
CALSCALE:GREGORIAN
METHOD:PUBLISH
X-WR-CALNAME:Quoi faire à Alma
X-ORIGINAL-URL:https://quoifairealma.com
X-WR-CALDESC:Évènements pour Quoi faire à Alma
REFRESH-INTERVAL;VALUE=DURATION:PT1H
X-Robots-Tag:noindex
X-PUBLISHED-TTL:PT1H
BEGIN:VTIMEZONE
TZID:America/New_York
BEGIN:DAYLIGHT
TZOFFSETFROM:-0500
TZOFFSETTO:-0400
TZNAME:EDT
DTSTART:20240310T070000
END:DAYLIGHT
BEGIN:STANDARD
TZOFFSETFROM:-0400
TZOFFSETTO:-0500
TZNAME:EST
DTSTART:20241103T060000
END:STANDARD
BEGIN:DAYLIGHT
TZOFFSETFROM:-0500
TZOFFSETTO:-0400
TZNAME:EDT
DTSTART:20250309T070000
END:DAYLIGHT
BEGIN:STANDARD
TZOFFSETFROM:-0400
TZOFFSETTO:-0500
TZNAME:EST
DTSTART:20251102T060000
END:STANDARD
BEGIN:DAYLIGHT
TZOFFSETFROM:-0500
TZOFFSETTO:-0400
TZNAME:EDT
DTSTART:20260308T070000
END:DAYLIGHT
BEGIN:STANDARD
TZOFFSETFROM:-0400
TZOFFSETTO:-0500
TZNAME:EST
DTSTART:20261101T060000
END:STANDARD
BEGIN:DAYLIGHT
TZOFFSETFROM:-0500
TZOFFSETTO:-0400
TZNAME:EDT
DTSTART:20270314T070000
END:DAYLIGHT
BEGIN:STANDARD
TZOFFSETFROM:-0400
TZOFFSETTO:-0500
TZNAME:EST
DTSTART:20271107T060000
END:STANDARD
END:VTIMEZONE
BEGIN:VEVENT
DTSTART;TZID=America/New_York:20260221T130000
DTEND;TZID=America/New_York:20260221T160000
DTSTAMP:20260421T233137
CREATED:20260205T150322Z
LAST-MODIFIED:20260205T152025Z
UID:10001667-1771678800-1771689600@quoifairealma.com
SUMMARY:Activités création en plein air | À faire en famille
DESCRIPTION:Dans le cadre du Bifröst 2026\n\nVenez jouer avec les couleurs de l’hiver \nPlongez dans l’univers magique de la Mosaïque de glace\, une activité créative et familiale en plein air qui fera briller votre samedi! \n📅 Samedi 21 février | 13 h à 16 h\n📍 Plaines vertes\, à côté de la Place Festivalma \nLaissez libre cours à votre imagination\, créez votre propre œuvre givrée et profitez de l’ambiance festive du site.\nQue vous soyez petits ou grands\, artistes ou curieux… tout le monde est invité! \n✨ GRATUIT | OUVERT À TOUS\nEt tant qu’à être là… pourquoi ne pas en profiter pour vous glisser? \n❄️ On a hâte de vous voir!
URL:https://quoifairealma.com/evenement/activites-creation-en-plein-air-a-faire-en-famille/
LOCATION:Plaines vertes\, "Entre le Centre Mario-Tremblay et rue Gauthier. À proximité de Place Festivalma"\, Alma
CATEGORIES:Activités de loisir,Activités de plein air,Événements
ATTACH;FMTTYPE=image/png:https://quoifairealma.com/app/uploads/2026/02/Quoi-Faire.png
END:VEVENT
BEGIN:VEVENT
DTSTART;TZID=America/New_York:20260220T180000
DTEND;TZID=America/New_York:20260222T230000
DTSTAMP:20260421T233137
CREATED:20260103T033500Z
LAST-MODIFIED:20260108T185544Z
UID:10001131-1771610400-1771801200@quoifairealma.com
SUMMARY:Bifröst | Fête Nordique
DESCRIPTION:𝗣𝗿𝗲̂𝘁 𝗮̀ 𝘃𝗶𝘃𝗿𝗲 𝗹𝗲 𝗽𝗹𝘂𝘀 𝗯𝗲𝗹 𝗵𝗶𝘃𝗲𝗿 𝗱𝗲 𝘁𝗮 𝘃𝗶𝗲 ? \nLe Bifröst revient pour 3 jours d’expériences nordiques à Place Festivalma\, les 20\, 21 et 22 février !\nEn journée : café & sculptures | visites du site | ambiance musicale | démonstrations de sculpteurs de renommée internationale -le tout à prix réduit.\nEn soirée : le site s’illumine et les DJ te feront voyager\, avant que les afters officiels prennent le relais au centre‑ville.\nAlors… OSERAS-TU FRANCHIR LE BIFROST ?
URL:https://quoifairealma.com/evenement/bifrost-fete-nordique/
LOCATION:Place Festivalma\, 605\, boulevard Saint-Luc\, Alma\, Québec\, G8B 2K8\, Canada
CATEGORIES:Festivals,Spectacles et festivals
ATTACH;FMTTYPE=image/jpeg:https://quoifairealma.com/app/uploads/2026/01/EVENEMENT-FACEBOOK.jpg
ORGANIZER;CN="Festivalma":MAILTO:administration@festivalma.com
END:VEVENT
BEGIN:VEVENT
DTSTART;TZID=America/New_York:20260214T150000
DTEND;TZID=America/New_York:20260214T160000
DTSTAMP:20260421T233137
CREATED:20260103T032618Z
LAST-MODIFIED:20260108T184803Z
UID:10001129-1771081200-1771084800@quoifairealma.com
SUMMARY:Tirage du demi-million de dollars Festivalma
DESCRIPTION:Que feriez vous avec UN DEMI-MILLION de dollars ? \nDepuis plus de 42 ans\, la Maison Festivalma fait rêver la population et contribue au rayonnement d’Alma. Avec la hausse du coût de la vie\, le prix des terrains\, des matériaux et de la main-d’œuvre\, construire une maison est devenu beaucoup plus complexe. \nEn écoutant les commentaires du public\, une idée s’est imposée :\naujourd’hui\, la liberté de choisir compte autant que le rêve d’une maison. \nC’est pourquoi\, en 2025\, la Maison Festivalma devient officiellement Gagne ton demi-million\, une campagne repensée pour mieux s’adapter à la réalité d’aujourd’hui. En achetant votre billet\, vous courez la chance de gagner 500 000 $ en argent. De plus\, vous encouragez Festivalma et soutenez des événements accessibles et gratuits. \n1 chance sur 5800 de gagner UN DEMI-MILLION DE DOLLARS !!\nCoût du billet: 150$
URL:https://quoifairealma.com/evenement/tirage-du-demi-million-de-dollars-festivalma/
LOCATION:Saint-Crème Bar Laitier\, 1657 ave du Pont Nord\, Alma\, Québec\, G8B 5G2\, Canada
CATEGORIES:Activités de loisir,Loisirs et culture
ATTACH;FMTTYPE=image/jpeg:https://quoifairealma.com/app/uploads/2026/01/Copie-de-Couv.-Evenement-Facebook.jpg
ORGANIZER;CN="Festivalma":MAILTO:administration@festivalma.com
END:VEVENT
BEGIN:VEVENT
DTSTART;TZID=America/New_York:20250714T183000
DTEND;TZID=America/New_York:20250714T183000
DTSTAMP:20260421T233137
CREATED:20250212T190849Z
LAST-MODIFIED:20250213T194152Z
UID:10000949-1752517800-1752517800@quoifairealma.com
SUMMARY:Papa Roach
DESCRIPTION:Papa Roach n’a pas peur de repousser les limites. Depuis plus de 20 ans\, le groupe – composé du charismatique chanteur Jacoby Shaddix\, du guitariste Jerry Horton\, du bassiste Tobin Esperance et du batteur Tony Palermo – n’a cessé d’explorer de nouveaux horizons musicaux\, traversant le rap-rock\, le rock électronique\, le rock ‘n’ roll\, et bien plus encore. Leur discographie\, riche\, audacieuse et résolument novatrice\, s’impose comme l’une des plus diversifiées de l’histoire du rock. Avec son dernier album Ego Trip\, le groupe confirme une fois de plus sa place de leader\, enchaînant les succès avec des morceaux comme Kill The Noise\, qui a dominé les classements pendant quatre semaines consécutives. \nPlus récemment\, Papa Roach a célébré son dixième numéro 1 avec le titre No Apologies. Le groupe reviendra en force le 14 juillet 2025\, à la Place Festivalma\, pour offrir une performance de ses plus grands hits. Ce deuxième passage en à peine trois ans témoigne de l’engouement du public du Saguenay-Lac-Saint-Jean et de l’impact durable de Papa Roach sur la scène musicale internationale.
URL:https://quoifairealma.com/evenement/papa-roach/
LOCATION:Place Festivalma\, 605\, boulevard Saint-Luc\, Alma\, Québec\, G8B 2K8\, Canada
CATEGORIES:Musique,Spectacles et festivals
ATTACH;FMTTYPE=image/jpeg:https://quoifairealma.com/app/uploads/2025/02/Design-sans-titre.jpg
ORGANIZER;CN="Festivalma":MAILTO:administration@festivalma.com
END:VEVENT
BEGIN:VEVENT
DTSTART;TZID=America/New_York:20250712T170000
DTEND;TZID=America/New_York:20250714T020000
DTSTAMP:20260421T233137
CREATED:20250602T182513Z
LAST-MODIFIED:20250609T194507Z
UID:10001013-1752339600-1752458400@quoifairealma.com
SUMMARY:Grande Nuit d'Alma
DESCRIPTION:La Grande Nuit d’Alma est une version adaptée à la réalité d’aujourd’hui d’un légendaire rassemblement populaire qui faisait un tabac dans les années 60-70 à Alma. La journée commence avec des activités familiales\, pour se poursuivre avec des spectacles endiablés dans les rues du centre-ville d’Alma. \nsamedi 12 juillet\n2 sites\nDes activités familiales\n4 spectacles en plein air assurés par Les Breastfeeders\, Rau_Ze\, Metò et Les Fatiquantes !\nLes activités de La Grande Nuit d’Alma sont gratuites.
URL:https://quoifairealma.com/evenement/grande-nuit-dalma/
LOCATION:Centre-ville d’Alma
CATEGORIES:Communauté,Événements
ATTACH;FMTTYPE=image/jpeg:https://quoifairealma.com/app/uploads/2025/06/la-grande-nuit-dAlma.jpg
ORGANIZER;CN="Festivalma":MAILTO:administration@festivalma.com
END:VEVENT
BEGIN:VEVENT
DTSTART;TZID=America/New_York:20250704T183000
DTEND;TZID=America/New_York:20250711T230000
DTSTAMP:20260421T233137
CREATED:20250602T181621Z
LAST-MODIFIED:20250605T190004Z
UID:10001012-1751653800-1752274800@quoifairealma.com
SUMMARY:Festirame
DESCRIPTION:Festirame est une fête populaire alliant sport et culture qui existe depuis 52 ans. D’une durée de 8 jours\, l’événement se déroule du 4 au 11 juillet sur différents sites d’activités. Pendant 8 soirs\, Place Festivalma s’anime et propose à la population des spectacles en plein air. C’est sans contredit l’événement majeur au Lac-Saint-Jean-Est. Le festival se conclura le samedi 12 juillet\, avec La Grande Nuit d’Alma. Cet événement est présenté gratuitement\, dans le Centre-Ville d’Alma. \nLe passeport au prix de 70$ donne accès aux spectacles présentés uniquement à Place Festivalma. Tous les festivaliers doivent avoir un passeport ou un billet; \nLes billets unitaires aux prix de 35$ te permettent d’acheter un accès individuel à chacun des spectacles de ton choix; \nLes enfants de 9 ans et moins accompagnés d’un adulte sont admis gratuitement en présentant une pièce d’identité.
URL:https://quoifairealma.com/evenement/festirame/
LOCATION:Place Festivalma\, 605\, boulevard Saint-Luc\, Alma\, Québec\, G8B 2K8\, Canada
CATEGORIES:Festivals,Spectacles et festivals
ATTACH;FMTTYPE=image/jpeg:https://quoifairealma.com/app/uploads/2025/06/Festirame.jpg
ORGANIZER;CN="Festivalma":MAILTO:administration@festivalma.com
END:VEVENT
BEGIN:VEVENT
DTSTART;TZID=America/New_York:20250623T170000
DTEND;TZID=America/New_York:20250624T233000
DTSTAMP:20260421T233137
CREATED:20250605T185843Z
LAST-MODIFIED:20250610T123805Z
UID:10001370-1750698000-1750807800@quoifairealma.com
SUMMARY:La St-Jean à Alma
DESCRIPTION:Le 23 juin\, soyez des nôtres à Alma pour une Fête nationale 100% local et 0% plate! \n\n Dès 17h à la Terrasse des Cascades : 5 à 7 avec En Forme-O-Lac\, bonne bouffe du Café du Clocher et danse country avec Dance AG! Dès 19h45 au Belvédère : discours patriotique et gros shows d’Elles acoustique\, Les Briseurs de Cœur et Les Dérapeutes!\n\n\nProgrammation : \nTERRASSE DES CASCADES | 17H à 19H\n– En Forme-O-Lac\n– Kiosque du Café du Clocher\n– Danse country 100% QC avec Alexandra Gauthier \nBELVÉDÈRE\n– 19H45 : Discours patriotique\n– 20H : Elles acoustique\n– 21H : Les Briseurs de Coeur\n– 22H15 : Les Dérapeutes \n\n\nEn plus de tout ça… assistez en primeur au dévoilement de la bière Lalmalt 40 par la La Ville d’Alma!\n\nC’est GRATUIT. C’est ouvert à tous. Et c’est là que ça se passe. 
URL:https://quoifairealma.com/evenement/la-st-jean-a-alma/
LOCATION:Terrasse des Cascades\, 525\, rue Sacré-Coeur\, Alma\, Canada
CATEGORIES:Festivals,Spectacles et festivals
ATTACH;FMTTYPE=image/jpeg:https://quoifairealma.com/app/uploads/2025/06/503936670_1166313048868473_136292550686803239_n.jpg
ORGANIZER;CN="Festivalma":MAILTO:administration@festivalma.com
END:VEVENT
END:VCALENDAR