BEGIN:VCALENDAR
VERSION:2.0
PRODID:-//Quoi faire à Alma - ECPv6.15.14//NONSGML v1.0//EN
CALSCALE:GREGORIAN
METHOD:PUBLISH
X-WR-CALNAME:Quoi faire à Alma
X-ORIGINAL-URL:https://quoifairealma.com
X-WR-CALDESC:Évènements pour Quoi faire à Alma
REFRESH-INTERVAL;VALUE=DURATION:PT1H
X-Robots-Tag:noindex
X-PUBLISHED-TTL:PT1H
BEGIN:VTIMEZONE
TZID:America/New_York
BEGIN:DAYLIGHT
TZOFFSETFROM:-0500
TZOFFSETTO:-0400
TZNAME:EDT
DTSTART:20240310T070000
END:DAYLIGHT
BEGIN:STANDARD
TZOFFSETFROM:-0400
TZOFFSETTO:-0500
TZNAME:EST
DTSTART:20241103T060000
END:STANDARD
BEGIN:DAYLIGHT
TZOFFSETFROM:-0500
TZOFFSETTO:-0400
TZNAME:EDT
DTSTART:20250309T070000
END:DAYLIGHT
BEGIN:STANDARD
TZOFFSETFROM:-0400
TZOFFSETTO:-0500
TZNAME:EST
DTSTART:20251102T060000
END:STANDARD
BEGIN:DAYLIGHT
TZOFFSETFROM:-0500
TZOFFSETTO:-0400
TZNAME:EDT
DTSTART:20260308T070000
END:DAYLIGHT
BEGIN:STANDARD
TZOFFSETFROM:-0400
TZOFFSETTO:-0500
TZNAME:EST
DTSTART:20261101T060000
END:STANDARD
BEGIN:DAYLIGHT
TZOFFSETFROM:-0500
TZOFFSETTO:-0400
TZNAME:EDT
DTSTART:20270314T070000
END:DAYLIGHT
BEGIN:STANDARD
TZOFFSETFROM:-0400
TZOFFSETTO:-0500
TZNAME:EST
DTSTART:20271107T060000
END:STANDARD
END:VTIMEZONE
BEGIN:VEVENT
DTSTART;TZID=America/New_York:20260417T183000
DTEND;TZID=America/New_York:20260417T200000
DTSTAMP:20260422T030144
CREATED:20260211T213727Z
LAST-MODIFIED:20260213T134517Z
UID:10001685-1776450600-1776456000@quoifairealma.com
SUMMARY:Concerts du printemps - Classes de Nathalie et MarieSoleil
DESCRIPTION:Venez encourager les élèves qui ont travaillé très fort toute la session pour monter sur scène et vous offrir un bon moment!
URL:https://quoifairealma.com/evenement/concerts-du-printemps-classes-de-nathalie-et-mariesoleil/
LOCATION:Centre culturel\, 400\, rue Saint-Sacrement Ouest\, Alma\, G8B 7K8
CATEGORIES:Musique,Spectacles et festivals
ATTACH;FMTTYPE=image/jpeg:https://quoifairealma.com/app/uploads/2026/02/CONCERTS-1.jpg
END:VEVENT
BEGIN:VEVENT
DTSTART;TZID=America/New_York:20251213T133000
DTEND;TZID=America/New_York:20251213T150000
DTSTAMP:20260422T030144
CREATED:20251016T162050Z
LAST-MODIFIED:20251021T143814Z
UID:10001087-1765632600-1765638000@quoifairealma.com
SUMMARY:Concert de Noël - Éveil musical et Classes des instruments (École de Formation Musicale d'Alma)
DESCRIPTION:Venez en grand nombre encourager nos élèves qui ont travaillé toute la session pour monter sur scène! \n11 ans et moins : 5 $\n12 ans et plus : 10$ \nTirages et cantine sur place au profit de l’école \nPaiement à la porte\, comptant ou par carte de débit. \nInfo : (418) 668-4467
URL:https://quoifairealma.com/evenement/concert-de-noel-eveil-musical-et-classes-des-instruments-ecole-de-formation-musicale-dalma/
LOCATION:Centre culturel\, 400\, rue Saint-Sacrement Ouest\, Alma\, G8B 7K8
CATEGORIES:Musique,Spectacles et festivals
ATTACH;FMTTYPE=image/jpeg:https://quoifairealma.com/app/uploads/2025/10/Concert-de-noel.jpg
END:VEVENT
BEGIN:VEVENT
DTSTART;TZID=America/New_York:20251212T183000
DTEND;TZID=America/New_York:20251212T200000
DTSTAMP:20260422T030144
CREATED:20250923T181659Z
LAST-MODIFIED:20250924T192519Z
UID:10001065-1765564200-1765569600@quoifairealma.com
SUMMARY:Concert de Noël - Classe de Linda (École de formation musicale d'Alma)
DESCRIPTION:Venez en grand nombre encourager les élèves qui ont travaillé toute l’année pour monter sur scène! \n11 ans et moins : 5 $\n12 ans et plus : 10$ \nTirages et cantine sur place au profit de l’école \nPaiement à la porte\, comptant ou par carte de débit
URL:https://quoifairealma.com/evenement/concert-de-noel-classe-de-linda-ecole-de-formation-musicale-dalma/
LOCATION:Centre culturel\, 400\, rue Saint-Sacrement Ouest\, Alma\, G8B 7K8
CATEGORIES:Musique,Spectacles et festivals
ATTACH;FMTTYPE=image/jpeg:https://quoifairealma.com/app/uploads/2025/09/concert-de-noel2.jpg
END:VEVENT
BEGIN:VEVENT
DTSTART;TZID=America/New_York:20251205T183000
DTEND;TZID=America/New_York:20251205T200000
DTSTAMP:20260422T030144
CREATED:20250923T181233Z
LAST-MODIFIED:20250924T191839Z
UID:10001063-1764959400-1764964800@quoifairealma.com
SUMMARY:Concert de Noël - Classe de Nathalie ( École de Formation Musicale d'Alma)
DESCRIPTION:Venez en grand nombre encourager nos élèves qui ont travaillé toute la session pour monter sur scène! \n11 ans et moins : 5 $\n12 ans et plus : 10$ \nTirages et cantine sur place au profit de l’école \nPaiement à la porte\, comptant ou par carte de débit. \nInfo : (418) 668-4467 \n \n 
URL:https://quoifairealma.com/evenement/concert-de-noel-classe-de-nathalie-ecole-de-formation-musicale-dalma/
LOCATION:Centre culturel\, 400\, rue Saint-Sacrement Ouest\, Alma\, G8B 7K8
CATEGORIES:Musique,Spectacles et festivals
ATTACH;FMTTYPE=image/jpeg:https://quoifairealma.com/app/uploads/2025/09/1-TEMPLATE-3.jpg
END:VEVENT
BEGIN:VEVENT
DTSTART;TZID=America/New_York:20250913T133000
DTEND;TZID=America/New_York:20250913T150000
DTSTAMP:20260422T030144
CREATED:20250923T181958Z
LAST-MODIFIED:20250924T192824Z
UID:10001067-1757770200-1757775600@quoifairealma.com
SUMMARY:Concert de Noël - Éveil musical et classes des instruments
DESCRIPTION:Venez en grand nombre encourager les élèves qui ont travaillé fort pour monter sur scène! \n11 ans et moins : 5 $\n12 ans et plus : 10 $ \nTirages et cantine sur place au profit de l’école \nPaiement à la porte\, comptant et carte de débit
URL:https://quoifairealma.com/evenement/concert-de-noel-eveil-musical-et-classes-des-instruments/
LOCATION:Centre culturel\, 400\, rue Saint-Sacrement Ouest\, Alma\, G8B 7K8
CATEGORIES:Musique,Spectacles et festivals
ATTACH;FMTTYPE=image/jpeg:https://quoifairealma.com/app/uploads/2025/09/concert-de-noel2.jpg
END:VEVENT
END:VCALENDAR