BEGIN:VCALENDAR
VERSION:2.0
PRODID:-//Quoi faire à Alma - ECPv6.15.14//NONSGML v1.0//EN
CALSCALE:GREGORIAN
METHOD:PUBLISH
X-ORIGINAL-URL:https://quoifairealma.com
X-WR-CALDESC:Évènements pour Quoi faire à Alma
REFRESH-INTERVAL;VALUE=DURATION:PT1H
X-Robots-Tag:noindex
X-PUBLISHED-TTL:PT1H
BEGIN:VTIMEZONE
TZID:America/New_York
BEGIN:DAYLIGHT
TZOFFSETFROM:-0500
TZOFFSETTO:-0400
TZNAME:EDT
DTSTART:20240310T070000
END:DAYLIGHT
BEGIN:STANDARD
TZOFFSETFROM:-0400
TZOFFSETTO:-0500
TZNAME:EST
DTSTART:20241103T060000
END:STANDARD
BEGIN:DAYLIGHT
TZOFFSETFROM:-0500
TZOFFSETTO:-0400
TZNAME:EDT
DTSTART:20250309T070000
END:DAYLIGHT
BEGIN:STANDARD
TZOFFSETFROM:-0400
TZOFFSETTO:-0500
TZNAME:EST
DTSTART:20251102T060000
END:STANDARD
BEGIN:DAYLIGHT
TZOFFSETFROM:-0500
TZOFFSETTO:-0400
TZNAME:EDT
DTSTART:20260308T070000
END:DAYLIGHT
BEGIN:STANDARD
TZOFFSETFROM:-0400
TZOFFSETTO:-0500
TZNAME:EST
DTSTART:20261101T060000
END:STANDARD
END:VTIMEZONE
BEGIN:VEVENT
DTSTART;TZID=America/New_York:20250716T183000
DTEND;TZID=America/New_York:20250716T193000
DTSTAMP:20260421T214351
CREATED:20250526T144655Z
LAST-MODIFIED:20250716T201943Z
UID:10001595-1752690600-1752694200@quoifairealma.com
SUMMARY:SOIRÉE ZUMBA
DESCRIPTION:Cet événement est annulé en raison d’une fuite de gaz au centre-ville.  \n🔥 Soirée Zumba – Venez bouger\, vibrer et vous amuser ! 🔥 \nEnvie de passer une soirée fun\, dynamique et pleine d’énergie ? Rejoignez-nous pour une soirée Zumba inoubliable ! 💃🕺 \n🎶 Sur des rythmes latinos et internationaux entraînants\, laissez-vous emporter par l’ambiance festive et conviviale de la Zumba. Que vous soyez débutant ou confirmé\, cette soirée est ouverte à tous : venez danser\, transpirer et surtout vous éclater ! \n*Surveillez la page Facebook du club pour remise en cas de mauvais temps.
URL:https://quoifairealma.com/evenement/soiree-zumba-4/
LOCATION:Terrasse des Cascades\, 525\, rue Sacré-Coeur\, Alma\, Canada
CATEGORIES:Activités de plein air,Sports et plein air
ATTACH;FMTTYPE=image/png:https://quoifairealma.com/app/uploads/2025/05/annule.png
END:VEVENT
BEGIN:VEVENT
DTSTART;TZID=America/New_York:20250709T183000
DTEND;TZID=America/New_York:20250709T193000
DTSTAMP:20260421T214351
CREATED:20250526T144608Z
LAST-MODIFIED:20250605T191138Z
UID:10001594-1752085800-1752089400@quoifairealma.com
SUMMARY:SOIRÉE ZUMBA
DESCRIPTION:🔥 Soirée Zumba – Venez bouger\, vibrer et vous amuser ! 🔥 \nEnvie de passer une soirée fun\, dynamique et pleine d’énergie ? Rejoignez-nous pour une soirée Zumba inoubliable ! 💃🕺 \n🎶 Sur des rythmes latinos et internationaux entraînants\, laissez-vous emporter par l’ambiance festive et conviviale de la Zumba. Que vous soyez débutant ou confirmé\, cette soirée est ouverte à tous : venez danser\, transpirer et surtout vous éclater ! \n*Surveillez la page Facebook du club pour remise en cas de mauvais temps.
URL:https://quoifairealma.com/evenement/soiree-zumba-3/
LOCATION:Terrasse des Cascades\, 525\, rue Sacré-Coeur\, Alma\, Canada
CATEGORIES:Activités de plein air,Sports et plein air
ATTACH;FMTTYPE=image/png:https://quoifairealma.com/app/uploads/2025/05/Copie-de-Brown-Beige-Creative-Fitness-Training-YouTube-Banner-2-1.png
END:VEVENT
BEGIN:VEVENT
DTSTART;TZID=America/New_York:20250702T183000
DTEND;TZID=America/New_York:20250702T193000
DTSTAMP:20260421T214351
CREATED:20250526T144538Z
LAST-MODIFIED:20250605T191249Z
UID:10001593-1751481000-1751484600@quoifairealma.com
SUMMARY:SOIRÉE ZUMBA
DESCRIPTION:🔥 Soirée Zumba – Venez bouger\, vibrer et vous amuser ! 🔥 \nEnvie de passer une soirée fun\, dynamique et pleine d’énergie ? Rejoignez-nous pour une soirée Zumba inoubliable ! 💃🕺 \n🎶 Sur des rythmes latinos et internationaux entraînants\, laissez-vous emporter par l’ambiance festive et conviviale de la Zumba. Que vous soyez débutant ou confirmé\, cette soirée est ouverte à tous : venez danser\, transpirer et surtout vous éclater ! \n*Surveillez la page Facebook du club pour remise en cas de mauvais temps.
URL:https://quoifairealma.com/evenement/soiree-zumba-2/
LOCATION:Terrasse des Cascades\, 525\, rue Sacré-Coeur\, Alma\, Canada
CATEGORIES:Activités de plein air,Sports et plein air
ATTACH;FMTTYPE=image/png:https://quoifairealma.com/app/uploads/2025/05/Copie-de-Brown-Beige-Creative-Fitness-Training-YouTube-Banner-2-1.png
END:VEVENT
BEGIN:VEVENT
DTSTART;TZID=America/New_York:20250625T183000
DTEND;TZID=America/New_York:20250625T193000
DTSTAMP:20260421T214351
CREATED:20250526T144507Z
LAST-MODIFIED:20250605T191326Z
UID:10001592-1750876200-1750879800@quoifairealma.com
SUMMARY:SOIRÉE ZUMBA
DESCRIPTION:🔥 Soirée Zumba – Venez bouger\, vibrer et vous amuser ! 🔥 \nEnvie de passer une soirée fun\, dynamique et pleine d’énergie ? Rejoignez-nous pour une soirée Zumba inoubliable ! 💃🕺 \n🎶 Sur des rythmes latinos et internationaux entraînants\, laissez-vous emporter par l’ambiance festive et conviviale de la Zumba. Que vous soyez débutant ou confirmé\, cette soirée est ouverte à tous : venez danser\, transpirer et surtout vous éclater ! \n*Surveillez la page Facebook du club pour remise en cas de mauvais temps.
URL:https://quoifairealma.com/evenement/soiree-zumba/
LOCATION:Terrasse des Cascades\, 525\, rue Sacré-Coeur\, Alma\, Canada
CATEGORIES:Activités de plein air,Sports et plein air
ATTACH;FMTTYPE=image/png:https://quoifairealma.com/app/uploads/2025/05/Copie-de-Brown-Beige-Creative-Fitness-Training-YouTube-Banner-2-1.png
END:VEVENT
END:VCALENDAR