BEGIN:VCALENDAR
VERSION:2.0
PRODID:-//Quoi faire à Alma - ECPv6.15.14//NONSGML v1.0//EN
CALSCALE:GREGORIAN
METHOD:PUBLISH
X-ORIGINAL-URL:https://quoifairealma.com
X-WR-CALDESC:Évènements pour Quoi faire à Alma
REFRESH-INTERVAL;VALUE=DURATION:PT1H
X-Robots-Tag:noindex
X-PUBLISHED-TTL:PT1H
BEGIN:VTIMEZONE
TZID:America/New_York
BEGIN:DAYLIGHT
TZOFFSETFROM:-0500
TZOFFSETTO:-0400
TZNAME:EDT
DTSTART:20240310T070000
END:DAYLIGHT
BEGIN:STANDARD
TZOFFSETFROM:-0400
TZOFFSETTO:-0500
TZNAME:EST
DTSTART:20241103T060000
END:STANDARD
BEGIN:DAYLIGHT
TZOFFSETFROM:-0500
TZOFFSETTO:-0400
TZNAME:EDT
DTSTART:20250309T070000
END:DAYLIGHT
BEGIN:STANDARD
TZOFFSETFROM:-0400
TZOFFSETTO:-0500
TZNAME:EST
DTSTART:20251102T060000
END:STANDARD
BEGIN:DAYLIGHT
TZOFFSETFROM:-0500
TZOFFSETTO:-0400
TZNAME:EDT
DTSTART:20260308T070000
END:DAYLIGHT
BEGIN:STANDARD
TZOFFSETFROM:-0400
TZOFFSETTO:-0500
TZNAME:EST
DTSTART:20261101T060000
END:STANDARD
END:VTIMEZONE
BEGIN:VEVENT
DTSTART;TZID=America/New_York:20250614T200000
DTEND;TZID=America/New_York:20250614T220000
DTSTAMP:20260421T180324
CREATED:20250611T185842Z
LAST-MODIFIED:20250611T191032Z
UID:10001014-1749931200-1749938400@quoifairealma.com
SUMMARY:Prestation musicale du groupe Rendez-Vous
DESCRIPTION:🎶𝗦𝗼𝗶𝗿𝗲́𝗲 𝗳𝗲𝘀𝘁𝗶𝘃𝗲 𝗴𝗿𝗮𝘁𝘂𝗶𝘁𝗲 𝗮̀ 𝗹𝗮 𝗗𝗮𝗺-𝗲𝗻-𝗧𝗲𝗿𝗿𝗲ⵑ \nLe 14 juin de 20 h à 22 h\, préparez-vous à danser\, chanter et vibrer avec Rendez-Vous!✨\n👉 6 musiciens passionnés\n👉 Un répertoire de 50 hits incontournables\n👉 Des classiques des années 70 à aujourd’hui 🎤 \nAmbiance survoltée garantie! Venez vivre une soirée électrisante dans un cadre enchanteur au bord de l’eau. 🕺💃 \nNe manquez pas ce party musical! 🎸🥁 \n*Aucune réservation nécessaire
URL:https://quoifairealma.com/evenement/prestation-musicale-du-groupe-rendez-vous/
LOCATION:Centre de villégiature Dam-en-terre\, Alma\, Québec\, G8B 5W1\, Canada
ATTACH;FMTTYPE=image/jpeg:https://quoifairealma.com/app/uploads/2025/06/14-juin-20h-a-22h-Salle-Champetre.jpg
ORGANIZER;CN="Centre de Vill%C3%A9giature Dam-en-Terre":MAILTO:info@damenterre.qc.ca
GEO:48.586312;-71.662585
END:VEVENT
END:VCALENDAR