BEGIN:VCALENDAR
VERSION:2.0
PRODID:-//Quoi faire à Alma - ECPv6.15.14//NONSGML v1.0//EN
CALSCALE:GREGORIAN
METHOD:PUBLISH
X-ORIGINAL-URL:https://quoifairealma.com
X-WR-CALDESC:Évènements pour Quoi faire à Alma
REFRESH-INTERVAL;VALUE=DURATION:PT1H
X-Robots-Tag:noindex
X-PUBLISHED-TTL:PT1H
BEGIN:VTIMEZONE
TZID:America/New_York
BEGIN:DAYLIGHT
TZOFFSETFROM:-0500
TZOFFSETTO:-0400
TZNAME:EDT
DTSTART:20240310T070000
END:DAYLIGHT
BEGIN:STANDARD
TZOFFSETFROM:-0400
TZOFFSETTO:-0500
TZNAME:EST
DTSTART:20241103T060000
END:STANDARD
BEGIN:DAYLIGHT
TZOFFSETFROM:-0500
TZOFFSETTO:-0400
TZNAME:EDT
DTSTART:20250309T070000
END:DAYLIGHT
BEGIN:STANDARD
TZOFFSETFROM:-0400
TZOFFSETTO:-0500
TZNAME:EST
DTSTART:20251102T060000
END:STANDARD
BEGIN:DAYLIGHT
TZOFFSETFROM:-0500
TZOFFSETTO:-0400
TZNAME:EDT
DTSTART:20260308T070000
END:DAYLIGHT
BEGIN:STANDARD
TZOFFSETFROM:-0400
TZOFFSETTO:-0500
TZNAME:EST
DTSTART:20261101T060000
END:STANDARD
END:VTIMEZONE
BEGIN:VEVENT
DTSTART;TZID=America/New_York:20250823T190000
DTEND;TZID=America/New_York:20250823T220000
DTSTAMP:20260421T161459
CREATED:20250703T134954Z
LAST-MODIFIED:20250704T142755Z
UID:10001021-1755975600-1755986400@quoifairealma.com
SUMMARY:Soirée mini-golf
DESCRIPTION:Profitez d’une soirée ludique et détendue avec une partie de mini-golf gratuite pour toute la famille! Ambiance conviviale et plaisir garanti sur le parcours.
URL:https://quoifairealma.com/evenement/soiree-mini-golf/
LOCATION:Centre de villégiature Dam-en-terre\, Alma\, Québec\, G8B 5W1\, Canada
CATEGORIES:Activités de plein air,Sports et plein air
ATTACH;FMTTYPE=image/jpeg:https://quoifairealma.com/app/uploads/2025/07/Charles-David-Robitaille-4-scaled.jpg
ORGANIZER;CN="Centre de Vill%C3%A9giature Dam-en-Terre":MAILTO:info@damenterre.qc.ca
GEO:48.586312;-71.662585
END:VEVENT
BEGIN:VEVENT
DTSTART;TZID=America/New_York:20250816T093000
DTEND;TZID=America/New_York:20250816T103000
DTSTAMP:20260421T161459
CREATED:20250703T134748Z
LAST-MODIFIED:20250704T142606Z
UID:10001020-1755336600-1755340200@quoifairealma.com
SUMMARY:Séance de yoga pour enfants
DESCRIPTION:Une activité douce et amusante pour initier les enfants au yoga à travers des postures simples\, des jeux\, la respiration et la relaxation. \n🧘‍♂️ Atelier Yoga Enfants 🧘‍♀️Une activité douce et amusante pour initier les enfants au yoga !🌟 Postures simples🎲 Jeux ludiques🌬️ Respiration😌 Relaxation \n📅 16 août🕤 De 9 h 30 à 10 h 30 \n💫 Venez bouger\, respirer et vous amuser dans une ambiance bienveillante !
URL:https://quoifairealma.com/evenement/seance-de-yoga-pour-enfants/
LOCATION:Centre de villégiature Dam-en-terre\, Alma\, Québec\, G8B 5W1\, Canada
CATEGORIES:Activités de plein air,Sports et plein air
ATTACH;FMTTYPE=image/jpeg:https://quoifairealma.com/app/uploads/2025/07/Dam-En-Terre_Retouche-05-scaled.jpg
ORGANIZER;CN="Centre de Vill%C3%A9giature Dam-en-Terre":MAILTO:info@damenterre.qc.ca
GEO:48.586312;-71.662585
END:VEVENT
BEGIN:VEVENT
DTSTART;TZID=America/New_York:20250809T120000
DTEND;TZID=America/New_York:20250809T180000
DTSTAMP:20260421T161459
CREATED:20250703T134534Z
LAST-MODIFIED:20250704T135159Z
UID:10000924-1754740800-1754762400@quoifairealma.com
SUMMARY:Animation sur la plage avec Salsa Contigo
DESCRIPTION:Journée de danse en plein air au son envoûtant de la salsa. Que vous soyez débutant ou expert\, venez-vous amuser et vous déhancher dans une ambiance caliente. \n💃 Journée salsa en plein air ! 🕺Venez vibrer au rythme envoûtant de la salsa ! Que vous soyez débutant ou expert\, l’important\, c’est de bouger et s’amuser dans une ambiance caliente ! 🔥🎶 \n📅 9 août – de midi à 18 h📍 En plein air – ambiance garantie ! \n☀️ Bonne humeur au rendez-vous !
URL:https://quoifairealma.com/evenement/animation-sur-la-plage-avec-salsa-contigo/
LOCATION:Centre de villégiature Dam-en-terre\, Alma\, Québec\, G8B 5W1\, Canada
CATEGORIES:Activités de loisir,Loisirs et culture
ATTACH;FMTTYPE=image/jpeg:https://quoifairealma.com/app/uploads/2025/07/Dam-En-Terre_Retouche-14-11-scaled.jpg
ORGANIZER;CN="Centre de Vill%C3%A9giature Dam-en-Terre":MAILTO:info@damenterre.qc.ca
GEO:48.586312;-71.662585
END:VEVENT
BEGIN:VEVENT
DTSTART;TZID=America/New_York:20250802T130000
DTEND;TZID=America/New_York:20250802T210000
DTSTAMP:20260421T161459
CREATED:20250703T133922Z
LAST-MODIFIED:20250704T134442Z
UID:10000921-1754139600-1754168400@quoifairealma.com
SUMMARY:Halloween des campeurs
DESCRIPTION:🎃 Halloween au camping ! 🕸️Les campeurs sont invités à décorer leur équipement et leur site pour une ambiance festive et frissonnante ! 👻⛺ \n📅 2 août – de 13 h à 21 h \nAu programme :🎨 Maquillage terrifiant🧩 Rallye mystérieux🕷️ Parcours épeurant🍬 Collecte de friandises \n🕯️ Sortez vos déguisements et préparez-vous à frissonner… tout en vous amusant ! 🦇
URL:https://quoifairealma.com/evenement/halloween-des-campeurs/
LOCATION:Centre de villégiature Dam-en-terre\, Alma\, Québec\, G8B 5W1\, Canada
CATEGORIES:Communauté,Fêtes de quartier
ATTACH;FMTTYPE=image/jpeg:https://quoifairealma.com/app/uploads/2025/07/Dam-En-Terre_Retouche-02-scaled.jpg
ORGANIZER;CN="Centre de Vill%C3%A9giature Dam-en-Terre":MAILTO:info@damenterre.qc.ca
GEO:48.586312;-71.662585
END:VEVENT
BEGIN:VEVENT
DTSTART;TZID=America/New_York:20250731T090000
DTEND;TZID=America/New_York:20250731T110000
DTSTAMP:20260421T161459
CREATED:20250703T133712Z
LAST-MODIFIED:20250704T134217Z
UID:10000915-1753952400-1753959600@quoifairealma.com
SUMMARY:Atelier de l'Odyssée des Bâtisseurs : À la découverte du Lac-Saint-Jean
DESCRIPTION:En équipe\, les participants parcourront la carte du Lac-Saint-Jean en répondant à une série de questions portant sur l’histoire et la géographie de la région.
URL:https://quoifairealma.com/evenement/atelier-de-lodyssee-des-batisseurs-a-la-decouverte-du-lac-saint-jean/
LOCATION:Centre de villégiature Dam-en-terre\, Alma\, Québec\, G8B 5W1\, Canada
CATEGORIES:Arts et patrimoine,Loisirs et culture
ATTACH;FMTTYPE=image/jpeg:https://quoifairealma.com/app/uploads/2025/07/Dam-En-Terre_Retouche-16-scaled.jpg
ORGANIZER;CN="Centre de Vill%C3%A9giature Dam-en-Terre":MAILTO:info@damenterre.qc.ca
GEO:48.586312;-71.662585
END:VEVENT
BEGIN:VEVENT
DTSTART;TZID=America/New_York:20250729T090000
DTEND;TZID=America/New_York:20250729T110000
DTSTAMP:20260421T161459
CREATED:20250703T133528Z
LAST-MODIFIED:20250704T134119Z
UID:10000914-1753779600-1753786800@quoifairealma.com
SUMMARY:Atelier de l'Odyssée des Bâtisseurs : Villes et villages
DESCRIPTION:À l’aide de cartes et d’images\, les élèves seront invités à construire une ville ou un village tout en découvrant les éléments qui les composent et les distinguent.
URL:https://quoifairealma.com/evenement/atelier-de-lodyssee-des-batisseurs-villes-et-villages/
LOCATION:Centre de villégiature Dam-en-terre\, Alma\, Québec\, G8B 5W1\, Canada
CATEGORIES:Ateliers et bricolage,Loisirs et culture
ATTACH;FMTTYPE=image/jpeg:https://quoifairealma.com/app/uploads/2025/07/Dam-En-Terre_Retouche-23_Oye_2025-22-copie.jpg
ORGANIZER;CN="Centre de Vill%C3%A9giature Dam-en-Terre":MAILTO:info@damenterre.qc.ca
GEO:48.586312;-71.662585
END:VEVENT
BEGIN:VEVENT
DTSTART;TZID=America/New_York:20250725T183000
DTEND;TZID=America/New_York:20250727T100000
DTSTAMP:20260421T161459
CREATED:20250703T133314Z
LAST-MODIFIED:20250704T133857Z
UID:10000910-1753468200-1753610400@quoifairealma.com
SUMMARY:La magie de Noël avec Méphisto le Magicien
DESCRIPTION:🎄 Noël en été au camping ! 🎄Les campeurs sont invités à décorer leur équipement de camping et leur site pour célébrer la magie de Noël ! ✨⛺ \n📅 Programmation festive : \n🎩 25 juillet – 18 h 30 à 21 h👉 La magie ambulante sur le terrain de camping \n🎁 26 juillet – 10 h à 11 h👉 Spectacle de magie pour enfants \n🃏 26 juillet – 21 h à 22 h👉 Spectacle de magie pour adultes \n🎈 27 juillet – 9 h à 10 h👉 Atelier de sculpture de ballons \n🎅 Venez vivre un moment enchanteur en plein cœur de l’été ! 🌟
URL:https://quoifairealma.com/evenement/la-magie-de-noel-avec-mephisto-le-magicien/
LOCATION:Centre de villégiature Dam-en-terre\, Alma\, Québec\, G8B 5W1\, Canada
CATEGORIES:Communauté,Fêtes de quartier
ATTACH;FMTTYPE=image/jpeg:https://quoifairealma.com/app/uploads/2025/07/Vue-densemble-3-2-scaled.jpg
ORGANIZER;CN="Centre de Vill%C3%A9giature Dam-en-Terre":MAILTO:info@damenterre.qc.ca
GEO:48.586312;-71.662585
END:VEVENT
BEGIN:VEVENT
DTSTART;TZID=America/New_York:20250724T090000
DTEND;TZID=America/New_York:20250724T110000
DTSTAMP:20260421T161459
CREATED:20250627T141654Z
LAST-MODIFIED:20250702T124957Z
UID:10000903-1753347600-1753354800@quoifairealma.com
SUMMARY:L'eau responsable: atelier pour enfants
DESCRIPTION:Cet atelier de l’Odyssée des Bâtisseurs invite les enfants à unir leurs forces pour remplir leur château d’eau dans une activité ludique et éclaboussante!\nEn jouant\, ils découvriront comment l’eau est utilisée au quotidien. 🏠🌎\nUn atelier convivial où le plaisir de jouer ensemble fait toute la différence! 🤝\n📅 Jeudi 24 juillet\n⏰ 9 h à 11 h\n📍 Salle Champêtre au Centre de villégiature Dam-en-Terre\n👥 Ouvert à tous\n𝑷𝒐𝒖𝒓 𝒅𝒆́𝒄𝒐𝒖𝒗𝒓𝒊𝒓 𝒕𝒐𝒖𝒕𝒆𝒔 𝒍𝒆𝒔 𝒂𝒄𝒕𝒊𝒗𝒊𝒕𝒆́𝒔 𝒅𝒆 𝒍’𝒆́𝒕𝒆́: https://www.damenterre.qc.ca/fr/activites-estivales
URL:https://quoifairealma.com/evenement/leau-responsable-atelier-pour-enfants/
LOCATION:Centre de villégiature Dam-en-terre\, Alma\, Québec\, G8B 5W1\, Canada
CATEGORIES:Activités de loisir,Loisirs et culture
ATTACH;FMTTYPE=image/jpeg:https://quoifairealma.com/app/uploads/2025/07/1-TEMPLATE.jpg
ORGANIZER;CN="Centre de Vill%C3%A9giature Dam-en-Terre":MAILTO:info@damenterre.qc.ca
GEO:48.586312;-71.662585
END:VEVENT
BEGIN:VEVENT
DTSTART;TZID=America/New_York:20250722T090000
DTEND;TZID=America/New_York:20250722T110000
DTSTAMP:20260421T161459
CREATED:20250627T141435Z
LAST-MODIFIED:20250702T124614Z
UID:10000900-1753174800-1753182000@quoifairealma.com
SUMMARY:Atelier pour enfants : Jeu de poche interactif
DESCRIPTION:Un atelier dynamique signé L’Odyssée des Bâtisseurs!\nLes jeunes sont invités à relever une série d’épreuves amusantes pour accumuler un maximum de points. 🏅\nUne activité originale pour s’amuser et relever des défis!\n📅 Mardi 22 juillet\n⏰ 9 h à 11 h\n📍 Salle Champêtre au Centre de villégiature Dam-en-Terre\n👥 Ouvert à tous\n𝐏𝐨𝐮𝐫 𝐝𝐞́𝐜𝐨𝐮𝐯𝐫𝐢𝐫 𝐭𝐨𝐮𝐭𝐞𝐬 𝐥𝐞𝐬 𝐚𝐜𝐭𝐢𝐯𝐢𝐭𝐞́𝐬 𝐝𝐞 𝐥’𝐞́𝐭𝐞́: https://www.damenterre.qc.ca/fr/activites-estivales
URL:https://quoifairealma.com/evenement/atelier-pour-enfants-jeu-de-poche-interactif/
LOCATION:Centre de villégiature Dam-en-terre\, Alma\, Québec\, G8B 5W1\, Canada
CATEGORIES:Activités de loisir,Loisirs et culture
ATTACH;FMTTYPE=image/jpeg:https://quoifairealma.com/app/uploads/2025/07/1-TEMPLATE.jpg
ORGANIZER;CN="Centre de Vill%C3%A9giature Dam-en-Terre":MAILTO:info@damenterre.qc.ca
GEO:48.586312;-71.662585
END:VEVENT
BEGIN:VEVENT
DTSTART;TZID=America/New_York:20250719T120000
DTEND;TZID=America/New_York:20250719T180000
DTSTAMP:20260421T161459
CREATED:20250703T132628Z
LAST-MODIFIED:20250704T132950Z
UID:10000908-1752926400-1752948000@quoifairealma.com
SUMMARY:Animation sur la plage avec Jello Musique
DESCRIPTION:Animation festive sur la plage et ambiance estivale sont au rendez-vous pour faire bouger petits et grands au son de la musique entraînante. Une activité colorée et énergique\, parfaite pour profiter pleinement du soleil et de l’été!
URL:https://quoifairealma.com/evenement/animation-sur-la-plage-avec-jello-musique/
LOCATION:Centre de villégiature Dam-en-terre\, Alma\, Québec\, G8B 5W1\, Canada
CATEGORIES:Musique,Spectacles et festivals
ATTACH;FMTTYPE=image/jpeg:https://quoifairealma.com/app/uploads/2025/07/Dam-En-Terre_Retouche-14-1-scaled.jpg
ORGANIZER;CN="Centre de Vill%C3%A9giature Dam-en-Terre":MAILTO:info@damenterre.qc.ca
GEO:48.586312;-71.662585
END:VEVENT
BEGIN:VEVENT
DTSTART;TZID=America/New_York:20250719T120000
DTEND;TZID=America/New_York:20250719T180000
DTSTAMP:20260421T161459
CREATED:20250627T141135Z
LAST-MODIFIED:20250702T122316Z
UID:10001019-1752926400-1752948000@quoifairealma.com
SUMMARY:Animation plage avec Jello Musique
DESCRIPTION:Venez profiter d’une ambiance estivale et festive sur la plage du Centre de villégiature Dam-en-Terre!\nPetits et grands seront invités à bouger au rythme de la musique entraînante de Jello Musique. 🎵\nUne activité haute en couleur et pleine d’énergie\, parfaite pour avoir du fun sous le soleil! ☀️\n📅 Samedi 19 juillet\n⏰ Midi à 18 h\n📍 Centre de villégiature Dam-en-Terre\n𝗣𝗼𝘂𝗿 𝗱𝗲́𝗰𝗼𝘂𝘃𝗿𝗶𝗿 𝘁𝗼𝘂𝘁𝗲𝘀 𝗹𝗲𝘀 𝗮𝗰𝘁𝗶𝘃𝗶𝘁𝗲́𝘀 𝗱𝗲 𝗹’𝗲́𝘁𝗲́: https://www.damenterre.qc.ca/fr/activites-estivales
URL:https://quoifairealma.com/evenement/animation-plage-avec-jello-musique/
LOCATION:Centre de villégiature Dam-en-terre\, Alma\, Québec\, G8B 5W1\, Canada
CATEGORIES:Musique,Spectacles et festivals
ATTACH;FMTTYPE=image/jpeg:https://quoifairealma.com/app/uploads/2025/06/Creation-sans-titre.jpg
ORGANIZER;CN="Centre de Vill%C3%A9giature Dam-en-Terre":MAILTO:info@damenterre.qc.ca
GEO:48.586312;-71.662585
END:VEVENT
BEGIN:VEVENT
DTSTART;TZID=America/New_York:20250626T200000
DTEND;TZID=America/New_York:20250831T220000
DTSTAMP:20260421T161459
CREATED:20250512T180024Z
LAST-MODIFIED:20250514T130539Z
UID:10001005-1750968000-1756677600@quoifairealma.com
SUMMARY:Théâtre d'été "L'embarras du choix"
DESCRIPTION:🎭 𝗖𝗲𝘁 𝗲́𝘁𝗲́\, 𝗹𝗲 𝘁𝗵𝗲́𝗮̂𝘁𝗿𝗲 𝗱𝗲𝘃𝗶𝗲𝗻𝘁 𝘂𝗻 𝗷𝗲𝘂… 𝗲𝘁 𝗩𝗢𝗨𝗦 𝗲𝗻 𝗲̂𝘁𝗲𝘀 𝗹𝗲 𝗵𝗲́𝗿𝗼𝘀 ⵑ \nPréparez-vous à rire\, à voter et changer le cours des événements avec la pièce L’embarras du choix\, la comédie interactive acclamée en France et nommée aux Molières! \nAdaptée pour le Québec par le metteur en scène Nicolas Létourneau\, cette pièce vous plonge dans une aventure théâtrale où chaque décision appartient au public. Aucune représentation n’est pareille\, mais toutes sont mémorables… et franchement drôles ! \n🍽️ Optez pour la formule souper-spectacle\n🏡 Prolongez l’expérience grâce à nos forfaits théâtre et hébergement\n🕘 Du mercredi au samedi\, jusqu’au 31 août \nPRIX : \nTHÉÂTRE ADULTE (20 h)\n40\,25 $ +tx\nTHÉÂTRE AÎNÉ 65 ANS et + (20 h)\n37\,25 $ +tx\nTHÉÂTRE ENFANT 0-14 ANS (20 h)\n25\,75 $ +tx\nSOUPER DE GROUPE (10 PERS ET +)\n37\,25 $+tx\nSOUPER-THÉÂTRE ADULTE (15 ANS +) (17 h)\n89\,42 $+tx\nSOUPER-THÉÂTRE ENFANT (0-14 ANS) (17 h)\n75\,42$+tx\nSOUPER-THÉÂTRE GROUPE (10 PERS ET +)\n86\,42$+tx
URL:https://quoifairealma.com/evenement/theatre-dete-lembarras-du-choix/
LOCATION:Centre de villégiature Dam-en-terre\, Alma\, Québec\, G8B 5W1\, Canada
CATEGORIES:Spectacles et festivals,Théâtre
ATTACH;FMTTYPE=image/jpeg:https://quoifairealma.com/app/uploads/2025/05/THEATRE-DETE2.jpg
ORGANIZER;CN="Centre de Vill%C3%A9giature Dam-en-Terre":MAILTO:info@damenterre.qc.ca
GEO:48.586312;-71.662585
END:VEVENT
BEGIN:VEVENT
DTSTART;TZID=America/New_York:20250614T200000
DTEND;TZID=America/New_York:20250614T220000
DTSTAMP:20260421T161500
CREATED:20250611T185842Z
LAST-MODIFIED:20250611T191032Z
UID:10001014-1749931200-1749938400@quoifairealma.com
SUMMARY:Prestation musicale du groupe Rendez-Vous
DESCRIPTION:🎶𝗦𝗼𝗶𝗿𝗲́𝗲 𝗳𝗲𝘀𝘁𝗶𝘃𝗲 𝗴𝗿𝗮𝘁𝘂𝗶𝘁𝗲 𝗮̀ 𝗹𝗮 𝗗𝗮𝗺-𝗲𝗻-𝗧𝗲𝗿𝗿𝗲ⵑ \nLe 14 juin de 20 h à 22 h\, préparez-vous à danser\, chanter et vibrer avec Rendez-Vous!✨\n👉 6 musiciens passionnés\n👉 Un répertoire de 50 hits incontournables\n👉 Des classiques des années 70 à aujourd’hui 🎤 \nAmbiance survoltée garantie! Venez vivre une soirée électrisante dans un cadre enchanteur au bord de l’eau. 🕺💃 \nNe manquez pas ce party musical! 🎸🥁 \n*Aucune réservation nécessaire
URL:https://quoifairealma.com/evenement/prestation-musicale-du-groupe-rendez-vous/
LOCATION:Centre de villégiature Dam-en-terre\, Alma\, Québec\, G8B 5W1\, Canada
ATTACH;FMTTYPE=image/jpeg:https://quoifairealma.com/app/uploads/2025/06/14-juin-20h-a-22h-Salle-Champetre.jpg
ORGANIZER;CN="Centre de Vill%C3%A9giature Dam-en-Terre":MAILTO:info@damenterre.qc.ca
GEO:48.586312;-71.662585
END:VEVENT
END:VCALENDAR