BEGIN:VCALENDAR
VERSION:2.0
PRODID:-//Quoi faire à Alma - ECPv6.15.14//NONSGML v1.0//EN
CALSCALE:GREGORIAN
METHOD:PUBLISH
X-ORIGINAL-URL:https://quoifairealma.com
X-WR-CALDESC:Évènements pour Quoi faire à Alma
REFRESH-INTERVAL;VALUE=DURATION:PT1H
X-Robots-Tag:noindex
X-PUBLISHED-TTL:PT1H
BEGIN:VTIMEZONE
TZID:America/New_York
BEGIN:DAYLIGHT
TZOFFSETFROM:-0500
TZOFFSETTO:-0400
TZNAME:EDT
DTSTART:20240310T070000
END:DAYLIGHT
BEGIN:STANDARD
TZOFFSETFROM:-0400
TZOFFSETTO:-0500
TZNAME:EST
DTSTART:20241103T060000
END:STANDARD
BEGIN:DAYLIGHT
TZOFFSETFROM:-0500
TZOFFSETTO:-0400
TZNAME:EDT
DTSTART:20250309T070000
END:DAYLIGHT
BEGIN:STANDARD
TZOFFSETFROM:-0400
TZOFFSETTO:-0500
TZNAME:EST
DTSTART:20251102T060000
END:STANDARD
BEGIN:DAYLIGHT
TZOFFSETFROM:-0500
TZOFFSETTO:-0400
TZNAME:EDT
DTSTART:20260308T070000
END:DAYLIGHT
BEGIN:STANDARD
TZOFFSETFROM:-0400
TZOFFSETTO:-0500
TZNAME:EST
DTSTART:20261101T060000
END:STANDARD
END:VTIMEZONE
BEGIN:VEVENT
DTSTART;TZID=America/New_York:20251004T100000
DTEND;TZID=America/New_York:20251004T140000
DTSTAMP:20260422T030636
CREATED:20250917T130048Z
LAST-MODIFIED:20250917T191117Z
UID:10001053-1759572000-1759586400@quoifairealma.com
SUMMARY:Marché d'automne -
DESCRIPTION:Marché d’automne – Venez découvrir notre organisme ! 🍂 \nNous organisons un Marché d’automne afin d’offrir à toute la population l’occasion de visiter notre organisme et découvrir nos services. \n✨ Au programme :🛍️ Nombreux artisans sur place pour présenter leurs créations🍔 Food Truck Le Repère du Clocher et Queues de Castor pour un délicieux repas ou une petite douceur🎁 Tirage en partenariat avec Matelas Avantage – le gagnant sera dévoilé à 14 h👗 Zone Frip : dénichez des trouvailles uniques à petit prix \n💛 Venez découvrir un super organisme\, faire de belles rencontres\, magasiner local et profiter d’un moment agréable entre amis ou en famille.
URL:https://quoifairealma.com/evenement/marche-dautomne/
LOCATION:Centre de rétablissement le Renfort\, 122\, rue Harvey Est\, Alma\, Québec\, G8B 1B3\, Canada
CATEGORIES:Communauté,Événements
ATTACH;FMTTYPE=image/jpeg:https://quoifairealma.com/app/uploads/2025/09/marche-dautomne2.jpg
END:VEVENT
BEGIN:VEVENT
DTSTART;TZID=America/New_York:20250603T130000
DTEND;TZID=America/New_York:20251028T160000
DTSTAMP:20260422T030636
CREATED:20250625T181204Z
LAST-MODIFIED:20250702T121713Z
UID:10001018-1748955600-1761667200@quoifairealma.com
SUMMARY:Milieu de jour ouvert
DESCRIPTION:Tu souffres ou tu as déjà souffert d’une problématique en santé mentale ?\nTu as envie de briser l’isolement\, de discuter et de te créer un nouveau réseau social ? \nViens participer au milieu de jour ouvert du renfort\, sur place tu auras un bon café\, une intervenante disponible au besoin et tu auras à ta disposition\, jeux de société\, peinture\, mandalas\, mots croisés\, etc.\nTu n’as pas besoin d’un diagnostic pour participer au milieu de jour ouvert.
URL:https://quoifairealma.com/evenement/milieu-de-jour-ouvert/
LOCATION:Centre de rétablissement le Renfort\, 122\, rue Harvey Est\, Alma\, Québec\, G8B 1B3\, Canada
CATEGORIES:Ateliers,Communauté
ATTACH;FMTTYPE=image/jpeg:https://quoifairealma.com/app/uploads/2025/07/intervalle-2.jpg
END:VEVENT
END:VCALENDAR