BEGIN:VCALENDAR
VERSION:2.0
PRODID:-//Quoi faire à Alma - ECPv6.15.14//NONSGML v1.0//EN
CALSCALE:GREGORIAN
METHOD:PUBLISH
X-WR-CALNAME:Quoi faire à Alma
X-ORIGINAL-URL:https://quoifairealma.com
X-WR-CALDESC:Évènements pour Quoi faire à Alma
REFRESH-INTERVAL;VALUE=DURATION:PT1H
X-Robots-Tag:noindex
X-PUBLISHED-TTL:PT1H
BEGIN:VTIMEZONE
TZID:America/New_York
BEGIN:DAYLIGHT
TZOFFSETFROM:-0500
TZOFFSETTO:-0400
TZNAME:EDT
DTSTART:20250309T070000
END:DAYLIGHT
BEGIN:STANDARD
TZOFFSETFROM:-0400
TZOFFSETTO:-0500
TZNAME:EST
DTSTART:20251102T060000
END:STANDARD
BEGIN:DAYLIGHT
TZOFFSETFROM:-0500
TZOFFSETTO:-0400
TZNAME:EDT
DTSTART:20260308T070000
END:DAYLIGHT
BEGIN:STANDARD
TZOFFSETFROM:-0400
TZOFFSETTO:-0500
TZNAME:EST
DTSTART:20261101T060000
END:STANDARD
BEGIN:DAYLIGHT
TZOFFSETFROM:-0500
TZOFFSETTO:-0400
TZNAME:EDT
DTSTART:20270314T070000
END:DAYLIGHT
BEGIN:STANDARD
TZOFFSETFROM:-0400
TZOFFSETTO:-0500
TZNAME:EST
DTSTART:20271107T060000
END:STANDARD
END:VTIMEZONE
BEGIN:VEVENT
DTSTART;TZID=America/New_York:20260423T200000
DTEND;TZID=America/New_York:20260423T200000
DTSTAMP:20260421T123244
CREATED:20260120T142551Z
LAST-MODIFIED:20260120T142551Z
UID:10001158-1776974400-1776974400@quoifairealma.com
SUMMARY:Angine de Poitrine au Café du Clocher - Lancement de Vol II
DESCRIPTION:Angine de poitrine de retour dans ton Clocher.Lancement de VOL II.23 avril – 20h00.COMPLET !
URL:https://quoifairealma.com/evenement/angine-de-poitrine-au-cafe-du-clocher-lancement-de-vol-ii/
LOCATION:Café du Clocher\, 19 Rue Saint-Joseph Sud\, Alma\, Québec\, G8B 3E2\, Canada
CATEGORIES:Musique,Spectacles et festivals
ATTACH;FMTTYPE=image/jpeg:https://quoifairealma.com/app/uploads/2026/01/600877965_1299506715538957_4944679151843079516_n.jpg
ORGANIZER;CN="Caf%C3%A9 du Clocher":MAILTO:cafeduclocher@gmail.com
END:VEVENT
BEGIN:VEVENT
DTSTART;TZID=America/New_York:20260504T190000
DTEND;TZID=America/New_York:20260505T190000
DTSTAMP:20260421T123244
CREATED:20260120T142739Z
LAST-MODIFIED:20260120T142739Z
UID:10001159-1777921200-1778007600@quoifairealma.com
SUMMARY:Les Sheriff au Café du Clocher
DESCRIPTION:Le plus que légendaire groupe punk Français Les Sheriff sont de retour dans ton Café du Clocher.\nSupplémentaire le 04 mai 2026.Spectacle du 05 mai est complet.\nLes premières parties du 05 mai seront :DÉGAINE\nL’assistante Riposte\nLes premières parties du 04 mai seront :\nLes Banlieusards\nLes Vanupieds
URL:https://quoifairealma.com/evenement/les-sheriff-au-cafe-du-clocher/
LOCATION:Café du Clocher\, 19 Rue Saint-Joseph Sud\, Alma\, Québec\, G8B 3E2\, Canada
CATEGORIES:Musique,Spectacles et festivals
ATTACH;FMTTYPE=image/jpeg:https://quoifairealma.com/app/uploads/2026/01/589359865_1284316793724616_6199311542536070107_n.jpg
ORGANIZER;CN="Caf%C3%A9 du Clocher":MAILTO:cafeduclocher@gmail.com
END:VEVENT
BEGIN:VEVENT
DTSTART;TZID=America/New_York:20260515T210000
DTEND;TZID=America/New_York:20260515T210000
DTSTAMP:20260421T123244
CREATED:20260120T140020Z
LAST-MODIFIED:20260120T140852Z
UID:10001153-1778878800-1778878800@quoifairealma.com
SUMMARY:Dany Placard au Café du Clocher
DESCRIPTION:15 mai 2026Porte 21h00Billets en vente dès maintenant !\n\n »Depuis les années 2000\, Dany Placard enchaîne les albums solos et les tournées un peu partout dans la province. De sa ville natale au Saguenay jusqu’à Montréal\, ses textes poignants et ses mélodies folk accrocheuses ont résonné aux quatre coins du Québec depuis ses débuts au sein du groupe Plywood ¾. Qu’on pense à Rang de l’église (2005)\, Raccourci (2008)\, Placard (2010)\, Santa Maria (2014) et l’acclamé Full Face (2017)\, au fil du temps\, ses albums ont tous été chaudement accueillis par la critique et le public.\n\nÀ sa carrière d’auteur-compositeur-interprète s’ajoute de la réalisation pourplusieurs artistes connus de la scène musicale québécoise. Notons entre autres Sara Dufour\, Erika Hagen\, Laura Sauvage\, Douance et Guillaume Bordel. Placard rajoute une corde à son arc en 2015\, alors qu’il signe la bande sonore du court métrage Bleu tonnerre\, réalisé par Philippe David Gagné et Jean-Marc E. Roy\, en plus de faire le saut devant la caméra pour y tenir le premier rôle.Après avoir exploré les ambiances psychédéliques avec les plus récents J’connais rien à l’astronomie (2020) et Astronomie(suite) (2021)\, c’est en compagnie de Julie Doiron avec qui il vit et tourne que Placard lance en duo l’album éponyme Julie et Dany (2022)\, enregistré dans leur maison au NouveauBrunswick.\nCette collaboration l’aura ramené vers ses racines folk\, culminant avec la sortie\, le 27 septembre 2024\, d’un nouvel album salué pour sa grande sensibilité. Inspiré par la mélancolie hivernale\, l’ennui des grands espaces et la perte de sa fidèle chienne Stormy\, cet album intime et touchant confirme une fois de plus le talent de Dany Placard pour raconter l’humain avec justesse et chaleur.Dans la foulée\, un nouveau single intitulé Le soleil se lève à chaque matin paraîtra sous peu\, accompagné d’un vidéoclip de style “slice of life” réalisé par Soufiane Benrqiq. Entouré de ses complices de longue date — Sara Dufour\, Charles Guay et Paul Théorêt — Placard livre une pièce rock-folk lumineuse\, qui marque un tournant plus clair dans sa trajectoire artistique\, portée par l’espoir et l’envie decroire à l’été. »
URL:https://quoifairealma.com/evenement/dany-placard-au-cafe-du-clocher/
LOCATION:Café du Clocher\, 19 Rue Saint-Joseph Sud\, Alma\, Québec\, G8B 3E2\, Canada
CATEGORIES:Musique,Spectacles et festivals
ATTACH;FMTTYPE=image/jpeg:https://quoifairealma.com/app/uploads/2026/01/600701965_1298720048950957_6066294729811684172_n.jpg
ORGANIZER;CN="Caf%C3%A9 du Clocher":MAILTO:cafeduclocher@gmail.com
END:VEVENT
END:VCALENDAR