BEGIN:VCALENDAR
VERSION:2.0
PRODID:-//Quoi faire à Alma - ECPv6.15.14//NONSGML v1.0//EN
CALSCALE:GREGORIAN
METHOD:PUBLISH
X-ORIGINAL-URL:https://quoifairealma.com
X-WR-CALDESC:Évènements pour Quoi faire à Alma
REFRESH-INTERVAL;VALUE=DURATION:PT1H
X-Robots-Tag:noindex
X-PUBLISHED-TTL:PT1H
BEGIN:VTIMEZONE
TZID:America/New_York
BEGIN:DAYLIGHT
TZOFFSETFROM:-0500
TZOFFSETTO:-0400
TZNAME:EDT
DTSTART:20240310T070000
END:DAYLIGHT
BEGIN:STANDARD
TZOFFSETFROM:-0400
TZOFFSETTO:-0500
TZNAME:EST
DTSTART:20241103T060000
END:STANDARD
BEGIN:DAYLIGHT
TZOFFSETFROM:-0500
TZOFFSETTO:-0400
TZNAME:EDT
DTSTART:20250309T070000
END:DAYLIGHT
BEGIN:STANDARD
TZOFFSETFROM:-0400
TZOFFSETTO:-0500
TZNAME:EST
DTSTART:20251102T060000
END:STANDARD
BEGIN:DAYLIGHT
TZOFFSETFROM:-0500
TZOFFSETTO:-0400
TZNAME:EDT
DTSTART:20260308T070000
END:DAYLIGHT
BEGIN:STANDARD
TZOFFSETFROM:-0400
TZOFFSETTO:-0500
TZNAME:EST
DTSTART:20261101T060000
END:STANDARD
END:VTIMEZONE
BEGIN:VEVENT
DTSTART;TZID=America/New_York:20250424T170000
DTEND;TZID=America/New_York:20250627T190000
DTSTAMP:20260422T023210
CREATED:20250401T204407Z
LAST-MODIFIED:20250407T133447Z
UID:10000879-1745514000-1751050800@quoifairealma.com
SUMMARY:Vernissage de Cristel Silva
DESCRIPTION:artch – art contemporain émergent et le Centre SAGAMIE sont heureux de présenter la toute première exposition solo de Cristel Silva intitulée : Transmutations du devenir les uns avec les autres.\nSoyez des notre lors du vernissage qui aura lieu le 24 avril 2025 à 17 h ! \nDans son projet Transmutations du devenir les uns avec les autres\, l’artiste Cristel Silva explore les espaces invisibles de la ville\, tels que les friches et les chemins de fer\, en s’inspirant de la dérive situationniste. En parcourant librement la ville\, elle collecte des fragments – bâches abandonnées\, sacs plastiques\, images de grillages envahis – qu’elle intègre dans des courtepointes\, créant ainsi une cartographie sensible des lieux traversés. Cette exposition\, née d’une résidence au Centre SAGAMIE\, invite à repenser notre manière d’habiter les villes\, en mêlant intime et politique à travers l’art. \nCette exposition a lieu dans le cadre de Plein Solo : un projet porté par artch et soutenu par Gouvernement du Québec\, offrant à 6 artistes visuels émergents l’opportunité de présenter leur première exposition solo dans des institutions culturelles majeures du Québec.
URL:https://quoifairealma.com/evenement/vernissage-de-cristel-silva/
LOCATION:Centre Sagamie\, 50 rue St-Joseph\, Alma\, Québec\, G8B 5W1\, Canada
CATEGORIES:Expositions,Loisirs et culture
ATTACH;FMTTYPE=image/jpeg:https://quoifairealma.com/app/uploads/2025/04/Photo_expo-Criste_Silva_retouchee.jpg
END:VEVENT
END:VCALENDAR