BEGIN:VCALENDAR
VERSION:2.0
PRODID:-//Quoi faire à Alma - ECPv6.15.14//NONSGML v1.0//EN
CALSCALE:GREGORIAN
METHOD:PUBLISH
X-ORIGINAL-URL:https://quoifairealma.com
X-WR-CALDESC:Évènements pour Quoi faire à Alma
REFRESH-INTERVAL;VALUE=DURATION:PT1H
X-Robots-Tag:noindex
X-PUBLISHED-TTL:PT1H
BEGIN:VTIMEZONE
TZID:America/New_York
BEGIN:DAYLIGHT
TZOFFSETFROM:-0500
TZOFFSETTO:-0400
TZNAME:EDT
DTSTART:20240310T070000
END:DAYLIGHT
BEGIN:STANDARD
TZOFFSETFROM:-0400
TZOFFSETTO:-0500
TZNAME:EST
DTSTART:20241103T060000
END:STANDARD
BEGIN:DAYLIGHT
TZOFFSETFROM:-0500
TZOFFSETTO:-0400
TZNAME:EDT
DTSTART:20250309T070000
END:DAYLIGHT
BEGIN:STANDARD
TZOFFSETFROM:-0400
TZOFFSETTO:-0500
TZNAME:EST
DTSTART:20251102T060000
END:STANDARD
BEGIN:DAYLIGHT
TZOFFSETFROM:-0500
TZOFFSETTO:-0400
TZNAME:EDT
DTSTART:20260308T070000
END:DAYLIGHT
BEGIN:STANDARD
TZOFFSETFROM:-0400
TZOFFSETTO:-0500
TZNAME:EST
DTSTART:20261101T060000
END:STANDARD
END:VTIMEZONE
BEGIN:VEVENT
DTSTART;TZID=America/New_York:20250515T103000
DTEND;TZID=America/New_York:20250515T120000
DTSTAMP:20260421T233443
CREATED:20250423T141818Z
LAST-MODIFIED:20250428T145848Z
UID:10000974-1747305000-1747310400@quoifairealma.com
SUMMARY:Dîner-Causerie AQDR Alma : La santé mentale au masculin
DESCRIPTION:CONFÉRENCE GRATUITE / Repas facultatif 10$/ membres et 15$/ non-membres\nINSCRIPTIONS OBLIGATOIRES \nCette dernière conférence avant la période estivale sera animée par Le Centre de Ressources pour Hommes Optimum d’Alma : nous y démystifierons les enjeux de santé mentale et mythes entourant la santé mentale masculine. \nVenez en apprendre davantage sur ce sujet important qui est malheureusement peu abordé autour de nous. Parce qu’on a tous un homme dans notre entourage à qui l’on tient\, déplaçons-nous pour s’unir à eux et leur santé ! \nMembres et non-membres sont les bienvenus\nSur inscription seulement\, au 418 480-1122 ou via notre formulaire d’inscription en ligne
URL:https://quoifairealma.com/evenement/diner-causerie-aqdr-alma-la-sante-mentale-au-masculin/
LOCATION:Centre culturel\, 400\, rue Saint-Sacrement Ouest\, Alma\, G8B 7K8
CATEGORIES:Ateliers,Communauté
ATTACH;FMTTYPE=image/jpeg:https://quoifairealma.com/app/uploads/2025/04/AQDR-causerie2.jpg
ORGANIZER;CN="AQDR Alma":MAILTO:coordination@aqdralma.com
END:VEVENT
END:VCALENDAR