BEGIN:VCALENDAR
VERSION:2.0
PRODID:-//Quoi faire à Alma - ECPv6.15.14//NONSGML v1.0//EN
CALSCALE:GREGORIAN
METHOD:PUBLISH
X-WR-CALNAME:Quoi faire à Alma
X-ORIGINAL-URL:https://quoifairealma.com
X-WR-CALDESC:Évènements pour Quoi faire à Alma
REFRESH-INTERVAL;VALUE=DURATION:PT1H
X-Robots-Tag:noindex
X-PUBLISHED-TTL:PT1H
BEGIN:VTIMEZONE
TZID:America/New_York
BEGIN:DAYLIGHT
TZOFFSETFROM:-0500
TZOFFSETTO:-0400
TZNAME:EDT
DTSTART:20250309T070000
END:DAYLIGHT
BEGIN:STANDARD
TZOFFSETFROM:-0400
TZOFFSETTO:-0500
TZNAME:EST
DTSTART:20251102T060000
END:STANDARD
BEGIN:DAYLIGHT
TZOFFSETFROM:-0500
TZOFFSETTO:-0400
TZNAME:EDT
DTSTART:20260308T070000
END:DAYLIGHT
BEGIN:STANDARD
TZOFFSETFROM:-0400
TZOFFSETTO:-0500
TZNAME:EST
DTSTART:20261101T060000
END:STANDARD
BEGIN:DAYLIGHT
TZOFFSETFROM:-0500
TZOFFSETTO:-0400
TZNAME:EDT
DTSTART:20270314T070000
END:DAYLIGHT
BEGIN:STANDARD
TZOFFSETFROM:-0400
TZOFFSETTO:-0500
TZNAME:EST
DTSTART:20271107T060000
END:STANDARD
END:VTIMEZONE
BEGIN:VEVENT
DTSTART;TZID=America/New_York:20260521T103000
DTEND;TZID=America/New_York:20260521T120000
DTSTAMP:20260421T213656
CREATED:20260413T142602Z
LAST-MODIFIED:20260413T154344Z
UID:10003174-1779359400-1779364800@quoifairealma.com
SUMMARY:Dîner-causerie de l'AQDR Alma : Bouger en toute sécurité
DESCRIPTION:CONFÉRENCE GRATUITE // Repas facultatif à 10$/membre et à 15$/non-membre\nINSCRIPTIONS OBLIGATOIRES
URL:https://quoifairealma.com/evenement/diner-causerie-de-laqdr-alma-bouger-en-toute-securite/
LOCATION:Centre culturel\, 400\, rue Saint-Sacrement Ouest\, Alma\, G8B 7K8
CATEGORIES:Activités de loisir,Ateliers,Communauté,Loisirs et culture
ATTACH;FMTTYPE=image/jpeg:https://quoifairealma.com/app/uploads/2026/04/Capture-decran-2026-04-13-102318.jpg
ORGANIZER;CN="AQDR Alma":MAILTO:coordination@aqdralma.com
END:VEVENT
END:VCALENDAR