BEGIN:VCALENDAR
VERSION:2.0
PRODID:-//Quoi faire à Alma - ECPv6.15.14//NONSGML v1.0//EN
CALSCALE:GREGORIAN
METHOD:PUBLISH
X-ORIGINAL-URL:https://quoifairealma.com
X-WR-CALDESC:Évènements pour Quoi faire à Alma
REFRESH-INTERVAL;VALUE=DURATION:PT1H
X-Robots-Tag:noindex
X-PUBLISHED-TTL:PT1H
BEGIN:VTIMEZONE
TZID:America/New_York
BEGIN:DAYLIGHT
TZOFFSETFROM:-0500
TZOFFSETTO:-0400
TZNAME:EDT
DTSTART:20240310T070000
END:DAYLIGHT
BEGIN:STANDARD
TZOFFSETFROM:-0400
TZOFFSETTO:-0500
TZNAME:EST
DTSTART:20241103T060000
END:STANDARD
BEGIN:DAYLIGHT
TZOFFSETFROM:-0500
TZOFFSETTO:-0400
TZNAME:EDT
DTSTART:20250309T070000
END:DAYLIGHT
BEGIN:STANDARD
TZOFFSETFROM:-0400
TZOFFSETTO:-0500
TZNAME:EST
DTSTART:20251102T060000
END:STANDARD
BEGIN:DAYLIGHT
TZOFFSETFROM:-0500
TZOFFSETTO:-0400
TZNAME:EDT
DTSTART:20260308T070000
END:DAYLIGHT
BEGIN:STANDARD
TZOFFSETFROM:-0400
TZOFFSETTO:-0500
TZNAME:EST
DTSTART:20261101T060000
END:STANDARD
END:VTIMEZONE
BEGIN:VEVENT
DTSTART;TZID=America/New_York:20250608T113000
DTEND;TZID=America/New_York:20250608T140000
DTSTAMP:20260422T030717
CREATED:20250501T120429Z
LAST-MODIFIED:20250606T121803Z
UID:10001236-1749382200-1749391200@quoifairealma.com
SUMMARY:Fête des VOISINS
DESCRIPTION:Dimanche\, le comité des Quartiers Nord-Ouest\, Peintres et Chanteurs vous invite à une rencontre conviviale. Animation sur place : canon à mousse\, maquillage pour enfants\, sculptures de ballons. Dessert et breuvage vous seront offerts. Bienvenus à tous!
URL:https://quoifairealma.com/evenement/fete-des-voisins/
LOCATION:Parc Léveillée\, boulevard Champlain\, Alma\, Québec\, G8B 3P3\, Canada
CATEGORIES:Communauté,Fêtes de quartier
ATTACH;FMTTYPE=image/png:https://quoifairealma.com/app/uploads/2025/06/Copie-de-Programmation-janvier-2025-2.png
ORGANIZER;CN="Animation quartiers Nord-Ouest%2C Peintres et Chanteurs":MAILTO:30nathaliegagne@gmail.com
END:VEVENT
END:VCALENDAR