BEGIN:VCALENDAR
VERSION:2.0
PRODID:-//Quoi faire à Alma - ECPv6.15.14//NONSGML v1.0//EN
CALSCALE:GREGORIAN
METHOD:PUBLISH
X-WR-CALNAME:Quoi faire à Alma
X-ORIGINAL-URL:https://quoifairealma.com
X-WR-CALDESC:Évènements pour Quoi faire à Alma
REFRESH-INTERVAL;VALUE=DURATION:PT1H
X-Robots-Tag:noindex
X-PUBLISHED-TTL:PT1H
BEGIN:VTIMEZONE
TZID:America/New_York
BEGIN:DAYLIGHT
TZOFFSETFROM:-0500
TZOFFSETTO:-0400
TZNAME:EDT
DTSTART:20250309T070000
END:DAYLIGHT
BEGIN:STANDARD
TZOFFSETFROM:-0400
TZOFFSETTO:-0500
TZNAME:EST
DTSTART:20251102T060000
END:STANDARD
BEGIN:DAYLIGHT
TZOFFSETFROM:-0500
TZOFFSETTO:-0400
TZNAME:EDT
DTSTART:20260308T070000
END:DAYLIGHT
BEGIN:STANDARD
TZOFFSETFROM:-0400
TZOFFSETTO:-0500
TZNAME:EST
DTSTART:20261101T060000
END:STANDARD
BEGIN:DAYLIGHT
TZOFFSETFROM:-0500
TZOFFSETTO:-0400
TZNAME:EDT
DTSTART:20270314T070000
END:DAYLIGHT
BEGIN:STANDARD
TZOFFSETFROM:-0400
TZOFFSETTO:-0500
TZNAME:EST
DTSTART:20271107T060000
END:STANDARD
BEGIN:DAYLIGHT
TZOFFSETFROM:-0500
TZOFFSETTO:-0400
TZNAME:EDT
DTSTART:20280312T070000
END:DAYLIGHT
BEGIN:STANDARD
TZOFFSETFROM:-0400
TZOFFSETTO:-0500
TZNAME:EST
DTSTART:20281105T060000
END:STANDARD
END:VTIMEZONE
BEGIN:VEVENT
DTSTART;TZID=America/New_York:20260918T200000
DTEND;TZID=America/New_York:20260918T220000
DTSTAMP:20260422T010511
CREATED:20260421T145044Z
LAST-MODIFIED:20260421T145044Z
UID:10003421-1789761600-1789768800@quoifairealma.com
SUMMARY:François Bellefeuille
DESCRIPTION:François Bellefeuille est de retour sur scène avec son troisième spectacle : Sauvage. Hilarant\, incisif et imprévisible\, il livre une performance de stand-up à la fois intelligente et éclatée\, repoussant les limites de son style inimitable. L’humoriste\, dont la maîtrise du ridicule est à son apogée\, porte un regard tout aussi mordant sur le monde\, et vous entraîne dans un univers où la réalité côtoie l’absurde. Préparez-vous à avoir mal aux abdos; François Bellefeuille est au sommet de son art! Jusqu’au prochain spectacle… on l’espère!
URL:https://quoifairealma.com/evenement/francois-bellefeuille/
LOCATION:Salle Michel-Côté\, 850\, avenue Bégin\, Alma\, Québec\, G8B 5W2\, Canada
CATEGORIES:Humour et variétés,Spectacles et festivals
ATTACH;FMTTYPE=image/png:https://quoifairealma.com/app/uploads/2026/04/francois-bellefeuille.jpg
END:VEVENT
BEGIN:VEVENT
DTSTART;TZID=America/New_York:20261009T200000
DTEND;TZID=America/New_York:20261009T220000
DTSTAMP:20260422T010511
CREATED:20260421T145052Z
LAST-MODIFIED:20260421T145052Z
UID:10003427-1791576000-1791583200@quoifairealma.com
SUMMARY:Liliane Blanco-Binette
DESCRIPTION:Avec une lucidité désarmante et une autodérision qui frappe juste\, Liliane\, récipiendaire de l’Olivier 2026 de la Découverte de l’année\, propose un premier One Woman Show\, où l’humour se mêle à l’intime. Avec déjà plus de 25 000 billets vendus\, ce n’est pas un simple spectacle\, c’est une rencontre. Elle transforme ses vulnérabilités en matière comique\, révélant une façon décalée d’observer le monde et d’assumer ses contradictions. Entre confidences crues et complicité partagée\, elle entraîne le public dans un moment à la fois fragile et nécessaire\, où l’on se reconnaît dans ce qui nous échappe et nous dépasse. \n 
URL:https://quoifairealma.com/evenement/liliane-blanco-binette/
LOCATION:Salle Michel-Côté\, 850\, avenue Bégin\, Alma\, Québec\, G8B 5W2\, Canada
CATEGORIES:Humour et variétés,Spectacles et festivals
ATTACH;FMTTYPE=image/png:https://quoifairealma.com/app/uploads/2026/04/liliane-blanco-binette.jpg
END:VEVENT
BEGIN:VEVENT
DTSTART;TZID=America/New_York:20261011T200000
DTEND;TZID=America/New_York:20261011T220000
DTSTAMP:20260422T010511
CREATED:20260421T145048Z
LAST-MODIFIED:20260421T145048Z
UID:10003423-1791748800-1791756000@quoifairealma.com
SUMMARY:Dan Bigras
DESCRIPTION:Cette Voix se veut un témoignage d’affection de Dan Bigras envers son ami Gerry Boulet. Tout d’abord bouleversé à la première écoute de la chanson La voix que j’ai\, la carrière de Dan a été possible grâce à l’aide de celui qui allait devenir un grand ami musical : Gerry. Ce parcours unique vous sera raconté au travers d’anecdotes et de chansons gravitant autour de l’univers de ce rockeur plus grand que nature\, jusqu’à ce leg incroyable que fût Jézabel\, réalisé par Dan Bigras. \nDans ce spectacle\, Dan Bigras s’est donné le défi de ramener Gerry sur scène\, avec lui et ses musiciens\, afin d’entremêler leurs voix et leurs instruments.
URL:https://quoifairealma.com/evenement/dan-bigras/
LOCATION:Salle Michel-Côté\, 850\, avenue Bégin\, Alma\, Québec\, G8B 5W2\, Canada
CATEGORIES:Musique,Spectacles et festivals
ATTACH;FMTTYPE=image/png:https://quoifairealma.com/app/uploads/2026/04/dan-bigras.jpg
END:VEVENT
BEGIN:VEVENT
DTSTART;TZID=America/New_York:20261016T200000
DTEND;TZID=America/New_York:20261016T220000
DTSTAMP:20260422T010511
CREATED:20260421T145037Z
LAST-MODIFIED:20260421T145037Z
UID:10003415-1792180800-1792188000@quoifairealma.com
SUMMARY:Michel Barrette
DESCRIPTION:Dans son tout nouveau spectacle Drôle depuis 1957\, Michel Barrette revient en force avec un regard hilarant et tendre sur sa génération. Il y célèbre « la revanche des baby-boomers »\, ces jeunes d’hier devenus les grands sages d’aujourd’hui… mais toujours aussi irrévérencieux. À travers anecdotes savoureuses\, souvenirs touchants et observations mordantes\, il nous raconte son époque avec une énergie contagieuse. Entre rires et réflexions\, Michel prouve qu’on peut vieillir sans jamais cesser d’être drôle. Ce spectacle est une véritable lettre d’amour au passé… et un clin d’œil bien senti au présent
URL:https://quoifairealma.com/evenement/michel-barrette/
LOCATION:Salle Michel-Côté\, 850\, avenue Bégin\, Alma\, Québec\, G8B 5W2\, Canada
CATEGORIES:Humour et variétés,Spectacles et festivals
ATTACH;FMTTYPE=image/png:https://quoifairealma.com/app/uploads/2026/04/michel-barrette.jpg
END:VEVENT
BEGIN:VEVENT
DTSTART;TZID=America/New_York:20261107T200000
DTEND;TZID=America/New_York:20261107T220000
DTSTAMP:20260422T010511
CREATED:20260421T145038Z
LAST-MODIFIED:20260421T145038Z
UID:10003416-1794081600-1794088800@quoifairealma.com
SUMMARY:Ludovick Bourgeois
DESCRIPTION:Soutenu par un univers visuel éclaté\, Karaoké 90 se déploie en trois tableaux : les hits québécois\, ceux des BB et les mégatubes mondiaux. De Nirvana à Céline Dion\, en passant par U2\, Bon Jovi et Mario Pelchat\, Ludovick Bourgeois nous entraîne dans une véritable célébration musicale des années 90. Un moment de nostalgie et de plaisir partagé\, où chaque soir un spectateur montera sur scène pour chanter aux côtés de l’artiste dans une ambiance survoltée !
URL:https://quoifairealma.com/evenement/ludovick-bourgeois/
LOCATION:Salle Michel-Côté\, 850\, avenue Bégin\, Alma\, Québec\, G8B 5W2\, Canada
CATEGORIES:Musique,Spectacles et festivals
ATTACH;FMTTYPE=image/png:https://quoifairealma.com/app/uploads/2026/04/ludovick-bourgeois.jpg
END:VEVENT
BEGIN:VEVENT
DTSTART;TZID=America/New_York:20261114T200000
DTEND;TZID=America/New_York:20261114T220000
DTSTAMP:20260422T010511
CREATED:20260421T145043Z
LAST-MODIFIED:20260421T145043Z
UID:10003420-1794686400-1794693600@quoifairealma.com
SUMMARY:Fredz
DESCRIPTION:Avec On s’enverra des fleurs\, Fredz transforme la scène en un journal intime vivant. Entre fragilité et puissance\, il dépose ses doutes\, ses rêves et ses blessures dans des morceaux qui touchent droit au cœur. Chaque chanson devient un miroir où chacun peut retrouver un fragment de sa propre histoire. Porté par une mise en scène à la fois brute et poétique\, le spectacle allie émotion pure et énergie débordante\, offrant une expérience intense\, sensible et universelle. \nÀ seulement 23 ans\, Fredz s’impose comme l’une des voix les plus singulières de la nouvelle scène francophone ici comme à l’international. L’artiste québécois\, déjà fort de plus de 200 millions de streams et de 3 singles d’or\, s’est forgé une identité unique : un rap suave\, sensible et sans compromis. On s’enverra des fleurs marque une étape décisive : un album scénique\, fédérateur et profondément sincère\, qui ouvre un nouveau chapitre dans l’ascension fulgurante de Fredz.
URL:https://quoifairealma.com/evenement/fredz/
LOCATION:Salle Michel-Côté\, 850\, avenue Bégin\, Alma\, Québec\, G8B 5W2\, Canada
CATEGORIES:Musique,Spectacles et festivals
ATTACH;FMTTYPE=image/png:https://quoifairealma.com/app/uploads/2026/04/fredz.jpg
END:VEVENT
BEGIN:VEVENT
DTSTART;TZID=America/New_York:20261118T200000
DTEND;TZID=America/New_York:20261118T220000
DTSTAMP:20260422T010511
CREATED:20260421T145034Z
LAST-MODIFIED:20260421T145034Z
UID:10003413-1795032000-1795039200@quoifairealma.com
SUMMARY:Pierre-Yves Roy-Desmarais
DESCRIPTION:Après avoir remporté les Olivier du spectacle de l’année et d’auteur de l’année\, ainsi que le Félix du spectacle d’humour de l’année\, Pierre-Yves Roy-Desmarais élève son art à un niveau supérieur avec son deuxième spectacle.  \n Un soir\, alors qu’il ne s’attend à rien\, Pierre-Yves Roy-Desmarais vit un événement qui changera le cours de son existence.  \n Il tente tant bien que mal de garder le contrôle de sa vie\, mais le temps devient flou\, les souvenirs se mélangent et les unités de mesure ne veulent plus rien dire.  \n Avec tout ce qui lui arrive\, il a l’impression de vivre l’équivalent d’une année complète\, en seulement un an.  \n Une année en un an est un spectacle alliant stand-up\, chansons et fromage\, d’une durée de 75 centimètres.
URL:https://quoifairealma.com/evenement/pierre-yves-roy-desmarais/
LOCATION:Salle Michel-Côté\, 850\, avenue Bégin\, Alma\, Québec\, G8B 5W2\, Canada
CATEGORIES:Humour et variétés,Spectacles et festivals
ATTACH;FMTTYPE=image/png:https://quoifairealma.com/app/uploads/2026/04/pierre-yves-roy-desmarais.jpg
END:VEVENT
BEGIN:VEVENT
DTSTART;TZID=America/New_York:20261119T200000
DTEND;TZID=America/New_York:20261119T220000
DTSTAMP:20260422T010511
CREATED:20260421T145050Z
LAST-MODIFIED:20260421T145050Z
UID:10003425-1795118400-1795125600@quoifairealma.com
SUMMARY:Michel Rivard
DESCRIPTION:
URL:https://quoifairealma.com/evenement/michel-rivard/
LOCATION:Salle Michel-Côté\, 850\, avenue Bégin\, Alma\, Québec\, G8B 5W2\, Canada
CATEGORIES:Musique,Spectacles et festivals
ATTACH;FMTTYPE=image/png:https://quoifairealma.com/app/uploads/2026/04/michel-rivard.jpg
END:VEVENT
BEGIN:VEVENT
DTSTART;TZID=America/New_York:20261126T200000
DTEND;TZID=America/New_York:20261126T220000
DTSTAMP:20260422T010511
CREATED:20260421T145047Z
LAST-MODIFIED:20260421T145047Z
UID:10003422-1795723200-1795730400@quoifairealma.com
SUMMARY:Simon Gouache
DESCRIPTION:« Je vais faire ça\, pour l’instant… » C’est ce que Simon Gouache s’est dit quand il s’est lancé en stand-up\, il y a maintenant plus de vingt ans. Visiblement\, cet instant dure toujours. De ce qui devait être une courte aventure est née une grande passion\, qui est au premier plan de ce quatrième spectacle.
URL:https://quoifairealma.com/evenement/simon-gouache/
LOCATION:Salle Michel-Côté\, 850\, avenue Bégin\, Alma\, Québec\, G8B 5W2\, Canada
CATEGORIES:Humour et variétés,Spectacles et festivals
ATTACH;FMTTYPE=image/png:https://quoifairealma.com/app/uploads/2026/04/simon-gouache.jpg
END:VEVENT
BEGIN:VEVENT
DTSTART;TZID=America/New_York:20261128T200000
DTEND;TZID=America/New_York:20261128T220000
DTSTAMP:20260422T010511
CREATED:20260421T145051Z
LAST-MODIFIED:20260421T145051Z
UID:10003426-1795896000-1795903200@quoifairealma.com
SUMMARY:Pierre Hébert
DESCRIPTION:Tous les matins\, on se lève avec le même objectif : que notre vie soit grandiose! \nOn en rêve\, on s’épuise\, on se dénature\, on se casse la gueule et parfois\, pendant un court instant\, on y arrive. C’est à ce moment qu’on réalise que tout ça en valait la peine. Tout ce chemin\, tous ces efforts pour vivre ce moment parfait qui veut tout dire\, avant que tout se termine pour de bon. \nQuatre ans après la fi n de la tournée Le goût du risque\, Pierre Hébert reprend enfi n la route avec son nouveau spectacle : Grandiose \nOn y retrouve l’humoriste souvent moqueur\, parfois touchant\, qui porte un regard plein d’humour et d’émerveillement sur le monde qui l’entoure.
URL:https://quoifairealma.com/evenement/pierre-hebert/
LOCATION:Salle Michel-Côté\, 850\, avenue Bégin\, Alma\, Québec\, G8B 5W2\, Canada
CATEGORIES:Humour et variétés,Spectacles et festivals
ATTACH;FMTTYPE=image/png:https://quoifairealma.com/app/uploads/2026/04/pierre-hebert.jpg
END:VEVENT
BEGIN:VEVENT
DTSTART;TZID=America/New_York:20270123T200000
DTEND;TZID=America/New_York:20270123T220000
DTSTAMP:20260422T010511
CREATED:20260421T145041Z
LAST-MODIFIED:20260421T145041Z
UID:10003419-1800734400-1800741600@quoifairealma.com
SUMMARY:On s’lâche pas
DESCRIPTION:« On s’lâche pas\, c’est l’histoire des Proulx\, l’histoire d’une famille tissée serrée. C’est la relation qu’entretient Hubert avec son frère toxicomane : Steeven. Hubert livre cette histoire\, son histoire\, accompagné de son fils Viktor. On s’lâche pas c’est un récit captivant\, drôle et touchant qui aborde les modèles et la transmission. » \nAvec Hubert Proulx et Viktor Proulx \nMise en scène : Anne Dorval \n 
URL:https://quoifairealma.com/evenement/on-slache-pas/
LOCATION:Salle Michel-Côté\, 850\, avenue Bégin\, Alma\, Québec\, G8B 5W2\, Canada
CATEGORIES:Spectacles et festivals,Théâtre
ATTACH;FMTTYPE=image/png:https://quoifairealma.com/app/uploads/2026/04/on-slache-pas.jpg
END:VEVENT
BEGIN:VEVENT
DTSTART;TZID=America/New_York:20270204T200000
DTEND;TZID=America/New_York:20270204T220000
DTSTAMP:20260422T010511
CREATED:20260421T145040Z
LAST-MODIFIED:20260421T145040Z
UID:10003418-1801771200-1801778400@quoifairealma.com
SUMMARY:Vincent Vallières
DESCRIPTION:Vincent Vallières revient sur scène entouré de ses musiciens pour un tout nouveau spectacle\, où son imposant répertoire s’unit aux pièces de son nouvel album à paraître à l’automne 2025. Un spectacle à l’image de cet incontournable de la chanson québécoise: rassembleur\, vivant et authentique.
URL:https://quoifairealma.com/evenement/vincent-vallieres/
LOCATION:Salle Michel-Côté\, 850\, avenue Bégin\, Alma\, Québec\, G8B 5W2\, Canada
CATEGORIES:Musique,Spectacles et festivals
ATTACH;FMTTYPE=image/png:https://quoifairealma.com/app/uploads/2026/04/vincent-vallieres.jpg
END:VEVENT
BEGIN:VEVENT
DTSTART;TZID=America/New_York:20270225T200000
DTEND;TZID=America/New_York:20270225T220000
DTSTAMP:20260422T010511
CREATED:20260421T145039Z
LAST-MODIFIED:20260421T145039Z
UID:10003417-1803585600-1803592800@quoifairealma.com
SUMMARY:William Cloutier
DESCRIPTION:Entre la folle aventure Mixmania et sa performance mémorable dans Starmania\, 10 ans plus tard\, ce qui est sûr\, c’est que le gagnant de Star Académie 2021 a su s’imposer dans le paysage de la musique québécoise. En formule trio – accompagné d’Antoine Tousignant à la guitare et de Marie-Anne Tessier au drum – il interprète ses chansons avec une énergie brute et une proximité désarmante. \nDes plus grands succès de son album On ira (plus de 5 millions d’écoutes) aux titres plus récents de son opus L’amour paru en mars 2025\, William livre un spectacle vibrant\, porté par une voix exceptionnelle. Une formule épurée\, mais chargée d’émotion\, où chaque chanson devient un moment de partage sincère.
URL:https://quoifairealma.com/evenement/william-cloutier/
LOCATION:Salle Michel-Côté\, 850\, avenue Bégin\, Alma\, Québec\, G8B 5W2\, Canada
CATEGORIES:Musique,Spectacles et festivals
ATTACH;FMTTYPE=image/png:https://quoifairealma.com/app/uploads/2026/04/william-cloutier.jpg
END:VEVENT
BEGIN:VEVENT
DTSTART;TZID=America/New_York:20270313T200000
DTEND;TZID=America/New_York:20270313T220000
DTSTAMP:20260422T010511
CREATED:20260421T145049Z
LAST-MODIFIED:20260421T145049Z
UID:10003424-1804968000-1804975200@quoifairealma.com
SUMMARY:Sara Dufour
DESCRIPTION:À l’occasion de la parution de son nouvel album cet automne\, Sara Dufour annonce du même coup qu’elle repartira en tournée en salles partout au Québec en 2027. Entourée de ses musiciens\, elle propose un spectacle où se mêlent nouvelles chansons et incontournables\, porté par son authenticité\, son énergie contagieuse et sa proximité unique avec le public.
URL:https://quoifairealma.com/evenement/sara-dufour/
LOCATION:Salle Michel-Côté\, 850\, avenue Bégin\, Alma\, Québec\, G8B 5W2\, Canada
CATEGORIES:Musique,Spectacles et festivals
ATTACH;FMTTYPE=image/png:https://quoifairealma.com/app/uploads/2026/04/sara-dufour.jpg
END:VEVENT
END:VCALENDAR