BEGIN:VCALENDAR
VERSION:2.0
PRODID:-//Quoi faire à Alma - ECPv6.15.14//NONSGML v1.0//EN
CALSCALE:GREGORIAN
METHOD:PUBLISH
X-ORIGINAL-URL:https://quoifairealma.com
X-WR-CALDESC:Évènements pour Quoi faire à Alma
REFRESH-INTERVAL;VALUE=DURATION:PT1H
X-Robots-Tag:noindex
X-PUBLISHED-TTL:PT1H
BEGIN:VTIMEZONE
TZID:America/New_York
BEGIN:DAYLIGHT
TZOFFSETFROM:-0500
TZOFFSETTO:-0400
TZNAME:EDT
DTSTART:20240310T070000
END:DAYLIGHT
BEGIN:STANDARD
TZOFFSETFROM:-0400
TZOFFSETTO:-0500
TZNAME:EST
DTSTART:20241103T060000
END:STANDARD
BEGIN:DAYLIGHT
TZOFFSETFROM:-0500
TZOFFSETTO:-0400
TZNAME:EDT
DTSTART:20250309T070000
END:DAYLIGHT
BEGIN:STANDARD
TZOFFSETFROM:-0400
TZOFFSETTO:-0500
TZNAME:EST
DTSTART:20251102T060000
END:STANDARD
BEGIN:DAYLIGHT
TZOFFSETFROM:-0500
TZOFFSETTO:-0400
TZNAME:EDT
DTSTART:20260308T070000
END:DAYLIGHT
BEGIN:STANDARD
TZOFFSETFROM:-0400
TZOFFSETTO:-0500
TZNAME:EST
DTSTART:20261101T060000
END:STANDARD
BEGIN:DAYLIGHT
TZOFFSETFROM:-0500
TZOFFSETTO:-0400
TZNAME:EDT
DTSTART:20270314T070000
END:DAYLIGHT
BEGIN:STANDARD
TZOFFSETFROM:-0400
TZOFFSETTO:-0500
TZNAME:EST
DTSTART:20271107T060000
END:STANDARD
END:VTIMEZONE
BEGIN:VEVENT
DTSTART;TZID=America/New_York:20260418T080000
DTEND;TZID=America/New_York:20260419T170000
DTSTAMP:20260422T010807
CREATED:20260402T133756Z
LAST-MODIFIED:20260413T144000Z
UID:10002842-1776499200-1776618000@quoifairealma.com
SUMMARY:KOROS | La danse en réalité virtuelle
DESCRIPTION:KOROS s’arrête à la Salle Michel-Côté les 18 et 19 avril prochain. Venez vivre cette expérience immersive unique avant qu’elle reparte pour une autre ville de la tournée. \nLes commentaires sont unanimes : une expérience saisissante\, touchante et technologique. Vous n’avez pas encore réservé? Il est encore temps de le faire au koros.ca/alma \nGratuit et ouvert à tous! \nHoraire\nSamedi 18 avril : 17 h 30 à 19 h (avant Luc Langevin)\nDimanche 19 avril : 11 h 30 à 13 h (avant Duo Ostiguy-Dubé) \nKOROS est une expérience immersive de danse contemporaine en réalité virtuelle\, présentée gratuitement à Alma du 14 au 19 avril. Sur réservation\, le public est invité à enfiler un casque de réalité virtuelle pour se retrouver au centre de la scène\, entouré de danseur·euses en mouvement. Cette plongée sensorielle d’une vingtaine de minutes propose deux univers chorégraphiques signés Margie Gillis et Hélène Blackburn\, adaptés spécialement pour la réalité virtuelle. Produite par l’Agora de la danse\, KOROS allie création artistique et innovation technologique dans une tournée provinciale d’envergure\, offrant une occasion unique\, gratuite et accessible de vivre la danse contemporaine autrement. \nVisionnez un reportage sur KOROS juste ici : Vidéo
URL:https://quoifairealma.com/evenement/koros-la-danse-en-realite-virtuelle-2/
LOCATION:Salle Michel-Côté\, 850\, avenue Bégin\, Alma\, Québec\, G8B 5W2\, Canada
CATEGORIES:Danse,Expositions,Loisirs et culture,Spectacles et festivals
ATTACH;FMTTYPE=image/jpeg:https://quoifairealma.com/app/uploads/2026/04/koros-qfa.jpg
ORGANIZER;CN="Service des Loisirs et de la Culture":MAILTO:receptioncmt@ville.alma.qc.ca
END:VEVENT
BEGIN:VEVENT
DTSTART;TZID=America/New_York:20260221T193000
DTEND;TZID=America/New_York:20260221T213000
DTSTAMP:20260422T010807
CREATED:20260209T063304Z
LAST-MODIFIED:20260213T133857Z
UID:10001684-1771702200-1771709400@quoifairealma.com
SUMMARY:Concert Épique
DESCRIPTION:Plongez dans un univers sonore puissant et évocateur à l’occasion du Concert Épique qui unira la Musique du Régiment du Saguenay et la Musique du 62ᵉ Régiment d’artillerie de campagne. Ce concert propose un programme riche en contrastes\, en émotions et en intensité\, mettant en valeur des œuvres comme « Moment for Morricone » et « How to Train Your Dragon » !\nChaque pièce interprétée vous transportera à travers des paysages musicaux saisissants\, où se mêlent grandeur\, tension et lyrisme. Que vous soyez passionné de musique ou simplement curieux de vivre une expérience artistique forte\, ce concert saura vous captiver du début à la fin. \n📅 Samedi 21 février\n🕢 19 h 30\n📍 Salle Michel-Côté\, Alma\n🎟️ Gratuit – Entrée libre \nUne occasion parfaite de sortir\, de découvrir ou de redécouvrir la musique en concert\, et de partager un moment unique entre amis ou en famille.\nNous avons très hâte de vous y accueillir en grand nombre !
URL:https://quoifairealma.com/evenement/concert-epique/
LOCATION:Salle Michel-Côté\, 850\, avenue Bégin\, Alma\, Québec\, G8B 5W2\, Canada
CATEGORIES:Musique,Spectacles et festivals
ATTACH;FMTTYPE=image/jpeg:https://quoifairealma.com/app/uploads/2026/02/1000008226.jpg
ORGANIZER;CN="R%C3%A9giment du Saguenay":MAILTO:Fontaine.olivier50@gmail.com
END:VEVENT
BEGIN:VEVENT
DTSTART;TZID=America/New_York:20251220T140000
DTEND;TZID=America/New_York:20251221T160000
DTSTAMP:20260422T010807
CREATED:20251124T145214Z
LAST-MODIFIED:20251124T203235Z
UID:10000989-1766239200-1766332800@quoifairealma.com
SUMMARY:Casse-Noisette
DESCRIPTION:Le Prisme culturel vous invite à plonger dans l’univers féérique de Casse-Noisette\, l’une des plus belles traditions du temps des fêtes. \nSur scène\, les danseurs présentent des extraits du conte devenu un classique de Noël\, accompagnés de la merveilleuse musique de Tchaïkovski\, dans un décor enchanteur. La veille de Noël\, Clara reçoit un Casse-Noisette magique de son parrain Drosselmeyer. Endormie\, elle se retrouve au cœur d’une bataille entre souris\, rats et soldats de plomb\, jusqu’à ce que le Casse-Noisette s’anime pour la sauver. Ils partent alors pour un merveilleux pays\, rempli de surprises et de découvertes. \n20 décembre 14 h\, 21 décembre 10 h et 14 h. \nAdulte: 47$\nÉtudiant/Aîné: 42$\nEnfant: 22$
URL:https://quoifairealma.com/evenement/casse-noisette/
LOCATION:Salle Michel-Côté\, 850\, avenue Bégin\, Alma\, Québec\, G8B 5W2\, Canada
CATEGORIES:Danse,Spectacles et festivals
ATTACH;FMTTYPE=image/jpeg:https://quoifairealma.com/app/uploads/2025/11/Creation-sans-titre-scaled.jpg
END:VEVENT
BEGIN:VEVENT
DTSTART;TZID=America/New_York:20251011T193000
DTEND;TZID=America/New_York:20251011T210000
DTSTAMP:20260422T010807
CREATED:20250825T193346Z
LAST-MODIFIED:20250828T123339Z
UID:10000925-1760211000-1760216400@quoifairealma.com
SUMMARY:Marc Hervieux : Nostalgia - la suite
DESCRIPTION:Spectacle de Marc Hervieux : Nostalgia – la suite \nÀ la demande générale\, il est temps de vous présenter une suite à Nostalgia. \nCette fois-ci\, un Nostalgia à majorité francophone\, mais également agrémenté de grandes chansons en italien\, en anglais et en espagnol… Des succès inoubliables qui vous rappelleront de magnifiques souvenirs. Vous ne pourrez pas vous empêcher de chanter ou de fredonner avec nous ces mélodies qui ont marqué vos vies depuis votre tendre enfance. \nRetrouvez moi pour réentendre les succès de Charles Aznavour\, Gilbert Bécaud\, Jacques Brel\, Gerry Boulet\, Paul Daraîche\, Michel Sardou\, Johnny Hallyday\, Michel Fugain\, Daniel Lavoie et bien d’autres encore… \nPartez en voyage au son de Volare\, Arrivederci Roma ou Sorridi amore vai… \nUne soirée où se croisent musique populaire et classique\, grandes chansons\, comédies musicales et opéra… Une soirée grandiose et intime à la fois. Des histoires et des anecdotes pour rire un bon coup ensemble. \nJ’ai hâte de poursuivre l’aventure avec vous\, chez vous\, ensemble!
URL:https://quoifairealma.com/evenement/marc-hervieux-nostalgia-la-suite/
LOCATION:Salle Michel-Côté\, 850\, avenue Bégin\, Alma\, Québec\, G8B 5W2\, Canada
CATEGORIES:Musique,Spectacles et festivals
ATTACH;FMTTYPE=image/jpeg:https://quoifairealma.com/app/uploads/2025/08/c7c478261c22c4228162b49a51369f03da379253-marc-hervieux-.jpg
ORGANIZER;CN="Fondation de l'H%C3%B4tel -Dieu d'Alma":MAILTO:jean.lamoureux.csssl@ssss.gouv.qc.ca
END:VEVENT
END:VCALENDAR