BEGIN:VCALENDAR
VERSION:2.0
PRODID:-//Quoi faire à Alma - ECPv6.15.14//NONSGML v1.0//EN
CALSCALE:GREGORIAN
METHOD:PUBLISH
X-ORIGINAL-URL:https://quoifairealma.com
X-WR-CALDESC:Évènements pour Quoi faire à Alma
REFRESH-INTERVAL;VALUE=DURATION:PT1H
X-Robots-Tag:noindex
X-PUBLISHED-TTL:PT1H
BEGIN:VTIMEZONE
TZID:America/New_York
BEGIN:DAYLIGHT
TZOFFSETFROM:-0500
TZOFFSETTO:-0400
TZNAME:EDT
DTSTART:20240310T070000
END:DAYLIGHT
BEGIN:STANDARD
TZOFFSETFROM:-0400
TZOFFSETTO:-0500
TZNAME:EST
DTSTART:20241103T060000
END:STANDARD
BEGIN:DAYLIGHT
TZOFFSETFROM:-0500
TZOFFSETTO:-0400
TZNAME:EDT
DTSTART:20250309T070000
END:DAYLIGHT
BEGIN:STANDARD
TZOFFSETFROM:-0400
TZOFFSETTO:-0500
TZNAME:EST
DTSTART:20251102T060000
END:STANDARD
BEGIN:DAYLIGHT
TZOFFSETFROM:-0500
TZOFFSETTO:-0400
TZNAME:EDT
DTSTART:20260308T070000
END:DAYLIGHT
BEGIN:STANDARD
TZOFFSETFROM:-0400
TZOFFSETTO:-0500
TZNAME:EST
DTSTART:20261101T060000
END:STANDARD
END:VTIMEZONE
BEGIN:VEVENT
DTSTART;TZID=America/New_York:20251023T183000
DTEND;TZID=America/New_York:20251023T203000
DTSTAMP:20260422T082936
CREATED:20250930T151705Z
LAST-MODIFIED:20250930T151705Z
UID:10001509-1761244200-1761251400@quoifairealma.com
SUMMARY:Café réparation
DESCRIPTION:Apportez vos objets brisés à notre équipe qui se déplace pour l’occasion à la quincaillerie Réemploi+. Découvrez ce lieu de réutilisation et apprenez comment réparer vos objets. Un moyen efficace de donner une nouvelle vie à vos objets\, d’économiser en réutilisant et surtout\, d’éviter le gaspillage pour le bien de l’environnement. \nMathieu Tremblay et Gabriel Arsenault vous y attendent\, avec leur équipe de bénévoles réparateurs. Vous êtes un réparateur qui aimerait donner un coup de main? Venez nous rencontrer pour évaluer la possibilité de vous joindre à l’équipe. \nNous fournissons tous les outils nécessaires à la réparation. \nCoût : Gratuit !
URL:https://quoifairealma.com/evenement/cafe-reparation-2/
LOCATION:Quincaillerie Réemploi +
CATEGORIES:Ateliers,Ateliers et bricolage,Communauté,Loisirs et culture,Science et technologies
ATTACH;FMTTYPE=image/png:https://quoifairealma.com/app/uploads/2025/09/19.png
ORGANIZER;CN="Biblioth%C3%A8que d'Alma":MAILTO:bibliotheque@ville.alma.qc.ca
END:VEVENT
END:VCALENDAR