BEGIN:VCALENDAR
VERSION:2.0
PRODID:-//Quoi faire à Alma - ECPv6.15.14//NONSGML v1.0//EN
CALSCALE:GREGORIAN
METHOD:PUBLISH
X-ORIGINAL-URL:https://quoifairealma.com
X-WR-CALDESC:Évènements pour Quoi faire à Alma
REFRESH-INTERVAL;VALUE=DURATION:PT1H
X-Robots-Tag:noindex
X-PUBLISHED-TTL:PT1H
BEGIN:VTIMEZONE
TZID:America/New_York
BEGIN:DAYLIGHT
TZOFFSETFROM:-0500
TZOFFSETTO:-0400
TZNAME:EDT
DTSTART:20250309T070000
END:DAYLIGHT
BEGIN:STANDARD
TZOFFSETFROM:-0400
TZOFFSETTO:-0500
TZNAME:EST
DTSTART:20251102T060000
END:STANDARD
BEGIN:DAYLIGHT
TZOFFSETFROM:-0500
TZOFFSETTO:-0400
TZNAME:EDT
DTSTART:20260308T070000
END:DAYLIGHT
BEGIN:STANDARD
TZOFFSETFROM:-0400
TZOFFSETTO:-0500
TZNAME:EST
DTSTART:20261101T060000
END:STANDARD
BEGIN:DAYLIGHT
TZOFFSETFROM:-0500
TZOFFSETTO:-0400
TZNAME:EDT
DTSTART:20270314T070000
END:DAYLIGHT
BEGIN:STANDARD
TZOFFSETFROM:-0400
TZOFFSETTO:-0500
TZNAME:EST
DTSTART:20271107T060000
END:STANDARD
END:VTIMEZONE
BEGIN:VEVENT
DTSTART;TZID=America/New_York:20260221T070000
DTEND;TZID=America/New_York:20260221T160000
DTSTAMP:20260425T103819
CREATED:20251209T153124Z
LAST-MODIFIED:20251209T160428Z
UID:10001123-1771657200-1771689600@quoifairealma.com
SUMMARY:Tournoi de pêche blanche Alma-Niaque et ses Bénévoles
DESCRIPTION:Il s’agit du Tournoi de pêche blanche Alma-Niaque et ses Bénévoles\, la 4e édition.\n​Date : 21 Février 2026\n​Heures : 7h00 à 16h00\n​Coûts : 15$ pour la compétition\, gratuit pour la relève (17 ans et moins).\n​But : Au profit de la communauté.
URL:https://quoifairealma.com/evenement/tournoi-de-peche-blanche-alma-niaque-et-ses-benevoles/
LOCATION:quai Villa Saguenay\, 30 Av. du Quai #4b\, Alma\, Québec\, G8B 2M7
CATEGORIES:Activités de loisir,Loisirs et culture
ATTACH;FMTTYPE=image/jpeg:https://quoifairealma.com/app/uploads/2025/12/tournoi-peche.jpg
ORGANIZER;CN="Alma-Niaque d'la p%C3%AAche":MAILTO:michel.fleury.411@hotmail.ca
END:VEVENT
BEGIN:VEVENT
DTSTART;TZID=America/New_York:20260221T070000
DTEND;TZID=America/New_York:20260221T153000
DTSTAMP:20260425T103819
CREATED:20260120T153803Z
LAST-MODIFIED:20260120T153803Z
UID:10001635-1771657200-1771687800@quoifairealma.com
SUMMARY:Tournoi de pêche blanche Alma-Niaque et ses Bénévoles 4e édition
DESCRIPTION:Tournoi de pêche blanche au profit de la communauté !Nous sommes fier de remettre 70% des recettes au Refuge pour personnes en situation d’itinérance « Le Passage » chevronné par le « Centre le Renfort »L’autre 30% pour le site d’Accès pêche communautaire Alma !Venez participer encore grand nombre Plusieurs prix à gagner !
URL:https://quoifairealma.com/evenement/tournoi-de-peche-blanche-alma-niaque-et-ses-benevoles-4e-edition/
LOCATION:quai Villa Saguenay\, 30 Av. du Quai #4b\, Alma\, Québec\, G8B 2M7
CATEGORIES:Activités de plein air,Activités sportives,Communauté,Événements,Sports et plein air
ATTACH;FMTTYPE=image/jpeg:https://quoifairealma.com/app/uploads/2026/01/618972282_3657096297764914_6219447059526231150_n.jpg
ORGANIZER;CN="Alma-Niaque d'la p%C3%AAche":MAILTO:michel.fleury.411@hotmail.ca
END:VEVENT
BEGIN:VEVENT
DTSTART;TZID=America/New_York:20260103T000000
DTEND;TZID=America/New_York:20260315T000000
DTSTAMP:20260425T103819
CREATED:20251209T152530Z
LAST-MODIFIED:20251209T155936Z
UID:10000997-1767398400-1773532800@quoifairealma.com
SUMMARY:Accès pêche communautaire Alma
DESCRIPTION:Accès Pêche Communautaire Alma (5e édition) \n​Il s’agit d’une activité de pêche blanche (sur glace) communautaire très populaire à Alma. Le concept principal est d’offrir des trous de pêche déjà forés et entretenus pour faciliter l’accès à ce loisir\, notamment pour les familles et ceux qui n’ont pas l’équipement nécessaire.
URL:https://quoifairealma.com/evenement/acces-peche-communautaire-alma/
LOCATION:quai Villa Saguenay\, 30 Av. du Quai #4b\, Alma\, Québec\, G8B 2M7
CATEGORIES:Activités de loisir,Communauté,Fêtes de quartier
ATTACH;FMTTYPE=image/jpeg:https://quoifairealma.com/app/uploads/2025/12/almaniaque-peche.jpg
ORGANIZER;CN="Alma-Niaque d'la p%C3%AAche":MAILTO:michel.fleury.411@hotmail.ca
END:VEVENT
END:VCALENDAR