BEGIN:VCALENDAR
VERSION:2.0
PRODID:-//Quoi faire à Alma - ECPv6.15.14//NONSGML v1.0//EN
CALSCALE:GREGORIAN
METHOD:PUBLISH
X-ORIGINAL-URL:https://quoifairealma.com
X-WR-CALDESC:Évènements pour Quoi faire à Alma
REFRESH-INTERVAL;VALUE=DURATION:PT1H
X-Robots-Tag:noindex
X-PUBLISHED-TTL:PT1H
BEGIN:VTIMEZONE
TZID:America/New_York
BEGIN:DAYLIGHT
TZOFFSETFROM:-0500
TZOFFSETTO:-0400
TZNAME:EDT
DTSTART:20240310T070000
END:DAYLIGHT
BEGIN:STANDARD
TZOFFSETFROM:-0400
TZOFFSETTO:-0500
TZNAME:EST
DTSTART:20241103T060000
END:STANDARD
BEGIN:DAYLIGHT
TZOFFSETFROM:-0500
TZOFFSETTO:-0400
TZNAME:EDT
DTSTART:20250309T070000
END:DAYLIGHT
BEGIN:STANDARD
TZOFFSETFROM:-0400
TZOFFSETTO:-0500
TZNAME:EST
DTSTART:20251102T060000
END:STANDARD
BEGIN:DAYLIGHT
TZOFFSETFROM:-0500
TZOFFSETTO:-0400
TZNAME:EDT
DTSTART:20260308T070000
END:DAYLIGHT
BEGIN:STANDARD
TZOFFSETFROM:-0400
TZOFFSETTO:-0500
TZNAME:EST
DTSTART:20261101T060000
END:STANDARD
BEGIN:DAYLIGHT
TZOFFSETFROM:-0500
TZOFFSETTO:-0400
TZNAME:EDT
DTSTART:20270314T070000
END:DAYLIGHT
BEGIN:STANDARD
TZOFFSETFROM:-0400
TZOFFSETTO:-0500
TZNAME:EST
DTSTART:20271107T060000
END:STANDARD
END:VTIMEZONE
BEGIN:VEVENT
DTSTART;TZID=America/New_York:20260221T130000
DTEND;TZID=America/New_York:20260221T160000
DTSTAMP:20260421T194521
CREATED:20260205T150322Z
LAST-MODIFIED:20260205T152025Z
UID:10001667-1771678800-1771689600@quoifairealma.com
SUMMARY:Activités création en plein air | À faire en famille
DESCRIPTION:Dans le cadre du Bifröst 2026\n\nVenez jouer avec les couleurs de l’hiver \nPlongez dans l’univers magique de la Mosaïque de glace\, une activité créative et familiale en plein air qui fera briller votre samedi! \n📅 Samedi 21 février | 13 h à 16 h\n📍 Plaines vertes\, à côté de la Place Festivalma \nLaissez libre cours à votre imagination\, créez votre propre œuvre givrée et profitez de l’ambiance festive du site.\nQue vous soyez petits ou grands\, artistes ou curieux… tout le monde est invité! \n✨ GRATUIT | OUVERT À TOUS\nEt tant qu’à être là… pourquoi ne pas en profiter pour vous glisser? \n❄️ On a hâte de vous voir!
URL:https://quoifairealma.com/evenement/activites-creation-en-plein-air-a-faire-en-famille/
LOCATION:Plaines vertes\, "Entre le Centre Mario-Tremblay et rue Gauthier. À proximité de Place Festivalma"\, Alma
CATEGORIES:Activités de loisir,Activités de plein air,Événements
ATTACH;FMTTYPE=image/png:https://quoifairealma.com/app/uploads/2026/02/Quoi-Faire.png
END:VEVENT
BEGIN:VEVENT
DTSTART;TZID=America/New_York:20250824T100000
DTEND;TZID=America/New_York:20250824T160000
DTSTAMP:20260421T194521
CREATED:20250808T140859Z
LAST-MODIFIED:20250820T130905Z
UID:10001028-1756029600-1756051200@quoifairealma.com
SUMMARY:𝙏𝙊𝙐𝙍𝙉𝙊𝙄 𝘼𝙈𝙄𝘾𝘼𝙇 𝘿𝙀 𝙎𝙊𝘾𝘾𝙀𝙍 𝙄𝙉𝙏𝙀𝙍𝘾𝙐𝙇𝙏𝙐𝙍𝙀𝙇 - 𝘼𝙇𝙈𝘼
DESCRIPTION:Viens partager ta passion du soccer (ou « futbal ») avec nous dans une ambiance amicale et iclusive ! Que tu sois un adepte ou un novice\, tu es le bienvenu! Invite tes amis\, tes collègues\, ta famille\, tes voisins…! \n👉 Quand ? 24 août 2025\, de 10h à 16h\n👉 Où ? Plaines vertes du Centre Mario-Tremblay (Club de soccer Boréal d’Alma)\, 770\, rue Gauthier\, Alma\, G8B 2K8\n👉 Qui ? Ouvert à toutes et tous (16 ans et plus)\n👉 Coût ? Gratuit ! \nAu programme : matchs amicaux\, une ambiance festive et pleins de belles rencontres! \nDes collations ainsi qu’un dîner seront disponibles gratuitement sur place. \nActivité ouverte à la collectivité! Joins-toi à nous! ⚽⚽⚽ \nInscris-toi vite par ici 👇\nhttps://forms.office.com/r/B1xNAZccKu?origin=lprLink \nSuis l’évènement juste ici 👉 https://www.facebook.com/share/1F936yFnDa/ \nOn a hâte de t’y voir!⚽🤝🥅
URL:https://quoifairealma.com/evenement/%f0%9d%99%8f%f0%9d%99%8a%f0%9d%99%90%f0%9d%99%8d%f0%9d%99%89%f0%9d%99%8a%f0%9d%99%84-%f0%9d%98%bc%f0%9d%99%88%f0%9d%99%84%f0%9d%98%be%f0%9d%98%bc%f0%9d%99%87-%f0%9d%98%bf%f0%9d%99%80-%f0%9d%99%8e/
LOCATION:Plaines vertes\, "Entre le Centre Mario-Tremblay et rue Gauthier. À proximité de Place Festivalma"\, Alma
CATEGORIES:Activités sportives,Sports et plein air
ATTACH;FMTTYPE=image/jpeg:https://quoifairealma.com/app/uploads/2025/08/Soccer.jpg
END:VEVENT
BEGIN:VEVENT
DTSTART;TZID=America/New_York:20250801T090000
DTEND;TZID=America/New_York:20250801T110000
DTSTAMP:20260421T194521
CREATED:20250605T192717Z
LAST-MODIFIED:20250728T185858Z
UID:10001243-1754038800-1754046000@quoifairealma.com
SUMMARY:Atelier de découverte au verger
DESCRIPTION:Venez découvrir des arbres fruitiers\, goûtez de petites dégustations et choisissez un peu de cueillette.  \nEn cas de pluie : Remis au lendemain même heure\, même endroit. En cas de pluie une seconde fois\, annulé.  
URL:https://quoifairealma.com/evenement/atelier-de-decouverte-au-verger-8/
LOCATION:Plaines vertes\, "Entre le Centre Mario-Tremblay et rue Gauthier. À proximité de Place Festivalma"\, Alma
CATEGORIES:Ateliers,Communauté
ATTACH;FMTTYPE=image/png:https://quoifairealma.com/app/uploads/2025/06/Brown-Beige-Creative-Fitness-Training-YouTube-Banner-3.png
END:VEVENT
BEGIN:VEVENT
DTSTART;TZID=America/New_York:20250609T121000
DTEND;TZID=America/New_York:20250906T124000
DTSTAMP:20260421T194521
CREATED:20250702T132945Z
LAST-MODIFIED:20250702T132945Z
UID:10001607-1749471000-1757162400@quoifairealma.com
SUMMARY:Entraînement midi pour tous- Cardio Plein air
DESCRIPTION:🔥 Entraînement sur l’heure du dîner – Pour tous les niveaux ! 💪🍽️ \n📅 Tous les mardis & jeudis🕛 De 12h10 à 12h40 \n\n\n🏃 Tabata \n\n\n⏱️ Intervalles \n\n\n🔁 Circuits… et plus encore ! \n\n\n🧘‍♂️ Apportez votre tapis de sol si vous en avez un ! \n📍 Point de rencontre :🚗 Stationnement du 770 rue Gauthier \nPoint de rencontre : Stationnement du 770 rue gauthier
URL:https://quoifairealma.com/evenement/entrainement-midi-pour-tous-cardio-plein-air/
LOCATION:Plaines vertes\, "Entre le Centre Mario-Tremblay et rue Gauthier. À proximité de Place Festivalma"\, Alma
CATEGORIES:Activités sportives,Sports et plein air
ATTACH;FMTTYPE=image/jpeg:https://quoifairealma.com/app/uploads/2025/07/cardio-plein-air-3.jpg
END:VEVENT
BEGIN:VEVENT
DTSTART;TZID=America/New_York:20250303T080000
DTEND;TZID=America/New_York:20250516T160000
DTSTAMP:20260421T194521
CREATED:20250320T181631Z
LAST-MODIFIED:20250327T131508Z
UID:10000963-1740988800-1747411200@quoifairealma.com
SUMMARY:Inscriptions soccer été 2025
DESCRIPTION:Les inscriptions pour la saison estivale de soccer 2025 sont en cours au Boréal d’Alma ! Venez vous amuser tout l’été sur nos terrains ! Cette activité débute pour les enfants nés en 2021 et moins. Pour plus d’informations\, consultez notre site Internet au socceralma.com
URL:https://quoifairealma.com/evenement/inscriptions-soccer-ete-2025/
LOCATION:Plaines vertes\, "Entre le Centre Mario-Tremblay et rue Gauthier. À proximité de Place Festivalma"\, Alma
CATEGORIES:Activités sportives,Sports et plein air
ATTACH;FMTTYPE=image/jpeg:https://quoifairealma.com/app/uploads/2025/03/image-modifier1.jpg
ORGANIZER;CN="Club de soccer Bor%C3%A9al":MAILTO:direction@socceralma.com
END:VEVENT
END:VCALENDAR