BEGIN:VCALENDAR
VERSION:2.0
PRODID:-//Quoi faire à Alma - ECPv6.15.14//NONSGML v1.0//EN
CALSCALE:GREGORIAN
METHOD:PUBLISH
X-ORIGINAL-URL:https://quoifairealma.com
X-WR-CALDESC:Évènements pour Quoi faire à Alma
REFRESH-INTERVAL;VALUE=DURATION:PT1H
X-Robots-Tag:noindex
X-PUBLISHED-TTL:PT1H
BEGIN:VTIMEZONE
TZID:America/New_York
BEGIN:DAYLIGHT
TZOFFSETFROM:-0500
TZOFFSETTO:-0400
TZNAME:EDT
DTSTART:20240310T070000
END:DAYLIGHT
BEGIN:STANDARD
TZOFFSETFROM:-0400
TZOFFSETTO:-0500
TZNAME:EST
DTSTART:20241103T060000
END:STANDARD
BEGIN:DAYLIGHT
TZOFFSETFROM:-0500
TZOFFSETTO:-0400
TZNAME:EDT
DTSTART:20250309T070000
END:DAYLIGHT
BEGIN:STANDARD
TZOFFSETFROM:-0400
TZOFFSETTO:-0500
TZNAME:EST
DTSTART:20251102T060000
END:STANDARD
BEGIN:DAYLIGHT
TZOFFSETFROM:-0500
TZOFFSETTO:-0400
TZNAME:EDT
DTSTART:20260308T070000
END:DAYLIGHT
BEGIN:STANDARD
TZOFFSETFROM:-0400
TZOFFSETTO:-0500
TZNAME:EST
DTSTART:20261101T060000
END:STANDARD
END:VTIMEZONE
BEGIN:VEVENT
DTSTART;TZID=America/New_York:20250821T000000
DTEND;TZID=America/New_York:20250821T000000
DTSTAMP:20260425T232329
CREATED:20250723T180455Z
LAST-MODIFIED:20250818T182037Z
UID:10001609-1755734400-1755734400@quoifairealma.com
SUMMARY:Lancement des aménagements du parc Sainte-Marie | Événement reporté
DESCRIPTION:🌊 Lancement des aménagements du parc Sainte-Marie à l’Isle Maligne🎉 \nVous êtes invités à assister au lancement officiel des jeux d’eau et des aménagements du Parc Sainte-Marie. 💦 \n📍 Parc Sainte-Marie\, à l’Isle-Maligne\, 1671 Avenue du Pont Nord\n📅 À VENIR \nVenez célébrer avec nous ce nouvel aménagement en famille ou entre amis. 🎈☀️Une belle occasion de se rassembler et de s’amuser ! \n👉 On vous attend !
URL:https://quoifairealma.com/evenement/lancement-des-amenagements-du-parc-sainte-marie/
LOCATION:Parc Sainte-Marie\, à l'arrière de la Maison des Bâtisseurs (Isle-Maligne)
CATEGORIES:Communauté,Événements
ATTACH;FMTTYPE=image/jpeg:https://quoifairealma.com/app/uploads/2025/08/evenement-reporte-01-scaled.jpg
END:VEVENT
END:VCALENDAR