BEGIN:VCALENDAR
VERSION:2.0
PRODID:-//Quoi faire à Alma - ECPv6.15.14//NONSGML v1.0//EN
CALSCALE:GREGORIAN
METHOD:PUBLISH
X-WR-CALNAME:Quoi faire à Alma
X-ORIGINAL-URL:https://quoifairealma.com
X-WR-CALDESC:Évènements pour Quoi faire à Alma
REFRESH-INTERVAL;VALUE=DURATION:PT1H
X-Robots-Tag:noindex
X-PUBLISHED-TTL:PT1H
BEGIN:VTIMEZONE
TZID:America/New_York
BEGIN:DAYLIGHT
TZOFFSETFROM:-0500
TZOFFSETTO:-0400
TZNAME:EDT
DTSTART:20240310T070000
END:DAYLIGHT
BEGIN:STANDARD
TZOFFSETFROM:-0400
TZOFFSETTO:-0500
TZNAME:EST
DTSTART:20241103T060000
END:STANDARD
BEGIN:DAYLIGHT
TZOFFSETFROM:-0500
TZOFFSETTO:-0400
TZNAME:EDT
DTSTART:20250309T070000
END:DAYLIGHT
BEGIN:STANDARD
TZOFFSETFROM:-0400
TZOFFSETTO:-0500
TZNAME:EST
DTSTART:20251102T060000
END:STANDARD
BEGIN:DAYLIGHT
TZOFFSETFROM:-0500
TZOFFSETTO:-0400
TZNAME:EDT
DTSTART:20260308T070000
END:DAYLIGHT
BEGIN:STANDARD
TZOFFSETFROM:-0400
TZOFFSETTO:-0500
TZNAME:EST
DTSTART:20261101T060000
END:STANDARD
END:VTIMEZONE
BEGIN:VEVENT
DTSTART;TZID=America/New_York:20250816T100000
DTEND;TZID=America/New_York:20250816T150000
DTSTAMP:20260422T010348
CREATED:20250728T125109Z
LAST-MODIFIED:20250804T191256Z
UID:10001026-1755338400-1755356400@quoifairealma.com
SUMMARY:10e anniversaire du Verger collectif Dollard
DESCRIPTION:🍏 Célébrons les 10 ans du premier verger collectif d’Alma! 🎉 \n📅 Une journée remplie d’activités vous attend :🤹 Animation par Les Fous du Roi🍽️ Dîner à prix modique🌳 Visite du verger🎶 Animation musicale🥤 Jus de pommes fraîchement pressé🎁 Et bien d’autres surprises! \n✨ Bienvenue à tous et à toutes pour cette belle fête en plein air!
URL:https://quoifairealma.com/evenement/10e-anniversaire-du-verger-collectif-dollard/
LOCATION:Parc Dollard\, rue Dollard\, Alma\, Québec\, Canada
CATEGORIES:Communauté,Fêtes de quartier
ATTACH;FMTTYPE=image/jpeg:https://quoifairealma.com/app/uploads/2025/08/verger-du-dollar.jpg
GEO:48.533465;-71.636611
X-APPLE-STRUCTURED-LOCATION;VALUE=URI;X-ADDRESS=Parc Dollard rue Dollard Alma Québec Canada;X-APPLE-RADIUS=500;X-TITLE=rue Dollard:geo:-71.636611,48.533465
END:VEVENT
BEGIN:VEVENT
DTSTART;TZID=America/New_York:20250729T130000
DTEND;TZID=America/New_York:20250729T150000
DTSTAMP:20260422T010348
CREATED:20250605T194154Z
LAST-MODIFIED:20250710T125240Z
UID:10001244-1753794000-1753801200@quoifairealma.com
SUMMARY:Atelier de découverte au verger
DESCRIPTION:Venez découvrir des arbres fruitiers\, goûtez de petites dégustations et choisissez un peu de cueillette.  \nEn cas de pluie : Remis au lendemain même heure\, même endroit. En cas de pluie une seconde fois\, annulé.  
URL:https://quoifairealma.com/evenement/atelier-de-decouverte-au-verger-9/
LOCATION:Parc Dollard\, rue Dollard\, Alma\, Québec\, Canada
CATEGORIES:Ateliers,Communauté
ATTACH;FMTTYPE=image/png:https://quoifairealma.com/app/uploads/2025/06/Brown-Beige-Creative-Fitness-Training-YouTube-Banner-4-3.png
ORGANIZER;CN="Service des Loisirs et de la Culture":MAILTO:receptioncmt@ville.alma.qc.ca
GEO:48.533465;-71.636611
X-APPLE-STRUCTURED-LOCATION;VALUE=URI;X-ADDRESS=Parc Dollard rue Dollard Alma Québec Canada;X-APPLE-RADIUS=500;X-TITLE=rue Dollard:geo:-71.636611,48.533465
END:VEVENT
BEGIN:VEVENT
DTSTART;TZID=America/New_York:20250708T090000
DTEND;TZID=America/New_York:20250708T110000
DTSTAMP:20260422T010348
CREATED:20250605T192032Z
LAST-MODIFIED:20250710T125413Z
UID:10001241-1751965200-1751972400@quoifairealma.com
SUMMARY:Atelier de découverte au verger
DESCRIPTION:Venez découvrir des arbres fruitiers\, goûtez de petites dégustations et choisissez un peu de cueillette.  \nEn cas de pluie : Remis au lendemain même heure\, même endroit. En cas de pluie une seconde fois\, annulé.  
URL:https://quoifairealma.com/evenement/atelier-de-decouverte-au-verger-6/
LOCATION:Parc Dollard\, rue Dollard\, Alma\, Québec\, Canada
CATEGORIES:Ateliers,Communauté
ATTACH;FMTTYPE=image/png:https://quoifairealma.com/app/uploads/2025/06/Brown-Beige-Creative-Fitness-Training-YouTube-Banner-1-1.png
ORGANIZER;CN="Service des Loisirs et de la Culture":MAILTO:receptioncmt@ville.alma.qc.ca
GEO:48.533465;-71.636611
X-APPLE-STRUCTURED-LOCATION;VALUE=URI;X-ADDRESS=Parc Dollard rue Dollard Alma Québec Canada;X-APPLE-RADIUS=500;X-TITLE=rue Dollard:geo:-71.636611,48.533465
END:VEVENT
END:VCALENDAR