BEGIN:VCALENDAR
VERSION:2.0
PRODID:-//Quoi faire à Alma - ECPv6.15.14//NONSGML v1.0//EN
CALSCALE:GREGORIAN
METHOD:PUBLISH
X-WR-CALNAME:Quoi faire à Alma
X-ORIGINAL-URL:https://quoifairealma.com
X-WR-CALDESC:Évènements pour Quoi faire à Alma
REFRESH-INTERVAL;VALUE=DURATION:PT1H
X-Robots-Tag:noindex
X-PUBLISHED-TTL:PT1H
BEGIN:VTIMEZONE
TZID:America/New_York
BEGIN:DAYLIGHT
TZOFFSETFROM:-0500
TZOFFSETTO:-0400
TZNAME:EDT
DTSTART:20240310T070000
END:DAYLIGHT
BEGIN:STANDARD
TZOFFSETFROM:-0400
TZOFFSETTO:-0500
TZNAME:EST
DTSTART:20241103T060000
END:STANDARD
BEGIN:DAYLIGHT
TZOFFSETFROM:-0500
TZOFFSETTO:-0400
TZNAME:EDT
DTSTART:20250309T070000
END:DAYLIGHT
BEGIN:STANDARD
TZOFFSETFROM:-0400
TZOFFSETTO:-0500
TZNAME:EST
DTSTART:20251102T060000
END:STANDARD
BEGIN:DAYLIGHT
TZOFFSETFROM:-0500
TZOFFSETTO:-0400
TZNAME:EDT
DTSTART:20260308T070000
END:DAYLIGHT
BEGIN:STANDARD
TZOFFSETFROM:-0400
TZOFFSETTO:-0500
TZNAME:EST
DTSTART:20261101T060000
END:STANDARD
END:VTIMEZONE
BEGIN:VEVENT
DTSTART;TZID=America/New_York:20250806T133000
DTEND;TZID=America/New_York:20250806T150000
DTSTAMP:20260421T232836
CREATED:20250626T185042Z
LAST-MODIFIED:20250626T185042Z
UID:10001128-1754487000-1754492400@quoifairealma.com
SUMMARY:Lire et Délires
DESCRIPTION:Cet été\, vivez l’expérience de Lire et Délires dans les parcs.  Cette escouade d’animateurs conjugue lecture et plaisir\, pour le bonheur des petits et des grands.  Notre équipe d’animateurs offre du lundi au vendredi\, durant tout l’été\, deux animations par jour dans les différents parcs de la ville.  Pour connaitre l’horaire des déplacements de l’équipe de Lire et Délires\, consultez notre page Facebook ou la plateforme web Quoi faire Alma. \n\nLecture\nBricolage\nHistoires captivantes\nDéfis amusants\nJeux rigolos\n\nEt plus encore !  Pour petits et grands. \nTU ES INSCRIT AU CLUB DE LECTURE D’ÉTÉ ?  Fais étamper ta carte à chaque visite ! \nEn cas de pluie\, l’activité se déroulera à la bibliothèque.
URL:https://quoifairealma.com/evenement/lire-et-delires-104/
LOCATION:Parc Powell\, avenue Powell\, Alma\, Québec\, Canada
CATEGORIES:Activités de loisir,Littérature,Loisirs et culture
ATTACH;FMTTYPE=image/png:https://quoifairealma.com/app/uploads/2025/06/Quoi-faire-cet-ete-2024-11.png
ORGANIZER;CN="Biblioth%C3%A8que d'Alma":MAILTO:bibliotheque@ville.alma.qc.ca
GEO:48.584542;71.632432
X-APPLE-STRUCTURED-LOCATION;VALUE=URI;X-ADDRESS=Parc Powell avenue Powell Alma Québec Canada;X-APPLE-RADIUS=500;X-TITLE=avenue Powell:geo:71.632432,48.584542
END:VEVENT
BEGIN:VEVENT
DTSTART;TZID=America/New_York:20250724T100000
DTEND;TZID=America/New_York:20250724T113000
DTSTAMP:20260421T232836
CREATED:20250626T175752Z
LAST-MODIFIED:20250626T175752Z
UID:10001306-1753351200-1753356600@quoifairealma.com
SUMMARY:Lire et Délires
DESCRIPTION:Cet été\, vivez l’expérience de Lire et Délires dans les parcs.  Cette escouade d’animateurs conjugue lecture et plaisir\, pour le bonheur des petits et des grands.  Notre équipe d’animateurs offre du lundi au vendredi\, durant tout l’été\, deux animations par jour dans les différents parcs de la ville.  Pour connaitre l’horaire des déplacements de l’équipe de Lire et Délires\, consultez notre page Facebook ou la plateforme web Quoi faire Alma. \n\nLecture\nBricolage\nHistoires captivantes\nDéfis amusants\nJeux rigolos\n\nEt plus encore !  Pour petits et grands. \nTU ES INSCRIT AU CLUB DE LECTURE D’ÉTÉ ?  Fais étamper ta carte à chaque visite ! \nEn cas de pluie\, l’activité se déroulera à la bibliothèque.
URL:https://quoifairealma.com/evenement/lire-et-delires-87/
LOCATION:Parc Powell\, avenue Powell\, Alma\, Québec\, Canada
CATEGORIES:Activités de loisir,Littérature,Loisirs et culture
ATTACH;FMTTYPE=image/png:https://quoifairealma.com/app/uploads/2025/06/Quoi-faire-cet-ete-2024-11.png
ORGANIZER;CN="Biblioth%C3%A8que d'Alma":MAILTO:bibliotheque@ville.alma.qc.ca
GEO:48.584542;71.632432
X-APPLE-STRUCTURED-LOCATION;VALUE=URI;X-ADDRESS=Parc Powell avenue Powell Alma Québec Canada;X-APPLE-RADIUS=500;X-TITLE=avenue Powell:geo:71.632432,48.584542
END:VEVENT
BEGIN:VEVENT
DTSTART;TZID=America/New_York:20250707T133000
DTEND;TZID=America/New_York:20250707T150000
DTSTAMP:20260421T232836
CREATED:20250625T155323Z
LAST-MODIFIED:20250625T155345Z
UID:10001281-1751895000-1751900400@quoifairealma.com
SUMMARY:Lire et Délires
DESCRIPTION:Cet été\, vivez l’expérience de Lire et Délires dans les parcs.  Cette escouade d’animateurs conjugue lecture et plaisir\, pour le bonheur des petits et des grands.  Notre équipe d’animateurs offre du lundi au vendredi\, durant tout l’été\, deux animations par jour dans les différents parcs de la ville.  Pour connaitre l’horaire des déplacements de l’équipe de Lire et Délires\, consultez notre page Facebook ou la plateforme web Quoi faire Alma. \n\nLecture\nBricolage\nHistoires captivantes\nDéfis amusants\nJeux rigolos\n\nEt plus encore !  Pour petits et grands. \nTU ES INSCRIT AU CLUB DE LECTURE D’ÉTÉ ?  Fais étamper ta carte à chaque visite ! \nEn cas de pluie\, l’activité se déroulera à la bibliothèque.
URL:https://quoifairealma.com/evenement/lire-et-delires-67/
LOCATION:Parc Powell\, avenue Powell\, Alma\, Québec\, Canada
CATEGORIES:Activités de loisir,Littérature,Loisirs et culture
ATTACH;FMTTYPE=image/png:https://quoifairealma.com/app/uploads/2025/06/Quoi-faire-cet-ete-2024-11.png
ORGANIZER;CN="Biblioth%C3%A8que d'Alma":MAILTO:bibliotheque@ville.alma.qc.ca
GEO:48.584542;71.632432
X-APPLE-STRUCTURED-LOCATION;VALUE=URI;X-ADDRESS=Parc Powell avenue Powell Alma Québec Canada;X-APPLE-RADIUS=500;X-TITLE=avenue Powell:geo:71.632432,48.584542
END:VEVENT
BEGIN:VEVENT
DTSTART;TZID=America/New_York:20250627T100000
DTEND;TZID=America/New_York:20250627T113000
DTSTAMP:20260421T232836
CREATED:20250625T153106Z
LAST-MODIFIED:20250625T153106Z
UID:10001272-1751018400-1751023800@quoifairealma.com
SUMMARY:Lire et Délires
DESCRIPTION:Cet été\, vivez l’expérience de Lire et Délires dans les parcs.  Cette escouade d’animateurs conjugue lecture et plaisir\, pour le bonheur des petits et des grands.  Notre équipe d’animateurs offre du lundi au vendredi\, durant tout l’été\, deux animations par jour dans les différents parcs de la ville.  Pour connaitre l’horaire des déplacements de l’équipe de Lire et Délires\, consultez notre page Facebook ou la plateforme web Quoi faire Alma. \n\nLecture\nBricolage\nHistoires captivantes\nDéfis amusants\nJeux rigolos\n\nEt plus encore !  Pour petits et grands. \nTU ES INSCRIT AU CLUB DE LECTURE D’ÉTÉ ?  Fais étamper ta carte à chaque visite ! \nEn cas de pluie\, l’activité se déroulera à la bibliothèque.
URL:https://quoifairealma.com/evenement/lire-et-delires-58/
LOCATION:Parc Powell\, avenue Powell\, Alma\, Québec\, Canada
CATEGORIES:Activités de loisir,Littérature,Loisirs et culture
ATTACH;FMTTYPE=image/png:https://quoifairealma.com/app/uploads/2025/06/Quoi-faire-cet-ete-2024-11.png
ORGANIZER;CN="Biblioth%C3%A8que d'Alma":MAILTO:bibliotheque@ville.alma.qc.ca
GEO:48.584542;71.632432
X-APPLE-STRUCTURED-LOCATION;VALUE=URI;X-ADDRESS=Parc Powell avenue Powell Alma Québec Canada;X-APPLE-RADIUS=500;X-TITLE=avenue Powell:geo:71.632432,48.584542
END:VEVENT
END:VCALENDAR