BEGIN:VCALENDAR
VERSION:2.0
PRODID:-//Quoi faire à Alma - ECPv6.15.14//NONSGML v1.0//EN
CALSCALE:GREGORIAN
METHOD:PUBLISH
X-WR-CALNAME:Quoi faire à Alma
X-ORIGINAL-URL:https://quoifairealma.com
X-WR-CALDESC:Évènements pour Quoi faire à Alma
REFRESH-INTERVAL;VALUE=DURATION:PT1H
X-Robots-Tag:noindex
X-PUBLISHED-TTL:PT1H
BEGIN:VTIMEZONE
TZID:America/New_York
BEGIN:DAYLIGHT
TZOFFSETFROM:-0500
TZOFFSETTO:-0400
TZNAME:EDT
DTSTART:20240310T070000
END:DAYLIGHT
BEGIN:STANDARD
TZOFFSETFROM:-0400
TZOFFSETTO:-0500
TZNAME:EST
DTSTART:20241103T060000
END:STANDARD
BEGIN:DAYLIGHT
TZOFFSETFROM:-0500
TZOFFSETTO:-0400
TZNAME:EDT
DTSTART:20250309T070000
END:DAYLIGHT
BEGIN:STANDARD
TZOFFSETFROM:-0400
TZOFFSETTO:-0500
TZNAME:EST
DTSTART:20251102T060000
END:STANDARD
BEGIN:DAYLIGHT
TZOFFSETFROM:-0500
TZOFFSETTO:-0400
TZNAME:EDT
DTSTART:20260308T070000
END:DAYLIGHT
BEGIN:STANDARD
TZOFFSETFROM:-0400
TZOFFSETTO:-0500
TZNAME:EST
DTSTART:20261101T060000
END:STANDARD
END:VTIMEZONE
BEGIN:VEVENT
DTSTART;TZID=America/New_York:20250722T140000
DTEND;TZID=America/New_York:20250722T153000
DTSTAMP:20260421T232822
CREATED:20250721T122936Z
LAST-MODIFIED:20250721T122936Z
UID:10001484-1753192800-1753198200@quoifairealma.com
SUMMARY:Atelier: Récoltons nos jardins urbains
DESCRIPTION:En collaboration avec les Butineurs\, venez découvrir ce qui se trouve dans nos jardins urbains au parc Labrecque et devant la bibliothèque. Vous saurez identifier les plants comestibles qui s’y trouvent\, vous saurez quand venir les cueillir et pourrez même déguster quelques variétés. \nUn atelier ouvert à tous\, GRATUIT
URL:https://quoifairealma.com/evenement/atelier-recoltons-nos-jardins-urbains/
LOCATION:Parc Labrecque\, 415 Rue Collard\,\, Alma\, Québec\, G8B 1N1\, Canada
CATEGORIES:Ateliers,Ateliers et bricolage,Communauté,Loisirs et culture
ATTACH;FMTTYPE=image/png:https://quoifairealma.com/app/uploads/2025/07/Atelier-Cueillons-nos-bacs-urbains.png
ORGANIZER;CN="Biblioth%C3%A8que d'Alma":MAILTO:bibliotheque@ville.alma.qc.ca
END:VEVENT
END:VCALENDAR