BEGIN:VCALENDAR
VERSION:2.0
PRODID:-//Quoi faire à Alma - ECPv6.15.14//NONSGML v1.0//EN
CALSCALE:GREGORIAN
METHOD:PUBLISH
X-ORIGINAL-URL:https://quoifairealma.com
X-WR-CALDESC:Évènements pour Quoi faire à Alma
REFRESH-INTERVAL;VALUE=DURATION:PT1H
X-Robots-Tag:noindex
X-PUBLISHED-TTL:PT1H
BEGIN:VTIMEZONE
TZID:America/New_York
BEGIN:DAYLIGHT
TZOFFSETFROM:-0500
TZOFFSETTO:-0400
TZNAME:EDT
DTSTART:20240310T070000
END:DAYLIGHT
BEGIN:STANDARD
TZOFFSETFROM:-0400
TZOFFSETTO:-0500
TZNAME:EST
DTSTART:20241103T060000
END:STANDARD
BEGIN:DAYLIGHT
TZOFFSETFROM:-0500
TZOFFSETTO:-0400
TZNAME:EDT
DTSTART:20250309T070000
END:DAYLIGHT
BEGIN:STANDARD
TZOFFSETFROM:-0400
TZOFFSETTO:-0500
TZNAME:EST
DTSTART:20251102T060000
END:STANDARD
BEGIN:DAYLIGHT
TZOFFSETFROM:-0500
TZOFFSETTO:-0400
TZNAME:EDT
DTSTART:20260308T070000
END:DAYLIGHT
BEGIN:STANDARD
TZOFFSETFROM:-0400
TZOFFSETTO:-0500
TZNAME:EST
DTSTART:20261101T060000
END:STANDARD
END:VTIMEZONE
BEGIN:VEVENT
DTSTART;VALUE=DATE:20251007
DTEND;VALUE=DATE:20251008
DTSTAMP:20260422T041908
CREATED:20250924T164538Z
LAST-MODIFIED:20251007T191331Z
UID:10001070-1759795200-1759881599@quoifairealma.com
SUMMARY:Découvre ton Parc\, le plein air à 2 pas de chez toi
DESCRIPTION:✨ Psst… il revient! ✨\nNotre événement annuel « Découvre ton parc » fait son grand retour 🎉 \n👉 Le plein air à deux pas de chez toi\, ça se vit ici!\nAu programme : lancement de la prévente des cartes de saison\, kiosques\, activités et plein de belles découvertes. \n📲 Tous les détails seront bientôt disponibles sur notre site www.parcdunerivealautre.ca\nou directement sur notre page Facebook\, Parc d’une autre à l’autre 👀🍃
URL:https://quoifairealma.com/evenement/decouvre-ton-parc-le-plein-air-a-2-pas-de-chez-toi/
LOCATION:Parc de la Pointe-des-Américains\, Alma\, Québec\, G8B 5X9\, Canada
CATEGORIES:Activités de plein air,Communauté,Événements,Sports et plein air
ATTACH;FMTTYPE=image/jpeg:https://quoifairealma.com/app/uploads/2025/10/Pointe-des-amA©ricains-47-copie.jpg
ORGANIZER;CN="Parc d'une rive %C3%A0 l'autre":MAILTO:info@urala.ca
GEO:48.548234;-71.631904
END:VEVENT
BEGIN:VEVENT
DTSTART;TZID=America/New_York:20250702T103000
DTEND;TZID=America/New_York:20250702T120000
DTSTAMP:20260422T041908
CREATED:20250605T184923Z
LAST-MODIFIED:20250605T193452Z
UID:10001464-1751452200-1751457600@quoifairealma.com
SUMMARY:Atelier découverte : Sur la trace des animaux de la forêt
DESCRIPTION:Une programmation dans le cadre du BiblioCLUB de lecture d’été 2025 \nParticipe à notre grand jeu de piste à la Pointe des Américains! Suis les empreintes des animaux cachés tout au long du parcours\, récolte des indices et démasque les animaux de la forêt en cavale dans les sentiers. Prêtes et prêts à suivre les empreintes et à en apprendre plus sur les animaux de la forêt? Que l’aventure commence! \nInscription requise | Gratuit | Pour les 3 à 12 ans \nUne inscription par enfant\, parents bienvenus
URL:https://quoifairealma.com/evenement/atelier-decouverte-3/
LOCATION:Parc de la Pointe-des-Américains\, Alma\, Québec\, G8B 5X9\, Canada
CATEGORIES:Activités de loisir,Ateliers et bricolage,Littérature,Loisirs et culture
ATTACH;FMTTYPE=image/png:https://quoifairealma.com/app/uploads/2025/06/3-1.png
ORGANIZER;CN="Biblioth%C3%A8que d'Alma":MAILTO:bibliotheque@ville.alma.qc.ca
GEO:48.548234;-71.631904
END:VEVENT
END:VCALENDAR