BEGIN:VCALENDAR
VERSION:2.0
PRODID:-//Quoi faire à Alma - ECPv6.15.14//NONSGML v1.0//EN
CALSCALE:GREGORIAN
METHOD:PUBLISH
X-WR-CALNAME:Quoi faire à Alma
X-ORIGINAL-URL:https://quoifairealma.com
X-WR-CALDESC:Évènements pour Quoi faire à Alma
REFRESH-INTERVAL;VALUE=DURATION:PT1H
X-Robots-Tag:noindex
X-PUBLISHED-TTL:PT1H
BEGIN:VTIMEZONE
TZID:America/New_York
BEGIN:DAYLIGHT
TZOFFSETFROM:-0500
TZOFFSETTO:-0400
TZNAME:EDT
DTSTART:20240310T070000
END:DAYLIGHT
BEGIN:STANDARD
TZOFFSETFROM:-0400
TZOFFSETTO:-0500
TZNAME:EST
DTSTART:20241103T060000
END:STANDARD
BEGIN:DAYLIGHT
TZOFFSETFROM:-0500
TZOFFSETTO:-0400
TZNAME:EDT
DTSTART:20250309T070000
END:DAYLIGHT
BEGIN:STANDARD
TZOFFSETFROM:-0400
TZOFFSETTO:-0500
TZNAME:EST
DTSTART:20251102T060000
END:STANDARD
BEGIN:DAYLIGHT
TZOFFSETFROM:-0500
TZOFFSETTO:-0400
TZNAME:EDT
DTSTART:20260308T070000
END:DAYLIGHT
BEGIN:STANDARD
TZOFFSETFROM:-0400
TZOFFSETTO:-0500
TZNAME:EST
DTSTART:20261101T060000
END:STANDARD
END:VTIMEZONE
BEGIN:VEVENT
DTSTART;TZID=America/New_York:20250728T100000
DTEND;TZID=America/New_York:20250728T113000
DTSTAMP:20260422T010440
CREATED:20250626T183219Z
LAST-MODIFIED:20250626T183219Z
UID:10001322-1753696800-1753702200@quoifairealma.com
SUMMARY:Lire et Délires
DESCRIPTION:Cet été\, vivez l’expérience de Lire et Délires dans les parcs.  Cette escouade d’animateurs conjugue lecture et plaisir\, pour le bonheur des petits et des grands.  Notre équipe d’animateurs offre du lundi au vendredi\, durant tout l’été\, deux animations par jour dans les différents parcs de la ville.  Pour connaitre l’horaire des déplacements de l’équipe de Lire et Délires\, consultez notre page Facebook ou la plateforme web Quoi faire Alma. \n\nLecture\nBricolage\nHistoires captivantes\nDéfis amusants\nJeux rigolos\n\nEt plus encore !  Pour petits et grands. \nTU ES INSCRIT AU CLUB DE LECTURE D’ÉTÉ ?  Fais étamper ta carte à chaque visite ! \nEn cas de pluie\, l’activité se déroulera à la bibliothèque.
URL:https://quoifairealma.com/evenement/lire-et-delires-91/
LOCATION:Parc Albert-Naud\, Alma\, Québec\, Canada
CATEGORIES:Activités de loisir,Littérature,Loisirs et culture
ATTACH;FMTTYPE=image/png:https://quoifairealma.com/app/uploads/2025/06/Quoi-faire-cet-ete-2024-11.png
ORGANIZER;CN="Biblioth%C3%A8que d'Alma":MAILTO:bibliotheque@ville.alma.qc.ca
GEO:48.5527118;71.6373393
END:VEVENT
BEGIN:VEVENT
DTSTART;TZID=America/New_York:20250715T133000
DTEND;TZID=America/New_York:20250715T150000
DTSTAMP:20260422T010440
CREATED:20250626T174318Z
LAST-MODIFIED:20250626T174318Z
UID:10001292-1752586200-1752591600@quoifairealma.com
SUMMARY:Lire et Délires
DESCRIPTION:Cet été\, vivez l’expérience de Lire et Délires dans les parcs.  Cette escouade d’animateurs conjugue lecture et plaisir\, pour le bonheur des petits et des grands.  Notre équipe d’animateurs offre du lundi au vendredi\, durant tout l’été\, deux animations par jour dans les différents parcs de la ville.  Pour connaitre l’horaire des déplacements de l’équipe de Lire et Délires\, consultez notre page Facebook ou la plateforme web Quoi faire Alma. \n\nLecture\nBricolage\nHistoires captivantes\nDéfis amusants\nJeux rigolos\n\nEt plus encore !  Pour petits et grands. \nTU ES INSCRIT AU CLUB DE LECTURE D’ÉTÉ ?  Fais étamper ta carte à chaque visite ! \nEn cas de pluie\, l’activité se déroulera à la bibliothèque.
URL:https://quoifairealma.com/evenement/lire-et-delires-78/
LOCATION:Parc Albert-Naud\, Alma\, Québec\, Canada
CATEGORIES:Activités de loisir,Littérature,Loisirs et culture
ATTACH;FMTTYPE=image/png:https://quoifairealma.com/app/uploads/2025/06/Quoi-faire-cet-ete-2024-11.png
ORGANIZER;CN="Biblioth%C3%A8que d'Alma":MAILTO:bibliotheque@ville.alma.qc.ca
GEO:48.5527118;71.6373393
END:VEVENT
BEGIN:VEVENT
DTSTART;TZID=America/New_York:20250703T180000
DTEND;TZID=America/New_York:20250703T193000
DTSTAMP:20260422T010440
CREATED:20250526T151609Z
LAST-MODIFIED:20250702T134519Z
UID:10001596-1751565600-1751571000@quoifairealma.com
SUMMARY:Évènement Circonflexe
DESCRIPTION:Le programme CIRCONFLEXE permet de rendre accessibles des équipements sportifs et récréatifs dans plusieurs points de services\, partout au Québec. Ce projet est rendu possible grâce au Regroupement Loisirs et Sports du Saguenay Lac-St-Jean et au gouvernement du Québec. \n  \n\n\n\nTout le matériel sportif de la centrale d’équipement peut être emprunté tout à fait gratuitement\, par les personnes résidentes ou non de la ville d’Alma.\n\n\nNous vous invitons à profitez des sorties de la caravane pour explorer tous les équipement disponibles. Venez en profiter!
URL:https://quoifairealma.com/evenement/evenement-circonflexe/
LOCATION:Parc Albert-Naud\, Alma\, Québec\, Canada
CATEGORIES:Activités de loisir,Loisirs et culture
ATTACH;FMTTYPE=image/jpeg:https://quoifairealma.com/app/uploads/2025/05/circonflexe-01.jpg
GEO:48.5527118;71.6373393
END:VEVENT
BEGIN:VEVENT
DTSTART;TZID=America/New_York:20250702T100000
DTEND;TZID=America/New_York:20250702T113000
DTSTAMP:20260422T010440
CREATED:20250625T153824Z
LAST-MODIFIED:20250625T153824Z
UID:10001275-1751450400-1751455800@quoifairealma.com
SUMMARY:Lire et Délires
DESCRIPTION:Cet été\, vivez l’expérience de Lire et Délires dans les parcs.  Cette escouade d’animateurs conjugue lecture et plaisir\, pour le bonheur des petits et des grands.  Notre équipe d’animateurs offre du lundi au vendredi\, durant tout l’été\, deux animations par jour dans les différents parcs de la ville.  Pour connaitre l’horaire des déplacements de l’équipe de Lire et Délires\, consultez notre page Facebook ou la plateforme web Quoi faire Alma. \n\nLecture\nBricolage\nHistoires captivantes\nDéfis amusants\nJeux rigolos\n\nEt plus encore !  Pour petits et grands. \nTU ES INSCRIT AU CLUB DE LECTURE D’ÉTÉ ?  Fais étamper ta carte à chaque visite ! \nEn cas de pluie\, l’activité se déroulera à la bibliothèque.
URL:https://quoifairealma.com/evenement/lire-et-delires-61/
LOCATION:Parc Albert-Naud\, Alma\, Québec\, Canada
CATEGORIES:Activités de loisir,Littérature,Loisirs et culture
ATTACH;FMTTYPE=image/png:https://quoifairealma.com/app/uploads/2025/06/Quoi-faire-cet-ete-2024-11.png
ORGANIZER;CN="Biblioth%C3%A8que d'Alma":MAILTO:bibliotheque@ville.alma.qc.ca
GEO:48.5527118;71.6373393
END:VEVENT
END:VCALENDAR