BEGIN:VCALENDAR
VERSION:2.0
PRODID:-//Quoi faire à Alma - ECPv6.15.14//NONSGML v1.0//EN
CALSCALE:GREGORIAN
METHOD:PUBLISH
X-WR-CALNAME:Quoi faire à Alma
X-ORIGINAL-URL:https://quoifairealma.com
X-WR-CALDESC:Évènements pour Quoi faire à Alma
REFRESH-INTERVAL;VALUE=DURATION:PT1H
X-Robots-Tag:noindex
X-PUBLISHED-TTL:PT1H
BEGIN:VTIMEZONE
TZID:America/New_York
BEGIN:DAYLIGHT
TZOFFSETFROM:-0500
TZOFFSETTO:-0400
TZNAME:EDT
DTSTART:20240310T070000
END:DAYLIGHT
BEGIN:STANDARD
TZOFFSETFROM:-0400
TZOFFSETTO:-0500
TZNAME:EST
DTSTART:20241103T060000
END:STANDARD
BEGIN:DAYLIGHT
TZOFFSETFROM:-0500
TZOFFSETTO:-0400
TZNAME:EDT
DTSTART:20250309T070000
END:DAYLIGHT
BEGIN:STANDARD
TZOFFSETFROM:-0400
TZOFFSETTO:-0500
TZNAME:EST
DTSTART:20251102T060000
END:STANDARD
BEGIN:DAYLIGHT
TZOFFSETFROM:-0500
TZOFFSETTO:-0400
TZNAME:EDT
DTSTART:20260308T070000
END:DAYLIGHT
BEGIN:STANDARD
TZOFFSETFROM:-0400
TZOFFSETTO:-0500
TZNAME:EST
DTSTART:20261101T060000
END:STANDARD
BEGIN:DAYLIGHT
TZOFFSETFROM:-0500
TZOFFSETTO:-0400
TZNAME:EDT
DTSTART:20270314T070000
END:DAYLIGHT
BEGIN:STANDARD
TZOFFSETFROM:-0400
TZOFFSETTO:-0500
TZNAME:EST
DTSTART:20271107T060000
END:STANDARD
END:VTIMEZONE
BEGIN:VEVENT
DTSTART;TZID=America/New_York:20251017T090000
DTEND;TZID=America/New_York:20260516T160000
DTSTAMP:20260421T213445
CREATED:20251006T160257Z
LAST-MODIFIED:20251007T191700Z
UID:10001082-1760691600-1778947200@quoifairealma.com
SUMMARY:Grand Feu\, une exposition des artistes Nicolas Lévesque et Sophie Gagnon-Bergeron
DESCRIPTION:Grand Feu\, une exposition des artistes Nicolas Lévesque et Sophie Gagnon-Bergeron \nL’exposition présente plus d’une vingtaine de photographies originales\, mises en dialogue avec des documents d’archives issus de la Société historique du Saguenay. \nLes artistes ont sillonné le territoire régional à la recherche des traces visibles et invisibles laissées par le Grand feu de 1870\, élément mythique et tragique du passé de la région. À travers ce parcours\, ils proposent un regard documentaire sur le présent\, nourri par la mémoire du Grand feu.
URL:https://quoifairealma.com/evenement/grand-feu-une-exposition-des-artistes-nicolas-levesque-et-sophie-gagnon-bergeron/
LOCATION:Odyssée des bâtisseurs\, Alma\, Québec\, G8B 5G2\, Canada
CATEGORIES:Expositions,Loisirs et culture
ATTACH;FMTTYPE=image/jpeg:https://quoifairealma.com/app/uploads/2025/10/GF_B_21.jpg
ORGANIZER;CN="L'Odyss%C3%A9e des b%C3%A2tisseurs":MAILTO:jlapointe@shlsj.org
GEO:48.5814957;-71.6315909
END:VEVENT
END:VCALENDAR