BEGIN:VCALENDAR
VERSION:2.0
PRODID:-//Quoi faire à Alma - ECPv6.15.14//NONSGML v1.0//EN
CALSCALE:GREGORIAN
METHOD:PUBLISH
X-ORIGINAL-URL:https://quoifairealma.com
X-WR-CALDESC:Évènements pour Quoi faire à Alma
REFRESH-INTERVAL;VALUE=DURATION:PT1H
X-Robots-Tag:noindex
X-PUBLISHED-TTL:PT1H
BEGIN:VTIMEZONE
TZID:America/New_York
BEGIN:DAYLIGHT
TZOFFSETFROM:-0500
TZOFFSETTO:-0400
TZNAME:EDT
DTSTART:20230312T070000
END:DAYLIGHT
BEGIN:STANDARD
TZOFFSETFROM:-0400
TZOFFSETTO:-0500
TZNAME:EST
DTSTART:20231105T060000
END:STANDARD
BEGIN:DAYLIGHT
TZOFFSETFROM:-0500
TZOFFSETTO:-0400
TZNAME:EDT
DTSTART:20240310T070000
END:DAYLIGHT
BEGIN:STANDARD
TZOFFSETFROM:-0400
TZOFFSETTO:-0500
TZNAME:EST
DTSTART:20241103T060000
END:STANDARD
BEGIN:DAYLIGHT
TZOFFSETFROM:-0500
TZOFFSETTO:-0400
TZNAME:EDT
DTSTART:20250309T070000
END:DAYLIGHT
BEGIN:STANDARD
TZOFFSETFROM:-0400
TZOFFSETTO:-0500
TZNAME:EST
DTSTART:20251102T060000
END:STANDARD
BEGIN:DAYLIGHT
TZOFFSETFROM:-0500
TZOFFSETTO:-0400
TZNAME:EDT
DTSTART:20260308T070000
END:DAYLIGHT
BEGIN:STANDARD
TZOFFSETFROM:-0400
TZOFFSETTO:-0500
TZNAME:EST
DTSTART:20261101T060000
END:STANDARD
BEGIN:DAYLIGHT
TZOFFSETFROM:-0500
TZOFFSETTO:-0400
TZNAME:EDT
DTSTART:20270314T070000
END:DAYLIGHT
BEGIN:STANDARD
TZOFFSETFROM:-0400
TZOFFSETTO:-0500
TZNAME:EST
DTSTART:20271107T060000
END:STANDARD
END:VTIMEZONE
BEGIN:VEVENT
DTSTART;TZID=America/New_York:20260228T090000
DTEND;TZID=America/New_York:20260228T160000
DTSTAMP:20260421T233315
CREATED:20260116T132135Z
LAST-MODIFIED:20260116T162545Z
UID:10001147-1772269200-1772294400@quoifairealma.com
SUMMARY:Temps des sucres à L’Odyssée des Bâtisseurs | Évènement gratuit!
DESCRIPTION:Temps des sucres à L’Odyssée des Bâtisseurs | Évènement gratuit!\nÉvènement gratuit! \nJournée du temps des sucres à L’Odyssée des Bâtisseurs !\nLe 28 février prochain\, venez célébrer notre traditionnelle journée du temps des sucres à L’Odyssée des Bâtisseurs\, à Alma ! Plusieurs activités seront au programme :\n• Tire d’érable\n• Sentier extérieur en raquettes\n• Accès à nos expositions temporaire : « Grand Feu » et « Quand l’art raconte une histoire – 7e édition »\n• Vue panoramique depuis notre belvédère au sommet du château d’eau\n• Activité d’exploration dans les archives de la Société d’histoire du Lac-Saint-Jean\n• Présence d’artisans en boutique \nQuand ? Le 28 février 2026\, de 9h00 à 16h00\nOù ? L’Odyssée des Bâtisseurs\, Alma
URL:https://quoifairealma.com/evenement/temps-des-sucres-a-lodyssee-des-batisseurs-evenement-gratuit/
LOCATION:Odyssée des bâtisseurs\, Alma\, Québec\, G8B 5G2\, Canada
CATEGORIES:Activités de loisir,Activités de plein air,Loisirs et culture,Sports et plein air
ATTACH;FMTTYPE=image/jpeg:https://quoifairealma.com/app/uploads/2026/01/temps-des-sucres-couv.jpg
ORGANIZER;CN="L'Odyss%C3%A9e des b%C3%A2tisseurs":MAILTO:jlapointe@shlsj.org
GEO:48.5814957;-71.6315909
END:VEVENT
BEGIN:VEVENT
DTSTART;TZID=America/New_York:20260205T170000
DTEND;TZID=America/New_York:20260205T200000
DTSTAMP:20260421T233315
CREATED:20260116T132418Z
LAST-MODIFIED:20260116T162622Z
UID:10001149-1770310800-1770321600@quoifairealma.com
SUMMARY:Vernissage de l'exposition Quand l'art raconte une histoire.
DESCRIPTION:Vernissage de l’exposition Quand l’art raconte une histoire. \nQuand l’art raconte une histoire est de retour à l’Odyssée des Bâtisseurs! \nPour une 7e édition\, les étudiants du programme d’Arts visuels et numériques du Collège d’Alma vous présentent leurs œuvres inspirées de notre collection muséale.\nTableaux\, modélisation 3D\, installations\, couture et sculptures composent cette exposition unique\, fruit d’une collaboration très inspirante. On peut y voir\, en plus des œuvres\, les objets du musée ayant été choisis par les étudiants. \nNous vous attendons le 5 février à 17h00 pour le lancement de cette exposition surprenante!\nL’exposition « Quand l’art raconte une histoire » sera présentée gratuitement du 5 février au 12 mars 2026.
URL:https://quoifairealma.com/evenement/vernissage-de-lexposition-quand-lart-raconte-une-histoire/
LOCATION:Odyssée des bâtisseurs\, Alma\, Québec\, G8B 5G2\, Canada
CATEGORIES:Arts et patrimoine,Expositions,Loisirs et culture
ATTACH;FMTTYPE=image/jpeg:https://quoifairealma.com/app/uploads/2026/01/couv-cegep.jpg
ORGANIZER;CN="L'Odyss%C3%A9e des b%C3%A2tisseurs":MAILTO:jlapointe@shlsj.org
GEO:48.5814957;-71.6315909
END:VEVENT
BEGIN:VEVENT
DTSTART;TZID=America/New_York:20251129T130000
DTEND;TZID=America/New_York:20251129T160000
DTSTAMP:20260421T233315
CREATED:20251006T154653Z
LAST-MODIFIED:20251007T191504Z
UID:10001080-1764421200-1764432000@quoifairealma.com
SUMMARY:Conférence - Grand feu de 1870 : Regards historiques et artistiques sur un événement fondateur
DESCRIPTION:Grand feu de 1870 : Regards historiques et artistiques sur un événement fondateur \nConférence sur le Grand feu de 1870 par François-Olivier Dorais\, professeur d’histoire à l’UQAC\, suivie d’une discussion avec les photographes Nicolas Lévesque et Sophie Gagnon-Bergeron. \nUne occasion de mieux comprendre cet événement marquant pour le Saguenay–Lac-Saint-Jean et son impact sur les générations qui ont suivies\, jusqu’à aujourd’hui. Comment est-ce que cet événement passé peut orienter un questionnement sur le présent? Comment peut-il servir de matériau pour un projet artistique? \n29 novembre 2025\, 13h00\nÀ l’Odyssée des Bâtisseurs\, 1671 avenue du Pont Nord\, Alma
URL:https://quoifairealma.com/evenement/conference-grand-feu-de-1870-regards-historiques-et-artistiques-sur-un-evenement-fondateur/
LOCATION:Odyssée des bâtisseurs\, Alma\, Québec\, G8B 5G2\, Canada
CATEGORIES:Expositions,Loisirs et culture
ATTACH;FMTTYPE=image/jpeg:https://quoifairealma.com/app/uploads/2025/10/558600546_1376811957780198_8916741669573141454_n.jpg
ORGANIZER;CN="L'Odyss%C3%A9e des b%C3%A2tisseurs":MAILTO:jlapointe@shlsj.org
GEO:48.5814957;-71.6315909
END:VEVENT
BEGIN:VEVENT
DTSTART;TZID=America/New_York:20251016T170000
DTEND;TZID=America/New_York:20251016T190000
DTSTAMP:20260421T233315
CREATED:20251006T155047Z
LAST-MODIFIED:20251007T191603Z
UID:10001081-1760634000-1760641200@quoifairealma.com
SUMMARY:Vernissage - exposition Grand Feu
DESCRIPTION:Réalisée par les artistes Nicolas Lévesque et Sophie Gagnon-Bergeron\, l’exposition rassemble plus d’une vingtaine de photographies originales\, en dialogue avec des archives de la Société historique du Saguenay. \nLes deux photographes ont sillonné le territoire régional à la recherche des traces visibles et invisibles laissées par le Grand feu de 1870. À travers ce parcours\, ils proposent un regard documentaire sur le présent\, nourri par la mémoire du Grand feu. \nLe vernissage se déroulera en présence des artistes\, qui présenteront leur démarche documentaire. \nDate : Jeudi 16 octobre 2025\, à 17 h\nLieu : L’Odyssée des Bâtisseurs\, 1671\, avenue du Pont Nord\, Alma\nL’exposition sera présentée du 17 octobre 2025 au 16 mai 2026
URL:https://quoifairealma.com/evenement/vernissage-exposition-grand-feu/
LOCATION:Odyssée des bâtisseurs\, Alma\, Québec\, G8B 5G2\, Canada
CATEGORIES:Expositions,Loisirs et culture
ATTACH;FMTTYPE=image/jpeg:https://quoifairealma.com/app/uploads/2025/10/Affiche-GF-scaled.jpg
ORGANIZER;CN="L'Odyss%C3%A9e des b%C3%A2tisseurs":MAILTO:jlapointe@shlsj.org
GEO:48.5814957;-71.6315909
END:VEVENT
BEGIN:VEVENT
DTSTART;TZID=America/New_York:20250927T130000
DTEND;TZID=America/New_York:20250927T160000
DTSTAMP:20260421T233315
CREATED:20250620T134352Z
LAST-MODIFIED:20250625T121024Z
UID:10001017-1758978000-1758988800@quoifairealma.com
SUMMARY:Créer en collectivité – 2ᵉ édition -Odyssée des Bâtisseurs
DESCRIPTION:✨ Suite au succès de l’an dernier\, Créer en collectivité revient pour sa 2ᵉ édition ! 🎨✨ \n📅 Samedi 27 septembre 2025\n🕐 13 h – 16 h\n📍 Odyssée des Bâtisseurs\, Alma \nPlongez dans l’univers créatif de la région en rencontrant des artisans passionnés et en collaborant avec eux pour donner vie à une œuvre collective unique. Explorez différents médiums artistiques\, échangez des idées et laissez-vous inspirer par le talent des créateurs d’ici.\nOuverte à tous et pensée pour toute la famille\, cette activité intergénérationnelle est une belle occasion de s’initier à l’art\, de tisser des liens et de créer ensemble dans une ambiance conviviale et inspirante.
URL:https://quoifairealma.com/evenement/creer-en-collectivite-2%e1%b5%89-edition-odyssee-des-batisseurs/
LOCATION:Odyssée des bâtisseurs\, Alma\, Québec\, G8B 5G2\, Canada
CATEGORIES:Arts et patrimoine,Loisirs et culture
ATTACH;FMTTYPE=image/jpeg:https://quoifairealma.com/app/uploads/2025/06/26-Photo-de-couverture-Facebook.jpg
ORGANIZER;CN="L'Odyss%C3%A9e des b%C3%A2tisseurs":MAILTO:jlapointe@shlsj.org
GEO:48.5814957;-71.6315909
END:VEVENT
BEGIN:VEVENT
DTSTART;TZID=America/New_York:20250831T180000
DTEND;TZID=America/New_York:20250831T193000
DTSTAMP:20260421T233315
CREATED:20250812T133713Z
LAST-MODIFIED:20250812T133735Z
UID:10001132-1756663200-1756668600@quoifairealma.com
SUMMARY:Le Quatuor prend l'air
DESCRIPTION:Cet été\, le Quatuor Saguenay écume les 4 coins du Saguenay-Lac-Saint-Jean dans une série de concerts gratuits et en plein-air\, afin de faire connaître les 3 nouveaux membres de la formation. Un rendez-vous chaleureux\, offert au public dans un emballage ludique et participatif\, où la musique est choisie au hasard sous la forme d’une fausse boite de chocolats. \n  \n  \n 
URL:https://quoifairealma.com/evenement/le-quatuor-prend-lair/
LOCATION:Odyssée des bâtisseurs\, Alma\, Québec\, G8B 5G2\, Canada
CATEGORIES:Arts et patrimoine,Ateliers,Communauté
ATTACH;FMTTYPE=image/png:https://quoifairealma.com/app/uploads/2025/08/Brown-Beige-Creative-Fitness-Training-YouTube-Banner-5.png
ORGANIZER;CN="Service des Loisirs et de la Culture":MAILTO:receptioncmt@ville.alma.qc.ca
GEO:48.5814957;-71.6315909
END:VEVENT
BEGIN:VEVENT
DTSTART;TZID=America/New_York:20250730T180000
DTEND;TZID=America/New_York:20250730T203000
DTSTAMP:20260421T233315
CREATED:20250620T134143Z
LAST-MODIFIED:20250625T120908Z
UID:10001016-1753898400-1753907400@quoifairealma.com
SUMMARY:Balade au crépuscule : à la découverte d’Isle-Maligne
DESCRIPTION:✨ Découvrez Isle-Maligne autrement ! ✨ \nLe mercredi 30 juillet 2025\, plongez dans l’atmosphère envoûtante d’Isle-Maligne avec nos guides-interprètes passionnés. Profitez d’une visite guidée en soirée pour admirer la beauté et en apprendre plus sur l’histoire de l’ancienne ville de compagnie et de notre parcours extérieur. \n⏱️ 45 minutes à pied\n📍 Rendez-vous devant l’Odyssée des Bâtisseurs\n🕕 Trois départs : 18 h · 18 h 30 · 19 h\n💙 Gratuit et sans réservation
URL:https://quoifairealma.com/evenement/balade-au-crepuscule-a-la-decouverte-disle-maligne/
LOCATION:Odyssée des bâtisseurs\, Alma\, Québec\, G8B 5G2\, Canada
CATEGORIES:Arts et patrimoine,Loisirs et culture
ATTACH;FMTTYPE=image/jpeg:https://quoifairealma.com/app/uploads/2025/06/balade-1.jpg
ORGANIZER;CN="L'Odyss%C3%A9e des b%C3%A2tisseurs":MAILTO:jlapointe@shlsj.org
GEO:48.5814957;-71.6315909
END:VEVENT
BEGIN:VEVENT
DTSTART;TZID=America/New_York:20250614T090000
DTEND;TZID=America/New_York:20250614T170000
DTSTAMP:20260421T233315
CREATED:20250609T115208Z
LAST-MODIFIED:20250610T123955Z
UID:10001382-1749891600-1749920400@quoifairealma.com
SUMMARY:Lancement de la saison estivale - Parcours gratuit
DESCRIPTION:Lancement de la saison estivale\n Le samedi 14 juin 2025 | 9 h à 17 h À l’Odyssée des Bâtisseurs\, Alma\n\nL’été débute en force à l’Odyssée des Bâtisseurs ! Pour souligner le lancement de la saison estivale\, le Parcours des Bâtisseurs sera exceptionnellement accessible gratuitement pour toute la journée.\nExplorez les sentiers\, grimpez jusqu’à notre emblématique château d’eau pour une vue imprenable sur Alma\, et mettez vos habiletés à l’épreuve dans les jeux d’hébertisme et de précision.\n\n Spécialement pour l’occasion\, nous concentrons toute l’animation à l’extérieur.\n\nAu menu : animation festive\, découvertes historiques\, dégustations de produits locaux\, popcorn\, barbe à papa et ambiance chaleureuse garantie!\nAmenez votre bonne humeur\, et venez lancer l’été avec nous ! 
URL:https://quoifairealma.com/evenement/lancement-de-la-saison-estivale-parcours-gratuit/
LOCATION:Odyssée des bâtisseurs\, Alma\, Québec\, G8B 5G2\, Canada
CATEGORIES:Arts et patrimoine,Loisirs et culture
ATTACH;FMTTYPE=image/jpeg:https://quoifairealma.com/app/uploads/2025/06/504732016_1267110835416978_7405153618057540520_n.jpg
ORGANIZER;CN="L'Odyss%C3%A9e des b%C3%A2tisseurs":MAILTO:jlapointe@shlsj.org
GEO:48.5814957;-71.6315909
END:VEVENT
BEGIN:VEVENT
DTSTART;VALUE=DATE:20241011
DTEND;VALUE=DATE:20250914
DTSTAMP:20260421T233315
CREATED:20241015T154821Z
LAST-MODIFIED:20241022T132948Z
UID:10000840-1728604800-1757807999@quoifairealma.com
SUMMARY:On sème! Une expo agricole au musée
DESCRIPTION:On sème! Une expo agricole au musée\n11 octobre 2024 au 13 septembre 2025 \nL’agriculture\, au Saguenay–Lac-Saint-Jean\, a bien évolué depuis l’époque de la colonisation de la région\, au 19e siècle. Aujourd’hui encore\, l’agriculture demeure un secteur d’activité qui occupe une place centrale dans notre société. \nL’exposition On sème !\, c’est l’occasion de démontrer les savoir-faire et la passion des gens d’ici\, de productrices et de cultivateurs engagés\, qui ont à cœur de faire danser nos assiettes et de remplir nos verres de bonnes choses.
URL:https://quoifairealma.com/evenement/on-seme-une-expo-agricole-au-musee/
LOCATION:Odyssée des bâtisseurs\, Alma\, Québec\, G8B 5G2\, Canada
CATEGORIES:Expositions,Loisirs et culture
ATTACH;FMTTYPE=image/jpeg:https://quoifairealma.com/app/uploads/2024/10/on_seme.jpg
ORGANIZER;CN="L'Odyss%C3%A9e des b%C3%A2tisseurs":MAILTO:jlapointe@shlsj.org
GEO:48.5814957;-71.6315909
END:VEVENT
END:VCALENDAR