BEGIN:VCALENDAR
VERSION:2.0
PRODID:-//Quoi faire à Alma - ECPv6.15.14//NONSGML v1.0//EN
CALSCALE:GREGORIAN
METHOD:PUBLISH
X-ORIGINAL-URL:https://quoifairealma.com
X-WR-CALDESC:Évènements pour Quoi faire à Alma
REFRESH-INTERVAL;VALUE=DURATION:PT1H
X-Robots-Tag:noindex
X-PUBLISHED-TTL:PT1H
BEGIN:VTIMEZONE
TZID:America/New_York
BEGIN:DAYLIGHT
TZOFFSETFROM:-0500
TZOFFSETTO:-0400
TZNAME:EDT
DTSTART:20240310T070000
END:DAYLIGHT
BEGIN:STANDARD
TZOFFSETFROM:-0400
TZOFFSETTO:-0500
TZNAME:EST
DTSTART:20241103T060000
END:STANDARD
BEGIN:DAYLIGHT
TZOFFSETFROM:-0500
TZOFFSETTO:-0400
TZNAME:EDT
DTSTART:20250309T070000
END:DAYLIGHT
BEGIN:STANDARD
TZOFFSETFROM:-0400
TZOFFSETTO:-0500
TZNAME:EST
DTSTART:20251102T060000
END:STANDARD
BEGIN:DAYLIGHT
TZOFFSETFROM:-0500
TZOFFSETTO:-0400
TZNAME:EDT
DTSTART:20260308T070000
END:DAYLIGHT
BEGIN:STANDARD
TZOFFSETFROM:-0400
TZOFFSETTO:-0500
TZNAME:EST
DTSTART:20261101T060000
END:STANDARD
BEGIN:DAYLIGHT
TZOFFSETFROM:-0500
TZOFFSETTO:-0400
TZNAME:EDT
DTSTART:20270314T070000
END:DAYLIGHT
BEGIN:STANDARD
TZOFFSETFROM:-0400
TZOFFSETTO:-0500
TZNAME:EST
DTSTART:20271107T060000
END:STANDARD
END:VTIMEZONE
BEGIN:VEVENT
DTSTART;VALUE=DATE:20260306
DTEND;VALUE=DATE:20260307
DTSTAMP:20260422T023237
CREATED:20260212T201645Z
LAST-MODIFIED:20260213T140153Z
UID:10001703-1772755200-1772841599@quoifairealma.com
SUMMARY:Glissade Mont Villa
DESCRIPTION:🎉 Viens t’amuser !\nC’est l’ouverture de la glissade pour la semaine de relâche 🛷❄️ \nSors ta tuque\, apporte ton sourire et viens profiter d’un beau moment en plein air avec nous ! \n🕛 Horaire glissade\n➡️ Du lundi au vendredi\, de 12 h à 16 h \n🎿 Côté ski\n➡️ Du lundi au vendredi\, de 12 h à 16 h\n➡️ Vendredi soir\, de 18 h 30 à 21 h \nAu plaisir de vous voir au parc ! 😄❄️
URL:https://quoifairealma.com/evenement/glissade-mont-villa-8/
LOCATION:Mont Villa Saguenay\, Alma\, Québec\, G8B 5X9\, Canada
CATEGORIES:Activités de plein air,Activités sportives,Sports et plein air
ATTACH;FMTTYPE=image/jpeg:https://quoifairealma.com/app/uploads/2026/02/ouverture-des-glissades4.jpg
ORGANIZER;CN="Parc d'une rive %C3%A0 l'autre":MAILTO:info@urala.ca
GEO:48.548025;-71.631581
END:VEVENT
BEGIN:VEVENT
DTSTART;VALUE=DATE:20260305
DTEND;VALUE=DATE:20260306
DTSTAMP:20260422T023237
CREATED:20260212T201434Z
LAST-MODIFIED:20260213T140126Z
UID:10001702-1772668800-1772755199@quoifairealma.com
SUMMARY:Glissade Mont Villa
DESCRIPTION:🎉 Viens t’amuser !\nC’est l’ouverture de la glissade pour la semaine de relâche 🛷❄️ \nSors ta tuque\, apporte ton sourire et viens profiter d’un beau moment en plein air avec nous ! \n🕛 Horaire glissade\n➡️ Du lundi au vendredi\, de 12 h à 16 h \n🎿 Côté ski\n➡️ Du lundi au vendredi\, de 12 h à 16 h\n➡️ Vendredi soir\, de 18 h 30 à 21 h \nAu plaisir de vous voir au parc ! 😄❄️
URL:https://quoifairealma.com/evenement/glissade-mont-villa-7/
LOCATION:Mont Villa Saguenay\, Alma\, Québec\, G8B 5X9\, Canada
CATEGORIES:Activités de plein air,Activités sportives,Sports et plein air
ATTACH;FMTTYPE=image/jpeg:https://quoifairealma.com/app/uploads/2026/02/ouverture-des-glissades4.jpg
ORGANIZER;CN="Parc d'une rive %C3%A0 l'autre":MAILTO:info@urala.ca
GEO:48.548025;-71.631581
END:VEVENT
BEGIN:VEVENT
DTSTART;VALUE=DATE:20260304
DTEND;VALUE=DATE:20260305
DTSTAMP:20260422T023237
CREATED:20260212T201250Z
LAST-MODIFIED:20260213T140059Z
UID:10001701-1772582400-1772668799@quoifairealma.com
SUMMARY:Glissade Mont Villa
DESCRIPTION:🎉 Viens t’amuser !\nC’est l’ouverture de la glissade pour la semaine de relâche 🛷❄️ \nSors ta tuque\, apporte ton sourire et viens profiter d’un beau moment en plein air avec nous ! \n🕛 Horaire glissade\n➡️ Du lundi au vendredi\, de 12 h à 16 h \n🎿 Côté ski\n➡️ Du lundi au vendredi\, de 12 h à 16 h\n➡️ Vendredi soir\, de 18 h 30 à 21 h \nAu plaisir de vous voir au parc ! 😄❄️
URL:https://quoifairealma.com/evenement/glissade-mont-villa-6/
LOCATION:Mont Villa Saguenay\, Alma\, Québec\, G8B 5X9\, Canada
CATEGORIES:Activités de plein air,Activités sportives,Sports et plein air
ATTACH;FMTTYPE=image/jpeg:https://quoifairealma.com/app/uploads/2026/02/ouverture-des-glissades4.jpg
ORGANIZER;CN="Parc d'une rive %C3%A0 l'autre":MAILTO:info@urala.ca
GEO:48.548025;-71.631581
END:VEVENT
BEGIN:VEVENT
DTSTART;VALUE=DATE:20260303
DTEND;VALUE=DATE:20260304
DTSTAMP:20260422T023237
CREATED:20260212T201144Z
LAST-MODIFIED:20260213T140033Z
UID:10001700-1772496000-1772582399@quoifairealma.com
SUMMARY:Glissade Mont Villa
DESCRIPTION:🎉 Viens t’amuser !\nC’est l’ouverture de la glissade pour la semaine de relâche 🛷❄️ \nSors ta tuque\, apporte ton sourire et viens profiter d’un beau moment en plein air avec nous ! \n🕛 Horaire glissade\n➡️ Du lundi au vendredi\, de 12 h à 16 h \n🎿 Côté ski\n➡️ Du lundi au vendredi\, de 12 h à 16 h\n➡️ Vendredi soir\, de 18 h 30 à 21 h \nAu plaisir de vous voir au parc ! 😄❄️
URL:https://quoifairealma.com/evenement/glissade-mont-villa-5/
LOCATION:Mont Villa Saguenay\, Alma\, Québec\, G8B 5X9\, Canada
CATEGORIES:Activités de plein air,Activités sportives,Sports et plein air
ATTACH;FMTTYPE=image/jpeg:https://quoifairealma.com/app/uploads/2026/02/ouverture-des-glissades3.jpg
ORGANIZER;CN="Parc d'une rive %C3%A0 l'autre":MAILTO:info@urala.ca
GEO:48.548025;-71.631581
END:VEVENT
BEGIN:VEVENT
DTSTART;VALUE=DATE:20260302
DTEND;VALUE=DATE:20260303
DTSTAMP:20260422T023237
CREATED:20260212T201041Z
LAST-MODIFIED:20260213T135900Z
UID:10001699-1772409600-1772495999@quoifairealma.com
SUMMARY:Glissade au Mont Villa
DESCRIPTION:🎉 Viens t’amuser !\nC’est l’ouverture de la glissade pour la semaine de relâche 🛷❄️ \nSors ta tuque\, apporte ton sourire et viens profiter d’un beau moment en plein air avec nous ! \n🕛 Horaire glissade\n➡️ Du lundi au vendredi\, de 12 h à 16 h \n🎿 Côté ski\n➡️ Du lundi au vendredi\, de 12 h à 16 h\n➡️ Vendredi soir\, de 18 h 30 à 21 h \nAu plaisir de vous voir au parc ! 😄❄️
URL:https://quoifairealma.com/evenement/glissade-au-mont-villa-4/
LOCATION:Mont Villa Saguenay\, Alma\, Québec\, G8B 5X9\, Canada
CATEGORIES:Activités de plein air,Activités sportives,Sports et plein air
ATTACH;FMTTYPE=image/jpeg:https://quoifairealma.com/app/uploads/2026/02/ouverture-des-glissades13.jpg
ORGANIZER;CN="Parc d'une rive %C3%A0 l'autre":MAILTO:info@urala.ca
GEO:48.548025;-71.631581
END:VEVENT
BEGIN:VEVENT
DTSTART;TZID=America/New_York:20260301T100000
DTEND;TZID=America/New_York:20260301T160000
DTSTAMP:20260422T023237
CREATED:20260212T194424Z
LAST-MODIFIED:20260213T135601Z
UID:10001697-1772359200-1772380800@quoifairealma.com
SUMMARY:Glissade Mont Ville
DESCRIPTION:🎉 Viens t’amuser !\nC’est l’ouverture de la glissade 🛷❄️\nSors ta tuque\, apporte ton sourire et viens profiter d’un beau moment en plein air avec nous !\nVendredi 18h30 à 21h – samedi et dimanche 12h à 16h
URL:https://quoifairealma.com/evenement/glissade-mont-ville/
LOCATION:Mont Villa Saguenay\, Alma\, Québec\, G8B 5X9\, Canada
CATEGORIES:Activités de plein air,Activités sportives,Sports et plein air
ATTACH;FMTTYPE=image/jpeg:https://quoifairealma.com/app/uploads/2026/02/ouverture-des-glissades12.jpg
ORGANIZER;CN="Parc d'une rive %C3%A0 l'autre":MAILTO:info@urala.ca
GEO:48.548025;-71.631581
END:VEVENT
BEGIN:VEVENT
DTSTART;TZID=America/New_York:20260228T100000
DTEND;TZID=America/New_York:20260228T160000
DTSTAMP:20260422T023237
CREATED:20260212T194256Z
LAST-MODIFIED:20260213T135531Z
UID:10001696-1772272800-1772294400@quoifairealma.com
SUMMARY:Glissade Mont Villa
DESCRIPTION:🎉 Viens t’amuser !\nC’est l’ouverture de la glissade 🛷❄️\nSors ta tuque\, apporte ton sourire et viens profiter d’un beau moment en plein air avec nous !\nVendredi 18h30 à 21h – samedi et dimanche 12h à 16h
URL:https://quoifairealma.com/evenement/glissade-mont-villa-4/
LOCATION:Mont Villa Saguenay\, Alma\, Québec\, G8B 5X9\, Canada
CATEGORIES:Activités de plein air,Activités sportives,Sports et plein air
ATTACH;FMTTYPE=image/jpeg:https://quoifairealma.com/app/uploads/2026/02/ouverture-des-glissades13.jpg
ORGANIZER;CN="Parc d'une rive %C3%A0 l'autre":MAILTO:info@urala.ca
GEO:48.548025;-71.631581
END:VEVENT
BEGIN:VEVENT
DTSTART;TZID=America/New_York:20260227T183000
DTEND;TZID=America/New_York:20260227T210000
DTSTAMP:20260422T023237
CREATED:20260212T194038Z
LAST-MODIFIED:20260213T135500Z
UID:10001695-1772217000-1772226000@quoifairealma.com
SUMMARY:Glissade Mont Villa
DESCRIPTION:🎉 Viens t’amuser !\nC’est l’ouverture de la glissade 🛷❄️\nSors ta tuque\, apporte ton sourire et viens profiter d’un beau moment en plein air avec nous !\nVendredi 18h30 à 21h – samedi et dimanche 12h à 16h
URL:https://quoifairealma.com/evenement/glissade-mont-villa-3/
LOCATION:Mont Villa Saguenay\, Alma\, Québec\, G8B 5X9\, Canada
CATEGORIES:Activités de plein air,Activités sportives,Sports et plein air
ATTACH;FMTTYPE=image/jpeg:https://quoifairealma.com/app/uploads/2026/02/ouverture-des-glissades13.jpg
ORGANIZER;CN="Parc d'une rive %C3%A0 l'autre":MAILTO:info@urala.ca
GEO:48.548025;-71.631581
END:VEVENT
BEGIN:VEVENT
DTSTART;TZID=America/New_York:20260222T100000
DTEND;TZID=America/New_York:20260222T160000
DTSTAMP:20260422T023237
CREATED:20260212T193307Z
LAST-MODIFIED:20260213T135431Z
UID:10001694-1771754400-1771776000@quoifairealma.com
SUMMARY:Glissade Mont Villa
DESCRIPTION:🎉 Viens t’amuser !\nC’est l’ouverture de la glissade 🛷❄️\nSors ta tuque\, apporte ton sourire et viens profiter d’un beau moment en plein air avec nous !\nVendredi 18h30 à 21h – samedi et dimanche 12h à 16h
URL:https://quoifairealma.com/evenement/glissade-mont-villa-2/
LOCATION:Mont Villa Saguenay\, Alma\, Québec\, G8B 5X9\, Canada
CATEGORIES:Activités de plein air,Activités sportives,Sports et plein air
ATTACH;FMTTYPE=image/jpeg:https://quoifairealma.com/app/uploads/2026/02/ouverture-des-glissades13.jpg
ORGANIZER;CN="Parc d'une rive %C3%A0 l'autre":MAILTO:info@urala.ca
GEO:48.548025;-71.631581
END:VEVENT
BEGIN:VEVENT
DTSTART;TZID=America/New_York:20260221T100000
DTEND;TZID=America/New_York:20260221T160000
DTSTAMP:20260422T023237
CREATED:20260212T192834Z
LAST-MODIFIED:20260213T135358Z
UID:10001693-1771668000-1771689600@quoifairealma.com
SUMMARY:Glissade Mont Villa
DESCRIPTION:🎉 Viens t’amuser !\nC’est l’ouverture de la glissade 🛷❄️\nSors ta tuque\, apporte ton sourire et viens profiter d’un beau moment en plein air avec nous !\nVendredi 18h30 à 21h – samedi et dimanche 12h à 16h
URL:https://quoifairealma.com/evenement/glissade-mont-villa/
LOCATION:Mont Villa Saguenay\, Alma\, Québec\, G8B 5X9\, Canada
CATEGORIES:Activités de plein air,Activités sportives,Sports et plein air
ATTACH;FMTTYPE=image/jpeg:https://quoifairealma.com/app/uploads/2026/02/ouverture-des-glissades13.jpg
ORGANIZER;CN="Parc d'une rive %C3%A0 l'autre":MAILTO:info@urala.ca
GEO:48.548025;-71.631581
END:VEVENT
BEGIN:VEVENT
DTSTART;TZID=America/New_York:20260221T100000
DTEND;TZID=America/New_York:20260221T160000
DTSTAMP:20260422T023237
CREATED:20260212T174910Z
LAST-MODIFIED:20260213T135003Z
UID:10001688-1771668000-1771689600@quoifairealma.com
SUMMARY:Carnaval du Mont Villa
DESCRIPTION:🎉 Le Carnaval du Mont Villa est de retour… sous une toute nouvelle formule ! ❄️\nCette année\, on s’associe au Festival Bifrost\, en collaboration avec notre partenaire fidèle\, le Tournoi Alma-Niaques et ses bénévoles 🙌\nSors ton chapeau ou ton manteau de poils\, plonge dans le vibe Bifrost et viens t’amuser !\n✨ Plein d’activités\n😄 Beaucoup de plaisir\n📍 Mont Villa Saguenay\n🗓 21 février | 10 h à 16 h\nUne journée festive à ne pas manquer 🔥❄️
URL:https://quoifairealma.com/evenement/carnaval-du-mont-villa-2/
LOCATION:Mont Villa Saguenay\, Alma\, Québec\, G8B 5X9\, Canada
CATEGORIES:Activités de plein air,Activités sportives,Sports et plein air
ATTACH;FMTTYPE=image/jpeg:https://quoifairealma.com/app/uploads/2026/02/affiche-carnaval-prix-1-1.jpg
ORGANIZER;CN="Parc d'une rive %C3%A0 l'autre":MAILTO:info@urala.ca
GEO:48.548025;-71.631581
END:VEVENT
BEGIN:VEVENT
DTSTART;TZID=America/New_York:20260220T183000
DTEND;TZID=America/New_York:20260220T210000
DTSTAMP:20260422T023237
CREATED:20260212T191503Z
LAST-MODIFIED:20260213T135325Z
UID:10001692-1771612200-1771621200@quoifairealma.com
SUMMARY:Glissade au Mont Villa
DESCRIPTION:🎉 Viens t’amuser !\nC’est l’ouverture de la glissade 🛷❄️\nSors ta tuque\, apporte ton sourire et viens profiter d’un beau moment en plein air avec nous !\nVendredi 18h30 à 21h – samedi et dimanche 12h à 16h
URL:https://quoifairealma.com/evenement/glissade-au-mont-villa-3/
LOCATION:Mont Villa Saguenay\, Alma\, Québec\, G8B 5X9\, Canada
CATEGORIES:Activités de plein air,Activités sportives,Sports et plein air
ATTACH;FMTTYPE=image/jpeg:https://quoifairealma.com/app/uploads/2026/02/ouverture-des-glissades13.jpg
ORGANIZER;CN="Parc d'une rive %C3%A0 l'autre":MAILTO:info@urala.ca
GEO:48.548025;-71.631581
END:VEVENT
BEGIN:VEVENT
DTSTART;TZID=America/New_York:20260215T100000
DTEND;TZID=America/New_York:20260215T160000
DTSTAMP:20260422T023237
CREATED:20260212T191351Z
LAST-MODIFIED:20260213T135251Z
UID:10001691-1771149600-1771171200@quoifairealma.com
SUMMARY:Glissade au Mont Villa
DESCRIPTION:🎉 Viens t’amuser !\nC’est l’ouverture de la glissade 🛷❄️\nSors ta tuque\, apporte ton sourire et viens profiter d’un beau moment en plein air avec nous !\nVendredi 18h30 à 21h – samedi et dimanche 12h à 16h
URL:https://quoifairealma.com/evenement/glissade-au-mont-villa-2/
LOCATION:Mont Villa Saguenay\, Alma\, Québec\, G8B 5X9\, Canada
CATEGORIES:Activités de plein air,Activités sportives,Sports et plein air
ATTACH;FMTTYPE=image/jpeg:https://quoifairealma.com/app/uploads/2026/02/ouverture-des-glissades13.jpg
ORGANIZER;CN="Parc d'une rive %C3%A0 l'autre":MAILTO:info@urala.ca
GEO:48.548025;-71.631581
END:VEVENT
BEGIN:VEVENT
DTSTART;TZID=America/New_York:20260214T120000
DTEND;TZID=America/New_York:20260214T160000
DTSTAMP:20260422T023237
CREATED:20260212T191222Z
LAST-MODIFIED:20260213T135202Z
UID:10001690-1771070400-1771084800@quoifairealma.com
SUMMARY:Glissade du Mont Villa
DESCRIPTION:🎉 Viens t’amuser !\nC’est l’ouverture de la glissade 🛷❄️\nSors ta tuque\, apporte ton sourire et viens profiter d’un beau moment en plein air avec nous !\nVendredi 18h30 à 21h – samedi et dimanche 12h à 16h
URL:https://quoifairealma.com/evenement/glissade-du-mont-villa/
LOCATION:Mont Villa Saguenay\, Alma\, Québec\, G8B 5X9\, Canada
CATEGORIES:Activités de plein air,Activités sportives,Sports et plein air
ATTACH;FMTTYPE=image/jpeg:https://quoifairealma.com/app/uploads/2026/02/ouverture-des-glissades13.jpg
ORGANIZER;CN="Parc d'une rive %C3%A0 l'autre":MAILTO:info@urala.ca
GEO:48.548025;-71.631581
END:VEVENT
BEGIN:VEVENT
DTSTART;TZID=America/New_York:20260213T183000
DTEND;TZID=America/New_York:20260213T210000
DTSTAMP:20260422T023237
CREATED:20260212T180434Z
LAST-MODIFIED:20260213T135111Z
UID:10001689-1771007400-1771016400@quoifairealma.com
SUMMARY:Glissade au Mont Villa
DESCRIPTION:🎉 Viens t’amuser !\nC’est l’ouverture de la glissade 🛷❄️\nSors ta tuque\, apporte ton sourire et viens profiter d’un beau moment en plein air avec nous !\nVendredi 18h30 à 21h – samedi et dimanche 12h à 16h
URL:https://quoifairealma.com/evenement/glissade-au-mont-villa/
LOCATION:Mont Villa Saguenay\, Alma\, Québec\, G8B 5X9\, Canada
CATEGORIES:Activités de plein air,Activités sportives,Sports et plein air
ATTACH;FMTTYPE=image/jpeg:https://quoifairealma.com/app/uploads/2026/02/ouverture-des-glissades13.jpg
ORGANIZER;CN="Parc d'une rive %C3%A0 l'autre":MAILTO:info@urala.ca
GEO:48.548025;-71.631581
END:VEVENT
BEGIN:VEVENT
DTSTART;TZID=America/New_York:20260108T000000
DTEND;TZID=America/New_York:20260125T000000
DTSTAMP:20260422T023237
CREATED:20260107T163124Z
LAST-MODIFIED:20260108T190857Z
UID:10001519-1767830400-1769299200@quoifairealma.com
SUMMARY:Ouverture de la Glissade
DESCRIPTION:🎉 Ouverture de la glissade au Mont Villa Saguenay 🎉\nLa saison de glissade est officiellement lancée! Venez profiter des pentes en famille ou entre amis ❄️🛷\n🕒 Horaire :\n• Vendredi : 18h30 à 21h\n• Samedi : 12h à 16h\n• Dimanche : 12h à 16h\n👉 Quelques consignes importantes :\n• Les enfants doivent mesurer 40 pouces et plus pour accéder aux glissades.\n• Pour les jeunes enfants\, le casque n’est pas obligatoire\, mais il est fortement recommandé.\n• Les enfants de 9 ans et moins doivent être accompagnés par une personne responsable en tout temps.\n💳 Tarifs :\n• Gratuit pour :\n– Les détenteurs d’une carte de saison de ski alpin\n– Les enfants résidents d’Alma de 15 ans et moins\n• Adultes résidents d’Alma : 10 $\n• Non-résidents (enfants et adultes) : 13 $\n📍 Important : Il est obligatoire de passer par le chalet pour récupérer votre billet et vous enregistrer avant d’accéder aux glissades.\nOn vous attend en grand nombre! 😄❄️\nAvec qui viens-tu glisser cette fin de semaine? 👇🎉
URL:https://quoifairealma.com/evenement/ouverture-de-la-glissade/
LOCATION:Mont Villa Saguenay\, Alma\, Québec\, G8B 5X9\, Canada
CATEGORIES:Activités de plein air,Sports et plein air
ATTACH;FMTTYPE=image/jpeg:https://quoifairealma.com/app/uploads/2026/01/ouverture-des-glissades9.jpg
ORGANIZER;CN="Parc d'une rive %C3%A0 l'autre":MAILTO:info@urala.ca
GEO:48.548025;-71.631581
END:VEVENT
BEGIN:VEVENT
DTSTART;TZID=America/New_York:20260108T000000
DTEND;TZID=America/New_York:20260108T000000
DTSTAMP:20260422T023237
CREATED:20260107T160243Z
LAST-MODIFIED:20260108T190714Z
UID:10001518-1767830400-1767830400@quoifairealma.com
SUMMARY:Jam ASR 2026
DESCRIPTION:Ami(e)s d’Alma et des environs\, débutons la saison de ski et snowboard avec un Jam au Mont-Villa Saguenay d’Alma\, le mercredi 14 janvier ! ⛷️🏂 \n💰 Gratuit\n🎟️ Inscription sur place\n🕺 Pour tous et toutes\n🏆 Plusieurs prix à gagner\n🎉 Et bien du fun\n⛷️Catégorie Open aussi pour les skieurs \nNe manquez pas ça\, on vous attend en grand nombre le 14 janvier 🥳
URL:https://quoifairealma.com/evenement/jam-asr-2026/
LOCATION:Mont Villa Saguenay\, Alma\, Québec\, G8B 5X9\, Canada
CATEGORIES:Activités de plein air,Sports et plein air
ATTACH;FMTTYPE=image/jpeg:https://quoifairealma.com/app/uploads/2026/01/Jam-Villa-Saguenay-1.jpg
ORGANIZER;CN="Parc d'une rive %C3%A0 l'autre":MAILTO:info@urala.ca
GEO:48.548025;-71.631581
END:VEVENT
BEGIN:VEVENT
DTSTART;TZID=America/New_York:20251018T110000
DTEND;TZID=America/New_York:20251018T150000
DTSTAMP:20260422T023237
CREATED:20251015T123222Z
LAST-MODIFIED:20251015T123222Z
UID:10001618-1760785200-1760799600@quoifairealma.com
SUMMARY:Découvre ton Parc – Le plein air à 2 pas de chez toi !
DESCRIPTION:Découvre ton Parc – Le plein air à 2 pas de chez toi ! \n\n Samedi 18 octobre\, de 11 h à 15 h\n\n\nViens profiter d’une journée remplie d’activités gratuites pour toute la famille dans nos différents secteurs du Parc d’une rive à l’autre \n\n\nVoici la programmation complète \n\n\n 10 h 30 à 12 h – Décore ta citrouille !\n Inscription obligatoire — https://quoifairealma.com/evenement/decore-ta-citrouille-2/\n\n\n 11 h – Randonnée guidée\n Départ au chalet du Mont Villa Saguenay\n\n\n 11 h 30 – À la découverte des Forestibles\nAvec le naturaliste Mathieu Tremblay\, au gazebo de la Pointe des Américains\n\n\n 13 h 30 à 14 h 30 – Service d’incendie d’Alma\nVenez découvrir leurs équipements de sauvetage à la Pointe des Américains\n\n\n 11 h à 15 h – Remorque du Projet Circonflexe\nEssais de vélos électriques et de matériel de plein air au gazebo de la Pointe des Américains\n\n\n 11 h à 15 h – Rallye Connais-tu tes oiseaux\nSur le sentier multifonctionnel\n\n\n 11 h à 15 h – Début de la prévente des cartes de saison jusqu’au 2 novembre !\n Chalet du Mont Villa Saguenay et Centre Dorval\n(Achat en ligne et horaire à venir sur nos réseaux sociaux) \n\n\n\n Toute la journée – Concours photo !\nParticipe en envoyant ta plus belle photo du Parc à info@urala.ca
URL:https://quoifairealma.com/evenement/decouvre-ton-parc-le-plein-air-a-2-pas-de-chez-toi-2/
LOCATION:Mont Villa Saguenay\, Alma\, Québec\, G8B 5X9\, Canada
CATEGORIES:Activités de plein air,Sports et plein air
ATTACH;FMTTYPE=image/jpeg:https://quoifairealma.com/app/uploads/2025/10/RDPAL.jpg
ORGANIZER;CN="Parc d'une rive %C3%A0 l'autre":MAILTO:info@urala.ca
GEO:48.548025;-71.631581
END:VEVENT
END:VCALENDAR