BEGIN:VCALENDAR
VERSION:2.0
PRODID:-//Quoi faire à Alma - ECPv6.15.14//NONSGML v1.0//EN
CALSCALE:GREGORIAN
METHOD:PUBLISH
X-ORIGINAL-URL:https://quoifairealma.com
X-WR-CALDESC:Évènements pour Quoi faire à Alma
REFRESH-INTERVAL;VALUE=DURATION:PT1H
X-Robots-Tag:noindex
X-PUBLISHED-TTL:PT1H
BEGIN:VTIMEZONE
TZID:America/New_York
BEGIN:DAYLIGHT
TZOFFSETFROM:-0500
TZOFFSETTO:-0400
TZNAME:EDT
DTSTART:20250309T070000
END:DAYLIGHT
BEGIN:STANDARD
TZOFFSETFROM:-0400
TZOFFSETTO:-0500
TZNAME:EST
DTSTART:20251102T060000
END:STANDARD
BEGIN:DAYLIGHT
TZOFFSETFROM:-0500
TZOFFSETTO:-0400
TZNAME:EDT
DTSTART:20260308T070000
END:DAYLIGHT
BEGIN:STANDARD
TZOFFSETFROM:-0400
TZOFFSETTO:-0500
TZNAME:EST
DTSTART:20261101T060000
END:STANDARD
BEGIN:DAYLIGHT
TZOFFSETFROM:-0500
TZOFFSETTO:-0400
TZNAME:EDT
DTSTART:20270314T070000
END:DAYLIGHT
BEGIN:STANDARD
TZOFFSETFROM:-0400
TZOFFSETTO:-0500
TZNAME:EST
DTSTART:20271107T060000
END:STANDARD
END:VTIMEZONE
BEGIN:VEVENT
DTSTART;TZID=America/New_York:20260424T170000
DTEND;TZID=America/New_York:20260628T163000
DTSTAMP:20260422T010056
CREATED:20260409T191437Z
LAST-MODIFIED:20260413T141348Z
UID:10003148-1777050000-1782664200@quoifairealma.com
SUMMARY:Expositions du printemps | Amélie Brindamour + Nélanne Racine + Dennis Baril
DESCRIPTION:| 𝗘𝗫𝗣𝗢𝗦𝗜𝗧𝗜𝗢𝗡𝗦 𝗗𝗨 𝗣𝗥𝗜𝗡𝗧𝗘𝗠𝗣𝗦 | \n✦ Joignez-vous à nous le vendredi 24 avril 2026 à 17 h à l’accueil du centre d’art actuel Langage Plus à l’occasion du vernissage du printemps ! \n① Nous sommes tou•te•s signaux | Amélie BRINDAMOUR (Montréal)\n② L’apparentement de Nel P. Racin | Nélanne RACINE (Saguenay)\n③ METAARS RD | Dévoilement de l’exposition-témoin de la résidence Art actuel en milieu scolaire | Dennis BARIL (Saguenay) \n24 avril au 28 juin 2026\n______________________________________ \n① Nous sommes tou•te•s signaux\nAmélie BRINDAMOUR (Montréal) \n✦ Nous sommes tou•te•s signaux explore la bioluminescence comme mode de communication du vivant. À travers trois installations interactives combinant biomatériaux et technologies\, l’artiste capte et traduit des signaux (sonores\, biologiques\, tactiles) en expériences sensibles. En décentrant le regard anthropocentrique\, elle invite à percevoir d’autres formes de langage et à envisager une relation plus attentive et égalitaire avec les autres espèces.\n______________________________________ \n② L’apparentement de Nel P. Racin\nNélanne RACINE (Saguenay) \n✦ Le projet L’apparentement de Nel P. Racin propose une réflexion sur les relations entre le soi\, l’espace et le langage\, envisagés non plus comme des entités distinctes\, mais comme des réalités intriquées. À travers une œuvre vidéographique et des déclinaisons imprimées\, l’artiste explore des micro-mouvements de régulation où les éléments (corps\, décors\, signes) interagissent selon des logiques fluides et mouvantes. \nEn s’appropriant des fragments cinématographiques et littéraires\, notamment inspirés de Marguerite Duras\, elle altère les figures et brouille les identités\, ouvrant à une pensée non dualiste. Les formes circulaires\, ondulatoires et particulaires qui traversent l’ensemble du corpus traduisent cette instabilité fondamentale : les phénomènes ne sont ni internes ni externes\, mais circulent entre les deux. \nAinsi\, le projet agit comme un dispositif critique\, remettant en question les constructions dualistes héritées et proposant une vision plus poreuse\, relationnelle et mouvante de l’identité et du monde.\n______________________________________ \n③ METAARS RD | Art actuel en milieu scolaire\nDennis BARIL (Saguenay) \n✦ Le projet METAARS RD prolonge cette recherche en l’inscrivant dans un cadre participatif et spéculatif. Conçu comme une filiale fictive de A.R.T. (Art\, Recherche et Technologie)\, il transpose les codes de la recherche et développement dans un contexte artistique et pédagogique. \nÀ travers ce dispositif\, des élèves sont invités à intégrer une équipe de « recherche » et à imaginer une vision issue d’un futur marqué par les transformations climatiques et une économie de partage. En s’appuyant sur des principes low-tech\, le projet interroge les relations entre technologie\, société et environnement.\nLes objets conçus\, à la fois poétiques et mécaniques\, matérialisent des expressions ou des états. La vision de l’avenir ouvre un espace de réflexion critique sur les futurs possibles. Le projet agit ainsi comme un laboratoire de pensée où la création artistique devient un vecteur d’anticipation et de reconfiguration du réel.\n______________________________________ \nPour en savoir davantage : www.langageplus.com
URL:https://quoifairealma.com/evenement/expositions-du-printemps-amelie-brindamour-nelanne-racine-dennis-baril/
LOCATION:Langage Plus\, 555\, rue Collard Ouest\, Alma\, G8B 1N1
CATEGORIES:Expositions,Loisirs et culture
ATTACH;FMTTYPE=image/jpeg:https://quoifairealma.com/app/uploads/2026/04/260324_visuel_lavitrine_brindamour_racine_baril2-scaled.jpg
ORGANIZER;CN="Langage Plus":MAILTO:direction.admin@langageplus.com
END:VEVENT
END:VCALENDAR