BEGIN:VCALENDAR
VERSION:2.0
PRODID:-//Quoi faire à Alma - ECPv6.15.14//NONSGML v1.0//EN
CALSCALE:GREGORIAN
METHOD:PUBLISH
X-ORIGINAL-URL:https://quoifairealma.com
X-WR-CALDESC:Évènements pour Quoi faire à Alma
REFRESH-INTERVAL;VALUE=DURATION:PT1H
X-Robots-Tag:noindex
X-PUBLISHED-TTL:PT1H
BEGIN:VTIMEZONE
TZID:America/New_York
BEGIN:DAYLIGHT
TZOFFSETFROM:-0500
TZOFFSETTO:-0400
TZNAME:EDT
DTSTART:20240310T070000
END:DAYLIGHT
BEGIN:STANDARD
TZOFFSETFROM:-0400
TZOFFSETTO:-0500
TZNAME:EST
DTSTART:20241103T060000
END:STANDARD
BEGIN:DAYLIGHT
TZOFFSETFROM:-0500
TZOFFSETTO:-0400
TZNAME:EDT
DTSTART:20250309T070000
END:DAYLIGHT
BEGIN:STANDARD
TZOFFSETFROM:-0400
TZOFFSETTO:-0500
TZNAME:EST
DTSTART:20251102T060000
END:STANDARD
BEGIN:DAYLIGHT
TZOFFSETFROM:-0500
TZOFFSETTO:-0400
TZNAME:EDT
DTSTART:20260308T070000
END:DAYLIGHT
BEGIN:STANDARD
TZOFFSETFROM:-0400
TZOFFSETTO:-0500
TZNAME:EST
DTSTART:20261101T060000
END:STANDARD
BEGIN:DAYLIGHT
TZOFFSETFROM:-0500
TZOFFSETTO:-0400
TZNAME:EDT
DTSTART:20270314T070000
END:DAYLIGHT
BEGIN:STANDARD
TZOFFSETFROM:-0400
TZOFFSETTO:-0500
TZNAME:EST
DTSTART:20271107T060000
END:STANDARD
END:VTIMEZONE
BEGIN:VEVENT
DTSTART;TZID=America/New_York:20260130T170000
DTEND;TZID=America/New_York:20260329T163000
DTSTAMP:20260422T022605
CREATED:20260120T190611Z
LAST-MODIFIED:20260130T150040Z
UID:10001658-1769792400-1774801800@quoifairealma.com
SUMMARY:EXPOSITIONS | Christian MESSIER + Emy G. ST-LAURENT + Natalie BIRECKI
DESCRIPTION:| 3 NOUVELLES EXPOSITIONS ET PERFORMANCE SONORE À LANGAGE PLUS | \nLe 30 janvier 2026\, dès 17 h\, Langage Plus organise un triple lancement réunissant deux expositions en arts visuels (Christian Messier de Montréal et d’Emy G. St-Laurent de Saguenay)\, une exposition-témoin en vitrine (projet Art actuel en milieu scolaire de Natalie Birecki de Saguenay)\, et une performance sonore de Christian Messier. \nChristian MESSIER (Montréal)\nL’étrange ballet des étourneaux \nL’étrange ballet des étourneaux\, ce mouvement collectif synchronisé\, pousse des milliers d’oiseaux à former un nuage se métamorphosant de manière imprévisible. L’artiste reprend la poésie de ce phénomène biologique comme miroir au comportement de l’introverti. Plutôt qu’être en sympathie (synchronisé avec autrui)\, l’introverti reste en empathie (à la place d’autrui\, comme un spectateur). Ce projet tente de placer le spectateur dans cette posture déphasée avec l’autre. \nEmy G. ST-LAURENT (Saguenay)\nHabitats omniscients \nL’idée d’écosystème et le concept de la pensée écologique de Timothy Morton sont les prémices à la création de Habitats omniscients : cet état d’être au monde où tout est lié. Afin d’y parvenir\, elle opte pour une variété de médiums et de matières (peinture et textile)\, même les référents visuels sont choisis pour mêler les pistes entre végétal\, animal\, minéral\, etc. Ici\, les frontières deviennent floues et l’artiste invite le public à être habité autant qu’à habiter les espaces. \nNatalie BIRECKI (Saguenay)\nFood Opera | Art actuel en milieu scolaire \nNous invitons la population à venir découvrir les traces du projet Food Opera / Art actuel en milieu scolaire de Natalie Birecki lors du vernissage\, qui se tiendra le 30 janvier 2026 à 17 h. Réalisé en collaboration avec l’équipe-école et des élèves de l’école secondaire Riverside\, à Arvida\, ce projet s’inscrit dans une démarche de médiation et de création en art actuel en milieu scolaire. Une œuvre permanente a été installée dans la cafétéria de l’établissement\, et le projet fera l’objet d’une publication ultérieurement. \nDu 30 janvier au 29 mars 2026. \nPour en savoir plus : https://www.langageplus.com/
URL:https://quoifairealma.com/evenement/expositions-christian-messier-emy-g-st-laurent-natalie-birecki/
LOCATION:Langage Plus\, 555\, rue Collard Ouest\, Alma\, G8B 1N1
CATEGORIES:Expositions,Loisirs et culture
ATTACH;FMTTYPE=image/jpeg:https://quoifairealma.com/app/uploads/2026/01/260109_visuel_evenement_fb_messier_st-laurent2-scaled.jpg
ORGANIZER;CN="Langage Plus":MAILTO:direction.admin@langageplus.com
END:VEVENT
BEGIN:VEVENT
DTSTART;TZID=America/New_York:20251023T170000
DTEND;TZID=America/New_York:20260104T163000
DTSTAMP:20260422T022605
CREATED:20251015T150102Z
LAST-MODIFIED:20251021T142637Z
UID:10001085-1761238800-1767544200@quoifairealma.com
SUMMARY:Expositions en art visuel | Sarah F. Maloney + Natalie Birecki
DESCRIPTION:| 𝗡𝗢𝗨𝗩𝗘𝗟𝗟𝗘𝗦 𝗘𝗫𝗣𝗢𝗦𝗜𝗧𝗜𝗢𝗡𝗦 | \n+ Deux nouvelles expositions : Sarah F. MALONEY + Natalie BIRECKI\n+ Dévoilement de la première 𝙑𝙞𝙩𝙧𝙞𝙣𝙚 𝘿𝙚𝙨𝙟𝙖𝙧𝙙𝙞𝙣𝙨 / 𝙍𝙚́𝙨𝙞𝙙𝙚𝙣𝙘𝙚 𝙍𝘼𝙔𝙊𝙉 : Amélia TREMBLAY \n23 Octobre au 4 janvier 2026 \n▶︎ Joignez-vous à nous le jeudi 23 octobre 2025 à 17 h à l’accueil du centre d’art actuel Langage Plus à l’occasion du vernissage d’automne !\n______________________________________ \n𝘈𝘶 107\, 𝘤𝘦 𝘲𝘶𝘦 𝘯𝘰𝘶𝘴 𝘭𝘢𝘪𝘴𝘴𝘰𝘯𝘴 𝘢̀ 𝘭𝘢 𝘧𝘰𝘳𝘦̂𝘵\n𝗦𝗮𝗿𝗮𝗵 𝗙. 𝗠𝗮𝗹𝗼𝗻𝗲𝘆 (𝗦𝗲𝗽𝘁-𝗜̂𝗹𝗲𝘀) \nÀ l’automne 2014\, Maloney entreprend une recherche immersive auprès d’un groupe de chasseurs d’orignal afin d’expérimenter\, de l’intérieur\, leur rapport à la forêt boréale. Au fil des jours\, l’artiste observe et adopte leur gestuelle — une marche lente\, lourde\, presque animale — qui devient le cœur d’un geste performatif partagé. Cette expérience de l’attente\, de l’écoute et du mimétisme nourrit une réflexion sur la lenteur et la perception\, transposée plus tard dans le projet Evergreen (2017). L’artiste y explore la représentation artificielle du paysage à travers une série de tableaux aux tons « vert forêt »\, mis à l’épreuve dans un champ de tir. Sans correction oculaire\, guidée par un chasseur\, Maloney vise ces œuvres\, testant les limites de sa vision et de la précision du geste. Entre errance et contemplation\, Au 107\, ce que nous laissons à la forêt interroge la posture du chasseur comme celle du regardeur d’art : un état d’attention suspendue au seuil du visible. \n► https://www.langageplus.com/2025/10/06/au-107-ce-que-nous-laissons-a-la-foret/\n______________________________________ \n𝘈𝘮𝘶𝘭𝘦𝘵𝘵𝘦𝘴 𝘤𝘰𝘮𝘦𝘴𝘵𝘪𝘣𝘭𝘦𝘴\n𝗡𝗮𝘁𝗮𝗹𝗶𝗲 𝗕𝗶𝗿𝗲𝗰𝗸𝗶 (𝗦𝗮𝗴𝘂𝗲𝗻𝗮𝘆 / 𝗣𝗼𝗹𝗼𝗴𝗻𝗲) \nAmulettes comestibles explore l’émergence d’une « troisième culture » née de la rencontre entre l’héritage polonais de l’artiste et son ancrage québécois. Plutôt qu’une simple juxtaposition identitaire\, cette cohabitation agit comme un espace de transformation où les traditions se réinventent au contact du quotidien. Chez Birecki\, la cuisine devient un lieu de métamorphose symbolique : les objets frits\, à la fois profanes et sacrés\, transposent l’esthétique religieuse dans le champ domestique\, réinscrivant le sacré au cœur du vivre-ensemble. Par ce geste\, l’artiste questionne l’autorité du rituel et les formes de croyance qui unissent la matière et l’esprit. Car\, sans nourriture\, nul ne survit ; sans sacré\, nul ne s’élève. Amulettes comestibles propose ainsi une table d’offrandes contemporaines où se conjuguent mémoire\, humour et tendresse – un laboratoire intime où le foyer devient atelier et la foi\, un acte de création. \n► https://www.langageplus.com/2025/10/06/amulettes-comestibles/\n______________________________________ \n𝘙𝘦́𝘴𝘪𝘥𝘦𝘯𝘤𝘦 𝘙𝘈𝘠𝘖𝘕\nAmélia Tremblay (Dolbeau-Mistassini) \nLe projet s’inscrit dans une réflexion contemporaine sur l’environnement et sur les impacts que l’humanité exerce sur celui-ci. Par la réutilisation de vêtements et de tissus voués au rebut\, l’artiste souhaite à la fois redonner vie à la matière et dénoncer les dérives de la surconsommation. Sa recherche explore des procédés d’intervention sur le textile qui demeurent respectueux de l’écosystème. L’être humain occupe une place centrale dans chacune des œuvres\, puisqu’il s’agit avant tout de mettre en lumière le rôle que chacun joue dans ce cycle vicieux de consommation et de gaspillage. \n►https://www.langageplus.com/2025/09/26/residence-rayon/\n______________________________________
URL:https://quoifairealma.com/evenement/expositions-en-art-visuel-sarah-f-maloney-natalie-birecki/
LOCATION:Langage Plus\, 555\, rue Collard Ouest\, Alma\, G8B 1N1
CATEGORIES:Expositions,Loisirs et culture
ATTACH;FMTTYPE=image/jpeg:https://quoifairealma.com/app/uploads/2025/10/251002_banniere_fb_maloney_birecki2-copie-2-scaled.jpg
ORGANIZER;CN="Langage Plus":MAILTO:direction.admin@langageplus.com
END:VEVENT
BEGIN:VEVENT
DTSTART;TZID=America/New_York:20250724T100000
DTEND;TZID=America/New_York:20250926T200000
DTSTAMP:20260422T022605
CREATED:20250716T115634Z
LAST-MODIFIED:20250716T115634Z
UID:10001608-1753351200-1758916800@quoifairealma.com
SUMMARY:EXPOSITIONS | Mathieu LÉVESQUE + Denys TREMBLAY
DESCRIPTION:Du 24 juillet au 26 septembre\, le centre d’art actuel Langage Plus diffuse deux nouvelles expositions qui questionnent l’image\, la mémoire collective et les mécanismes de reconnaissance sociale. Denys Tremblay présente des archives et traces de son personnage L’Illustre Inconnu. En dialogue\, Mathieu Lévesque dévoile des toiles où s’entrelacent symboles populaires et distorsions visuelles\, explorant la frontière entre authenticité et culture médiatique. \nPrésentation des expositions\nErrances et distorsions : entre l’humeur de Garfield et le charme d’Albi le Géant\nMathieu LÉVESQUE (Montréal) \nDans un monde saturé d’images où l’apparence domine\, Mathieu Lévesque explore la tension entre spontanéité et contrôle ainsi que la mémoire personnelle face aux signes culturels. Ses toiles aux formes géométriques irrégulières débordent des cadres pour envahir l’espace. Mélangeant graffiti et minimalisme\, ses œuvres traduisent un état d’errance mentale\, un « glitch » visuel illustrant la fragilité de la perception. Sa nouvelle série prolonge le projet Les Parulines en intégrant des figures populaires et reliques numériques distordues\, telles que logos oubliés et symboles rebelles. Inspiré par l’individualisme contemporain de Gilles Lipovetsky\, Lévesque donne voix aux discrets et marginaux\, peignant l’écho d’une époque. \nLes habits de L’Illustre Inconnu\nDenys TREMBLAY / Illustre Inconnu (Falardeau) \nLes habits de l’Illustre Inconnu\, personnage emblématique de Denys Tremblay\, ont été généreusement offerts en don à la Collection + du centre d’art actuel Langage Plus. Ces vêtements\, chargés d’une forte dimension symbolique\, enrichissent ainsi le patrimoine artistique du centre. Par ailleurs\, Denys Tremblay présente également le film Coup d’État périphérique : 14 avril 1983 ainsi que le Dernier discours connu de S.M. l’Histoire de l’art métropolitaine\, projet marquant diffusé au Centre Pompidou\, offrant un regard complémentaire sur son univers critique et performatif. \nEn savoir plus: www.langageplus.com \n  \n 
URL:https://quoifairealma.com/evenement/expositions-mathieu-levesque-denys-tremblay/
LOCATION:Langage Plus\, 555\, rue Collard Ouest\, Alma\, G8B 1N1
CATEGORIES:Expositions,Loisirs et culture
ATTACH;FMTTYPE=image/jpeg:https://quoifairealma.com/app/uploads/2025/07/LP.jpg
ORGANIZER;CN="Langage Plus":MAILTO:direction.admin@langageplus.com
END:VEVENT
BEGIN:VEVENT
DTSTART;TZID=America/New_York:20250424T170000
DTEND;TZID=America/New_York:20250706T163000
DTSTAMP:20260422T022605
CREATED:20250408T193415Z
LAST-MODIFIED:20250409T122003Z
UID:10000883-1745514000-1751819400@quoifairealma.com
SUMMARY:Vernissage | 𝙋𝙝𝙤𝙗𝙤𝙨 𝘿𝙚𝙞𝙢𝙤𝙨
DESCRIPTION:| 𝗘𝗫𝗣𝗢𝗦𝗜𝗧𝗜𝗢𝗡 | 𝗟𝗔𝗡𝗖𝗘𝗠𝗘𝗡𝗧 | 𝗣𝗢𝗦𝗧𝗘 𝗔𝗨𝗗𝗜𝗢 | \n→ Joignez-vous à nous le jeudi 24 avril 2025 à 17 h à l’accueil du centre d’art actuel Langage Plus à l’occasion du vernissage triple du printemps ! \n+ Une exposition SOLO qui métamorphose tout le centre !\n+ Le lancement de deux publications-témoins de projets initiés par Langage Plus\, édité par Mariane Tremblay.\n+ Une nouvelle œuvre sonore au Poste audio Agora +\n______________________________________ \n𝘗𝘩𝘰𝘣𝘰𝘴 𝘋𝘦𝘪𝘮𝘰𝘴\n𝗦𝗶𝗺𝗼𝗻 𝗘́𝗠𝗢𝗡𝗗 (𝗠𝗲́𝘁𝗮𝗯𝗲𝘁𝗰𝗵𝗼𝘂𝗮𝗻-𝗟𝗮𝗰-𝗮̀-𝗹𝗮-𝗖𝗿𝗼𝗶𝘅)\n𝘗𝘳𝘦́𝘴𝘦𝘯𝘵𝘦́ 𝘱𝘢𝘳 𝘭𝘢 𝘝𝘪𝘭𝘭𝘦 𝘥𝘦 𝘔𝘦́𝘵𝘢𝘣𝘦𝘵𝘤𝘩𝘰𝘶𝘢𝘯-𝘓𝘢𝘤-𝘢̀-𝘭𝘢-𝘊𝘳𝘰𝘪𝘹 \nDevant l’objectif de Simon ÉMOND\, ce qui se donne à voir n’est jamais qu’un prétexte. La chair\, la matière cèdent. Le rempart de lumière et d’ombre se dissout\, laissant paraître l’inéluctable : à force de performer\, nous nous oublions – traversons nos jours sans savoir qui nous sommes\, ni ce que nous projetons.\nMais quels démons fuit-on ? \nC’est à partir de cette question qu’ÉMOND s’est replongé dans les premières années de sa pratique photographique. En revisitant ses archives\, en disloquant les pixels en chambre noire numérique\, il n’a pas seulement tenté de désassembler ce qui se manifestait devant l’objectif\, mais aussi ce qui bougeait en lui comme créateur s’avançant à la rencontre du monde. \n𝗣𝗿𝗲́𝘀𝗲𝗻𝘁𝗮𝘁𝗶𝗼𝗻 𝗱𝗲𝘀 𝗻𝗼𝘂𝘃𝗲𝗹𝗹𝗲𝘀 𝗽𝘂𝗯𝗹𝗶𝗰𝗮𝘁𝗶𝗼𝗻𝘀 \n𝘊𝘰𝘯𝘵𝘢𝘮𝘪𝘯𝘢𝘵𝘪𝘰𝘯 𝘦𝘵 𝘮𝘢𝘵𝘦́𝘳𝘪𝘢𝘭𝘪𝘵𝘦́ 𝘤𝘶𝘭𝘵𝘶𝘳𝘦𝘭𝘭𝘦\n𝗬𝗮𝗻𝗶𝗸 𝗣𝗢𝗧𝗩𝗜𝗡 (𝗛𝗲́𝗯𝗲𝗿𝘁𝘃𝗶𝗹𝗹𝗲) 𝗲𝘁 𝗟𝗮́𝘀𝘇𝗹𝗼́ 𝗙𝗘𝗞𝗘𝗧𝗘 (𝗕𝘂𝗱𝗮𝗽𝗲𝘀𝘁) \nÀ l’été 2023\, Langage Plus recevait en résidence de recherche-création les artistes céramistes Yanik POTVIN (Hébertville) et László FEKETE (Hongrie). Issue de deux générations de céramistes\, ils ont investi le médium à la manière d’un « exercice expérimental sur l’identité culturelle de la matérialité ». Cette publication développée sous la direction éditoriale de Mariane Tremblay fait état des résultats de cette résidence. \n𝘊𝘦 𝘱𝘳𝘰𝘫𝘦𝘵 𝘦𝘴𝘵 𝘴𝘰𝘶𝘵𝘦𝘯𝘶 𝘱𝘢𝘳 𝘭𝘦 𝘊𝘰𝘯𝘴𝘦𝘪𝘭 𝘥𝘦𝘴 𝘢𝘳𝘵𝘴 𝘦𝘵 𝘥𝘦𝘴 𝘭𝘦𝘵𝘵𝘳𝘦𝘴 𝘥𝘶 𝘘𝘶𝘦́𝘣𝘦𝘤 𝘦𝘵 𝘣𝘦́𝘯𝘦́𝘧𝘪𝘤𝘪𝘦 𝘥𝘦 𝘭𝘢 𝘤𝘰𝘭𝘭𝘢𝘣𝘰𝘳𝘢𝘵𝘪𝘰𝘯 𝘥𝘶 𝘊𝘦𝘯𝘵𝘳𝘦 𝘚𝘈𝘎𝘈𝘔𝘐𝘌. \n► https://www.langageplus.com/2025/04/07/contamination-et-materialite-culturelle-de-laszlo-fekete-et-yanik-potvin/ \n𝘉𝘳𝘰𝘥𝘦 𝘵𝘢 𝘷𝘪𝘦\n𝗘́𝗺𝗶𝗹𝗶𝗲 𝗗𝗘𝗦𝗠𝗘𝗨𝗟𝗘𝗦 (𝗠𝗲́𝘁𝗮𝗯𝗲𝘁𝗰𝗵𝗼𝘂𝗮𝗻-𝗟𝗮𝗰-𝗮̀-𝗹𝗮-𝗖𝗿𝗼𝗶𝘅) \nD’octobre à novembre 2023\, Émilie DESMEULES (Métabetchouan-Lac-à-la-Croix) effectuait\, à l’initiative de Langage Plus\, une résidence axée sur une production immersive en contexte scolaire du niveau primaire. Jumelée à l’école Saint-Antoine située dans la municipalité de Saint-Gédéon\, l’artiste a su développer des créations uniques avec la collaboration des 177 élèves. Cette publication développée sous la direction éditoriale de Mariane Tremblay fait état des résultats de cette résidence. \n𝘊𝘦 𝘱𝘳𝘰𝘫𝘦𝘵 𝘦𝘴𝘵 𝘴𝘰𝘶𝘵𝘦𝘯𝘶 𝘱𝘢𝘳 𝘭𝘦 𝘊𝘰𝘯𝘴𝘦𝘪𝘭 𝘥𝘦𝘴 𝘢𝘳𝘵𝘴 𝘦𝘵 𝘥𝘦𝘴 𝘭𝘦𝘵𝘵𝘳𝘦𝘴 𝘥𝘶 𝘘𝘶𝘦́𝘣𝘦𝘤 𝘦𝘵 𝘣𝘦́𝘯𝘦́𝘧𝘪𝘤𝘪𝘦 𝘥𝘦 𝘭𝘢 𝘤𝘰𝘭𝘭𝘢𝘣𝘰𝘳𝘢𝘵𝘪𝘰𝘯 𝘥𝘶 𝘊𝘦𝘯𝘵𝘳𝘦 𝘚𝘈𝘎𝘈𝘔𝘐𝘌 𝘦𝘵 𝘥𝘦 𝘭𝘢 𝘨𝘦́𝘯𝘦́𝘳𝘦𝘶𝘴𝘦 𝘱𝘢𝘳𝘵𝘪𝘤𝘪𝘱𝘢𝘵𝘪𝘰𝘯 𝘥𝘦 𝘭’𝘌́𝘤𝘰𝘭𝘦 𝘚𝘢𝘪𝘯𝘵-𝘈𝘯𝘵𝘰𝘪𝘯𝘦 𝘥𝘶 𝘊𝘦𝘯𝘵𝘳𝘦 𝘥𝘦 𝘴𝘦𝘳𝘷𝘪𝘤𝘦𝘴 𝘴𝘤𝘰𝘭𝘢𝘪𝘳𝘦 𝘥𝘶 𝘓𝘢𝘤-𝘚𝘢𝘪𝘯𝘵-𝘑𝘦𝘢𝘯 𝘢𝘪𝘯𝘴𝘪 𝘲𝘶𝘦 𝘥𝘦 𝘭𝘢 𝘮𝘶𝘯𝘪𝘤𝘪𝘱𝘢𝘭𝘪𝘵𝘦́ 𝘥𝘦 𝘚𝘢𝘪𝘯𝘵-𝘎𝘦́𝘥𝘦́𝘰𝘯. \n► https://www.langageplus.com/2025/04/07/brode-ta-vie-demilie-desmeules/\n______________________________________ \n𝗣𝗿𝗲́𝘀𝗲𝗻𝘁𝗮𝘁𝗶𝗼𝗻 𝗱𝘂 𝗽𝗼𝘀𝘁𝗲 𝗮𝘂𝗱𝗶𝗼 \n𝘓𝘦𝘴 𝘴𝘤𝘶𝘭𝘱𝘵𝘶𝘳𝘦𝘴 𝘴𝘰𝘯𝘵 𝘩𝘦𝘳𝘣𝘪𝘷𝘰𝘳𝘦𝘴 tirée de l’album 𝘓𝘦 𝘋𝘪𝘢𝘭𝘦𝘤𝘵𝘦 𝘥𝘦𝘴 𝘴𝘤𝘶𝘭𝘱𝘵𝘶𝘳𝘦𝘴\n𝗠𝗮𝗿𝗰 𝗟𝗔𝗟𝗢𝗡𝗗𝗘 (𝗟𝗼𝗻𝗴𝘂𝗲𝘂𝗶𝗹) \nCe sera également l’occasion de découvrir la nouvelle proposition au Poste audio. Marc LALONDE (Longueuil) nous offre l’œuvre musicale 𝘓𝘦𝘴 𝘴𝘤𝘶𝘭𝘱𝘵𝘶𝘳𝘦𝘴 𝘴𝘰𝘯𝘵 𝘩𝘦𝘳𝘣𝘪𝘷𝘰𝘳𝘦𝘴 tirée de l’album 𝘓𝘦 𝘋𝘪𝘢𝘭𝘦𝘤𝘵𝘦 𝘥𝘦𝘴 𝘴𝘤𝘶𝘭𝘱𝘵𝘶𝘳𝘦𝘴\, sélectionnée dans le cadre de la programmation de 𝘭’𝘈𝘨𝘰𝘳𝘢 + | 𝘎𝘢𝘭𝘦𝘳𝘪𝘦 𝘴𝘢𝘯𝘴 𝘮𝘶𝘳𝘴. \n𝘓𝘦 𝘱𝘰𝘴𝘵𝘦 𝘢𝘶𝘥𝘪𝘰 𝘥𝘦 𝘭’𝘈𝘨𝘰𝘳𝘢 + 𝘦𝘴𝘵 𝘶𝘯 𝘱𝘳𝘰𝘫𝘦𝘵 𝘳𝘦́𝘢𝘭𝘪𝘴𝘦́ 𝘨𝘳𝘢̂𝘤𝘦 𝘢𝘶 𝘴𝘰𝘶𝘵𝘪𝘦𝘯 𝘧𝘪𝘯𝘢𝘯𝘤𝘪𝘦𝘳 𝘥𝘶 𝘨𝘰𝘶𝘷𝘦𝘳𝘯𝘦𝘮𝘦𝘯𝘵 𝘥𝘶 𝘘𝘶𝘦́𝘣𝘦𝘤 𝘦𝘵 𝘥𝘦 𝘭𝘢 𝘔𝘙𝘊 𝘥𝘦 𝘓𝘢𝘤-𝘚𝘢𝘪𝘯𝘵-𝘑𝘦𝘢𝘯-𝘌𝘴𝘵 𝘥𝘢𝘯𝘴 𝘭𝘦 𝘤𝘢𝘥𝘳𝘦 𝘥𝘦 𝘭’𝘌𝘯𝘵𝘦𝘯𝘵𝘦 𝘥𝘦 𝘥𝘦́𝘷𝘦𝘭𝘰𝘱𝘱𝘦𝘮𝘦𝘯𝘵 𝘤𝘶𝘭𝘵𝘶𝘳𝘦𝘭 𝘥𝘦 𝘭𝘢 𝘔𝘙𝘊 𝘥𝘦 𝘓𝘢𝘤-𝘚𝘢𝘪𝘯𝘵-𝘑𝘦𝘢𝘯-𝘌𝘴𝘵. \n► https://www.langageplus.com/2025/04/04/les-sculptures-sont-herbivores-tiree-de-lalbum-le-dialecte-des-sculptures/
URL:https://quoifairealma.com/evenement/vernissage-%f0%9d%99%8b%f0%9d%99%9d%f0%9d%99%a4%f0%9d%99%97%f0%9d%99%a4%f0%9d%99%a8-%f0%9d%98%bf%f0%9d%99%9a%f0%9d%99%9e%f0%9d%99%a2%f0%9d%99%a4%f0%9d%99%a8/
LOCATION:Langage Plus\, 555\, rue Collard Ouest\, Alma\, G8B 1N1
CATEGORIES:Expositions,Loisirs et culture
ATTACH;FMTTYPE=image/jpeg:https://quoifairealma.com/app/uploads/2025/04/Affiche_banniere_facebook.jpg
ORGANIZER;CN="Langage Plus":MAILTO:direction.admin@langageplus.com
END:VEVENT
END:VCALENDAR