BEGIN:VCALENDAR
VERSION:2.0
PRODID:-//Quoi faire à Alma - ECPv6.15.14//NONSGML v1.0//EN
CALSCALE:GREGORIAN
METHOD:PUBLISH
X-WR-CALNAME:Quoi faire à Alma
X-ORIGINAL-URL:https://quoifairealma.com
X-WR-CALDESC:Évènements pour Quoi faire à Alma
REFRESH-INTERVAL;VALUE=DURATION:PT1H
X-Robots-Tag:noindex
X-PUBLISHED-TTL:PT1H
BEGIN:VTIMEZONE
TZID:America/New_York
BEGIN:DAYLIGHT
TZOFFSETFROM:-0500
TZOFFSETTO:-0400
TZNAME:EDT
DTSTART:20250309T070000
END:DAYLIGHT
BEGIN:STANDARD
TZOFFSETFROM:-0400
TZOFFSETTO:-0500
TZNAME:EST
DTSTART:20251102T060000
END:STANDARD
BEGIN:DAYLIGHT
TZOFFSETFROM:-0500
TZOFFSETTO:-0400
TZNAME:EDT
DTSTART:20260308T070000
END:DAYLIGHT
BEGIN:STANDARD
TZOFFSETFROM:-0400
TZOFFSETTO:-0500
TZNAME:EST
DTSTART:20261101T060000
END:STANDARD
BEGIN:DAYLIGHT
TZOFFSETFROM:-0500
TZOFFSETTO:-0400
TZNAME:EDT
DTSTART:20270314T070000
END:DAYLIGHT
BEGIN:STANDARD
TZOFFSETFROM:-0400
TZOFFSETTO:-0500
TZNAME:EST
DTSTART:20271107T060000
END:STANDARD
END:VTIMEZONE
BEGIN:VEVENT
DTSTART;TZID=America/New_York:20260428T200000
DTEND;TZID=America/New_York:20260428T220000
DTSTAMP:20260421T232034
CREATED:20260421T145022Z
LAST-MODIFIED:20260421T145022Z
UID:10003406-1777406400-1777413600@quoifairealma.com
SUMMARY:Cabaret 6 - La Boîte à Boldock
DESCRIPTION:Alma a sa propre soirée de style « Comédie Club »! Une soirée mensuelle chapeautée par (on n’pourrait mieux dire) notre Guillaume Boldock national!Chaque mois\, c’est à la Boîte à Bleuets qu’il débarquera avec trois de ses collègues humoristes : Deux premières parties et une tête d’affiche\, pour vous donner tout un show. \nC’est LE RENDEZ VOUS EN HUMOUR à ne pas manquer! Manque pas ça! \nLes spectacles de Boldock sont disponibles à l’unité ou en forfait.
URL:https://quoifairealma.com/evenement/cabaret-6-la-boite-a-boldock/
LOCATION:La Boîte à Bleuets\, 525 Rue Sacré-Coeur O\, Alma\, Québec\, Canada
CATEGORIES:Spectacles et festivals
ATTACH;FMTTYPE=image/png:https://quoifairealma.com/app/uploads/2026/04/cabaret-6-la-boite-a-boldock.jpg
END:VEVENT
BEGIN:VEVENT
DTSTART;TZID=America/New_York:20260508T200000
DTEND;TZID=America/New_York:20260508T220000
DTSTAMP:20260421T232034
CREATED:20260421T145023Z
LAST-MODIFIED:20260421T145023Z
UID:10003407-1778270400-1778277600@quoifairealma.com
SUMMARY:Silvi Tourigny
DESCRIPTION:L’humoriste Silvi Tourigny s’apprête à brûler les planches avec son premier spectacle solo\, En feu! Ce one-woman-show est une plongée hilarante dans son vécu\, mais surtout dans ses envies\, celles d’une femme libérée et assumée. Au cours des dernières années\, il s’en est passé des choses dans sa vie : une maison\, un enfant\, une moto\, une séparation\, une autre maison\, des rencontres douteuses\, une autre relation et c’est sans compter sa passion beaucoup trop intense pour les animaux! Silvi et sa fidèle acolyte\, Carole\, sont plus enflammées que jamais et prêtes à non seulement vous faire rire\, mais également à vous donner le goût de danser! Avec son naturel désarmant\, la rouquine fait souffler un vent d’énergie et d’humour qui séduit à grands éclats de rire. \nComme dirait Carole : « Pas besoin de t’avertir que tu vas avoir du fun parce que Silvi est EN FEU!!! »
URL:https://quoifairealma.com/evenement/silvi-tourigny/
LOCATION:La Boîte à Bleuets\, 525 Rue Sacré-Coeur O\, Alma\, Québec\, Canada
CATEGORIES:Humour et variétés,Spectacles et festivals
ATTACH;FMTTYPE=image/png:https://quoifairealma.com/app/uploads/2026/04/silvi-tourigny.jpg
END:VEVENT
BEGIN:VEVENT
DTSTART;TZID=America/New_York:20260522T200000
DTEND;TZID=America/New_York:20260522T220000
DTSTAMP:20260421T232034
CREATED:20260421T145028Z
LAST-MODIFIED:20260421T145028Z
UID:10003411-1779480000-1779487200@quoifairealma.com
SUMMARY:Les Gabiers d'Aquilon
DESCRIPTION:
URL:https://quoifairealma.com/evenement/les-gabiers-daquilon-2/
LOCATION:La Boîte à Bleuets\, 525 Rue Sacré-Coeur O\, Alma\, Québec\, Canada
CATEGORIES:Musique,Spectacles et festivals
ATTACH;FMTTYPE=image/png:https://quoifairealma.com/app/uploads/2026/04/les-gabiers-daquilon.jpg
END:VEVENT
BEGIN:VEVENT
DTSTART;TZID=America/New_York:20260606T200000
DTEND;TZID=America/New_York:20260606T220000
DTSTAMP:20260421T232034
CREATED:20260421T145027Z
LAST-MODIFIED:20260421T145027Z
UID:10003410-1780776000-1780783200@quoifairealma.com
SUMMARY:Coco Belliveau
DESCRIPTION:En 1692 à Salem\, des procès ont été mis en place afin de mettre fin à la sorcellerie. Des centaines d’années plus tard\, Coco Belliveau fait le rodage de son prochain spectacle. Coïncidence ? Nous ne croyons pas….   \nJoignez-vous à cette charmante acadienne neurodivergente (et totalement brûlée) pour une soirée de paroles envoûtantes. Vite\, avant qu’elle ne soit clouée au pilori pour ses calembredaines et sa Cocologie aiguisée!
URL:https://quoifairealma.com/evenement/coco-belliveau/
LOCATION:La Boîte à Bleuets\, 525 Rue Sacré-Coeur O\, Alma\, Québec\, Canada
CATEGORIES:Humour et variétés,Spectacles et festivals
ATTACH;FMTTYPE=image/png:https://quoifairealma.com/app/uploads/2026/04/coco-belliveau.jpg
END:VEVENT
BEGIN:VEVENT
DTSTART;TZID=America/New_York:20261007T200000
DTEND;TZID=America/New_York:20261007T220000
DTSTAMP:20260421T232034
CREATED:20260421T145026Z
LAST-MODIFIED:20260421T145026Z
UID:10003409-1791403200-1791410400@quoifairealma.com
SUMMARY:Chantal Lamarre
DESCRIPTION:
URL:https://quoifairealma.com/evenement/chantal-lamarre/
LOCATION:La Boîte à Bleuets\, 525 Rue Sacré-Coeur O\, Alma\, Québec\, Canada
CATEGORIES:Humour et variétés,Spectacles et festivals
ATTACH;FMTTYPE=image/png:https://quoifairealma.com/app/uploads/2026/04/chantal-lamarre.jpg
END:VEVENT
BEGIN:VEVENT
DTSTART;TZID=America/New_York:20261105T200000
DTEND;TZID=America/New_York:20261105T220000
DTSTAMP:20260421T232034
CREATED:20260421T145025Z
LAST-MODIFIED:20260421T145025Z
UID:10003408-1793908800-1793916000@quoifairealma.com
SUMMARY:Tommy Néron
DESCRIPTION:Fallait décrire mon show en quelques lignes pis j’ai décidé de ne pas laisser l’assistante du bureau le faire\, ce qui explique pourquoi tu n’as pas encore vu les termes Star du web ou encore Vedette sur les réseaux sociaux. Ces termes-là\, c’est comme le mot Flamboyant\, Y’a pas un humoriste qui se décrit lui-même comme flamboyant. Mon spectacle\, c’est un gros mélange d’observations et d’anecdotes sur mon passé qui\, avec le recul\, n’était pas exactement comme tout le monde. Aussi\, tu peux amener ton ado\, je ne pense pas le traumatiser\, mais c’est à tes risques et péril. Pour le show\, j’ai la chance d’être entouré de la brillante Korine Côté pour la script-édition et du talentueux Laurent Paquin à la mise en scène. Le titre aurait pu être Flamboyant mais j’ai choisi Les fleurs poussent encore… Tu vas comprendre pourquoi en voyant le spectacle !
URL:https://quoifairealma.com/evenement/tommy-neron/
LOCATION:La Boîte à Bleuets\, 525 Rue Sacré-Coeur O\, Alma\, Québec\, Canada
CATEGORIES:Humour et variétés,Spectacles et festivals
ATTACH;FMTTYPE=image/png:https://quoifairealma.com/app/uploads/2026/04/tommy-neron.jpg
END:VEVENT
END:VCALENDAR