BEGIN:VCALENDAR
VERSION:2.0
PRODID:-//Quoi faire à Alma - ECPv6.15.14//NONSGML v1.0//EN
CALSCALE:GREGORIAN
METHOD:PUBLISH
X-WR-CALNAME:Quoi faire à Alma
X-ORIGINAL-URL:https://quoifairealma.com
X-WR-CALDESC:Évènements pour Quoi faire à Alma
REFRESH-INTERVAL;VALUE=DURATION:PT1H
X-Robots-Tag:noindex
X-PUBLISHED-TTL:PT1H
BEGIN:VTIMEZONE
TZID:America/New_York
BEGIN:DAYLIGHT
TZOFFSETFROM:-0500
TZOFFSETTO:-0400
TZNAME:EDT
DTSTART:20250309T070000
END:DAYLIGHT
BEGIN:STANDARD
TZOFFSETFROM:-0400
TZOFFSETTO:-0500
TZNAME:EST
DTSTART:20251102T060000
END:STANDARD
BEGIN:DAYLIGHT
TZOFFSETFROM:-0500
TZOFFSETTO:-0400
TZNAME:EDT
DTSTART:20260308T070000
END:DAYLIGHT
BEGIN:STANDARD
TZOFFSETFROM:-0400
TZOFFSETTO:-0500
TZNAME:EST
DTSTART:20261101T060000
END:STANDARD
BEGIN:DAYLIGHT
TZOFFSETFROM:-0500
TZOFFSETTO:-0400
TZNAME:EDT
DTSTART:20270314T070000
END:DAYLIGHT
BEGIN:STANDARD
TZOFFSETFROM:-0400
TZOFFSETTO:-0500
TZNAME:EST
DTSTART:20271107T060000
END:STANDARD
END:VTIMEZONE
BEGIN:VEVENT
DTSTART;TZID=America/New_York:20260122T170000
DTEND;TZID=America/New_York:20260122T190000
DTSTAMP:20260422T042126
CREATED:20260120T143802Z
LAST-MODIFIED:20260120T143802Z
UID:10001162-1769101200-1769108400@quoifairealma.com
SUMMARY:L'univers Coderr : ensemble pour un avenir durable
DESCRIPTION:Venez vivre une expérience unique au cœur du Groupe Coderr\,un acteur clé de l’économie circulaire\, du développement durable et du logement abordable au Saguenay–Lac-Saint-Jean.\nCette soirée conviviale\, sous forme de 5 à 7\, vous permettra de découvrir les coulisses d’une entreprise engagée dans la valorisation de matières et l’insertion socioprofessionnelle. Ils évitent le gaspillage de matières et de talents!\nAu programme :\n– Visite guidée du Complexe environnemental Ludger-Côté du Groupe Coderr – Découvrez comment les équipes transforment les matières résiduelles\, dont aluminium recyclé social\, en ressources et redonnent vie à des produits tout en soutenant l’emploi local\n– Bouchées et consommations offertes – un moment gourmand pour échanger dans une ambiance détendue\n– Réseautage – rencontrez des professionnels\, des entrepreneurs et des membres de la communauté partageant des valeurs d’innovation et de durabilité\nUne occasion inspirante de rencontrer ceux et celles qui font la différence dans notre région et de tisser des liens autour de valeurs communes : l’environnement\, l’inclusion et la collaboration.
URL:https://quoifairealma.com/evenement/lunivers-coderr-ensemble-pour-un-avenir-durable/
LOCATION:Groupe Coderr\, 1025\, rue des Pins Ouest\, Alma\, Québec\, G8B 7V7\, Canada
CATEGORIES:Communauté,Événements
ATTACH;FMTTYPE=image/jpeg:https://quoifairealma.com/app/uploads/2026/01/610650376_1728347975286390_2076864060389567008_n.jpg
ORGANIZER;CN="Chambre de commerce et d'industrie Saguenay-Le-Fjord":MAILTO:info@ccisf.ca
END:VEVENT
END:VCALENDAR