BEGIN:VCALENDAR
VERSION:2.0
PRODID:-//Quoi faire à Alma - ECPv6.15.14//NONSGML v1.0//EN
CALSCALE:GREGORIAN
METHOD:PUBLISH
X-WR-CALNAME:Quoi faire à Alma
X-ORIGINAL-URL:https://quoifairealma.com
X-WR-CALDESC:Évènements pour Quoi faire à Alma
REFRESH-INTERVAL;VALUE=DURATION:PT1H
X-Robots-Tag:noindex
X-PUBLISHED-TTL:PT1H
BEGIN:VTIMEZONE
TZID:America/New_York
BEGIN:DAYLIGHT
TZOFFSETFROM:-0500
TZOFFSETTO:-0400
TZNAME:EDT
DTSTART:20250309T070000
END:DAYLIGHT
BEGIN:STANDARD
TZOFFSETFROM:-0400
TZOFFSETTO:-0500
TZNAME:EST
DTSTART:20251102T060000
END:STANDARD
BEGIN:DAYLIGHT
TZOFFSETFROM:-0500
TZOFFSETTO:-0400
TZNAME:EDT
DTSTART:20260308T070000
END:DAYLIGHT
BEGIN:STANDARD
TZOFFSETFROM:-0400
TZOFFSETTO:-0500
TZNAME:EST
DTSTART:20261101T060000
END:STANDARD
BEGIN:DAYLIGHT
TZOFFSETFROM:-0500
TZOFFSETTO:-0400
TZNAME:EDT
DTSTART:20270314T070000
END:DAYLIGHT
BEGIN:STANDARD
TZOFFSETFROM:-0400
TZOFFSETTO:-0500
TZNAME:EST
DTSTART:20271107T060000
END:STANDARD
END:VTIMEZONE
BEGIN:VEVENT
DTSTART;TZID=America/New_York:20260120T080000
DTEND;TZID=America/New_York:20260120T170000
DTSTAMP:20260422T045039
CREATED:20260120T144032Z
LAST-MODIFIED:20260120T144032Z
UID:10001163-1768896000-1768928400@quoifairealma.com
SUMMARY:Visite en entreprise chez Groupe Autocar Jeannois
DESCRIPTION:Présentée par DESJARDINS.\n𝗤𝘂𝗮𝗻𝗱 : Jeudi 29 janvier 2026𝗛𝗲𝘂𝗿𝗲 : 17 h – 19 h𝗢𝘂̀ : Groupe Autocar Jeannois (1135\, rue Hubert Reeves\, Alma (QC) G8C 0M1)\n𝗙𝗼𝗿𝗺𝘂𝗹𝗲 𝟱 𝗮̀ 𝟳 𝗿𝗲́𝘀𝗲𝗮𝘂𝘁𝗮𝗴𝗲Breuvages et bouchées vous seront offerts\nMembre : GratuitNon-membre : 25$\nSoyez des nôtres!\n𝗣𝗼𝘂𝗿 𝗿𝗲́𝘀𝗲𝗿𝘃𝗲𝗿 :https://docs.google.com/…/1UPmiMZw9Tirm1XiqzBHxpyg…/edit
URL:https://quoifairealma.com/evenement/visite-en-entreprise-chez-groupe-autocar-jeannois/
LOCATION:Groupe Autocas Jeannois\, 1135\, rue Hubert Reeves\, Alma\, Québec\, G8C 0M1\, Canada
CATEGORIES:Communauté,Événements
ATTACH;FMTTYPE=image/jpeg:https://quoifairealma.com/app/uploads/2026/01/612292003_1281596867332607_8401777603477688578_n-scaled.jpg
ORGANIZER;CN="Chambre de commerce et d'industrie Lac-Saint-Jean-Est":MAILTO:cci@ccilacsaintjeanest.com
END:VEVENT
END:VCALENDAR