BEGIN:VCALENDAR
VERSION:2.0
PRODID:-//Quoi faire à Alma - ECPv6.15.14//NONSGML v1.0//EN
CALSCALE:GREGORIAN
METHOD:PUBLISH
X-WR-CALNAME:Quoi faire à Alma
X-ORIGINAL-URL:https://quoifairealma.com
X-WR-CALDESC:Évènements pour Quoi faire à Alma
REFRESH-INTERVAL;VALUE=DURATION:PT1H
X-Robots-Tag:noindex
X-PUBLISHED-TTL:PT1H
BEGIN:VTIMEZONE
TZID:America/New_York
BEGIN:DAYLIGHT
TZOFFSETFROM:-0500
TZOFFSETTO:-0400
TZNAME:EDT
DTSTART:20240310T070000
END:DAYLIGHT
BEGIN:STANDARD
TZOFFSETFROM:-0400
TZOFFSETTO:-0500
TZNAME:EST
DTSTART:20241103T060000
END:STANDARD
BEGIN:DAYLIGHT
TZOFFSETFROM:-0500
TZOFFSETTO:-0400
TZNAME:EDT
DTSTART:20250309T070000
END:DAYLIGHT
BEGIN:STANDARD
TZOFFSETFROM:-0400
TZOFFSETTO:-0500
TZNAME:EST
DTSTART:20251102T060000
END:STANDARD
BEGIN:DAYLIGHT
TZOFFSETFROM:-0500
TZOFFSETTO:-0400
TZNAME:EDT
DTSTART:20260308T070000
END:DAYLIGHT
BEGIN:STANDARD
TZOFFSETFROM:-0400
TZOFFSETTO:-0500
TZNAME:EST
DTSTART:20261101T060000
END:STANDARD
END:VTIMEZONE
BEGIN:VEVENT
DTSTART;TZID=America/New_York:20250522T080000
DTEND;TZID=America/New_York:20250524T160000
DTSTAMP:20260422T010446
CREATED:20250423T191059Z
LAST-MODIFIED:20250423T191059Z
UID:10001360-1747900800-1748102400@quoifairealma.com
SUMMARY:DISTRIBUTION DE COMPOST | Ville d'Alma
DESCRIPTION:Distribution de compost à la population de Ville d’Alma \n\nDate: 22-23-24 mai 2025 de 8 h à 16 h* \nOù: au garage municipal (parc industriel Nord) \nAccès via la rue Sicard\, indications sur place. \nQuantité limitée\, maximum de 5 seaux (de 5 gallons) par résidence. \n  \n*Jusqu’à épuisement des stocks.
URL:https://quoifairealma.com/evenement/distribution-de-compost-ville-dalma/
LOCATION:Garage municipal\, 900\, avenue Bombardier\, Alma\, Québec\, Canada
CATEGORIES:Communauté,Événements
ATTACH;FMTTYPE=image/jpeg:https://quoifairealma.com/app/uploads/2025/04/distribution-de-compost-02-01-scaled.jpg
END:VEVENT
END:VCALENDAR