BEGIN:VCALENDAR
VERSION:2.0
PRODID:-//Quoi faire à Alma - ECPv6.15.14//NONSGML v1.0//EN
CALSCALE:GREGORIAN
METHOD:PUBLISH
X-WR-CALNAME:Quoi faire à Alma
X-ORIGINAL-URL:https://quoifairealma.com
X-WR-CALDESC:Évènements pour Quoi faire à Alma
REFRESH-INTERVAL;VALUE=DURATION:PT1H
X-Robots-Tag:noindex
X-PUBLISHED-TTL:PT1H
BEGIN:VTIMEZONE
TZID:America/New_York
BEGIN:DAYLIGHT
TZOFFSETFROM:-0500
TZOFFSETTO:-0400
TZNAME:EDT
DTSTART:20240310T070000
END:DAYLIGHT
BEGIN:STANDARD
TZOFFSETFROM:-0400
TZOFFSETTO:-0500
TZNAME:EST
DTSTART:20241103T060000
END:STANDARD
BEGIN:DAYLIGHT
TZOFFSETFROM:-0500
TZOFFSETTO:-0400
TZNAME:EDT
DTSTART:20250309T070000
END:DAYLIGHT
BEGIN:STANDARD
TZOFFSETFROM:-0400
TZOFFSETTO:-0500
TZNAME:EST
DTSTART:20251102T060000
END:STANDARD
BEGIN:DAYLIGHT
TZOFFSETFROM:-0500
TZOFFSETTO:-0400
TZNAME:EDT
DTSTART:20260308T070000
END:DAYLIGHT
BEGIN:STANDARD
TZOFFSETFROM:-0400
TZOFFSETTO:-0500
TZNAME:EST
DTSTART:20261101T060000
END:STANDARD
END:VTIMEZONE
BEGIN:VEVENT
DTSTART;TZID=America/New_York:20251023T190000
DTEND;TZID=America/New_York:20251023T200000
DTSTAMP:20260422T065740
CREATED:20251022T141436Z
LAST-MODIFIED:20251024T145931Z
UID:10001094-1761246000-1761249600@quoifairealma.com
SUMMARY:Médecins engagés: redonner l'espoir et la vue
DESCRIPTION:Le district 7790 du Club Rotary\, en collaboration avec le Club Lions d’Alma et le Centre de solidarité internationale du Saguenay-Lac-Saint-Jean\, vous invite à la rencontre de deux médecins engagés\, Joyce et Henri\, cofondateurs de New Sight Congo\, une organisation à but non lucratif dédiée à préserver et à restaurer la vue de personnes vulnérables dans des communautés négligées du nord du Congo. \n23 octobre | Alma\, Église Saint-Pierre\, 19h \nVous aurez la chance d’entendre leur parcours inspirant\, depuis leurs premières consultations sous un arbre jusqu’à la création d’un centre de chirurgie ophtalmologique\, en plus de découvrir comment vous pourriez faire partie du changement\, vous aussi! \nCette tournée de trois régions du Québec (Lac-Saint-Jean\, Montréal et Québec) est au cœur d’une mission d’échange d’expériences et de recrutement. \nEn 2024\, Joyce\, médecin généraliste\, et Henri\, ophtalmologue\, ont terminé la construction d’un hôpital\, et pas moins de 3600 consultations ont été offertes. \nCet événement se tient en marge des Journées québécoises de la solidarité internationale.
URL:https://quoifairealma.com/evenement/medecins-engages-redonner-lespoir-et-la-vue/
LOCATION:Église Saint-Pierre\, 122 Rue Harvey Est\, Alma\, Quebec\, G8B 1B3\, Canada
CATEGORIES:Communauté,Événements
ATTACH;FMTTYPE=image/jpeg:https://quoifairealma.com/app/uploads/2025/10/lhopital-qui-redonne-lespoir-et-la-vue-scaled.jpg
ORGANIZER;CN="Centre de solidarit%C3%A9 internationale du Saguenay-Lac-Saint-Jean":MAILTO:communication@centresolidarite.ca
END:VEVENT
BEGIN:VEVENT
DTSTART;TZID=America/New_York:20250504T140000
DTEND;TZID=America/New_York:20250504T160000
DTSTAMP:20260422T065740
CREATED:20250424T190304Z
LAST-MODIFIED:20250428T143321Z
UID:10000975-1746367200-1746374400@quoifairealma.com
SUMMARY:Concert John Williams - Épique chorale
DESCRIPTION:En collaboration avec l’Harmonie Saguenay et son chef Jean-Simon Boulianne\, la chorale du Département de musique du Collège d’Alma présente un superbe concert de musique de films du grand compositeur et chef d’orchestre américain John Williams. \nVous entendrez la musique de nombreux films tels que Amistad\, Star Wars\, l’Empire du Soleil\, Harry Potter\, Rosewood\, Saving private Ryan\, et plus encore! Le tout sous la direction musicale d’Annie Larouche.
URL:https://quoifairealma.com/evenement/concert-john-williams-epique-chorale/
LOCATION:Église Saint-Pierre\, 122 Rue Harvey Est\, Alma\, Quebec\, G8B 1B3\, Canada
CATEGORIES:Musique,Spectacles et festivals
ATTACH;FMTTYPE=image/jpeg:https://quoifairealma.com/app/uploads/2025/04/EVENT-SITE-WEB-825X450-ST-PI.jpg
ORGANIZER;CN="Coll%C3%A8ge d'Alma":MAILTO:melina.regimbal@collegealma.ca
END:VEVENT
END:VCALENDAR