BEGIN:VCALENDAR
VERSION:2.0
PRODID:-//Quoi faire à Alma - ECPv6.15.14//NONSGML v1.0//EN
CALSCALE:GREGORIAN
METHOD:PUBLISH
X-WR-CALNAME:Quoi faire à Alma
X-ORIGINAL-URL:https://quoifairealma.com
X-WR-CALDESC:Évènements pour Quoi faire à Alma
REFRESH-INTERVAL;VALUE=DURATION:PT1H
X-Robots-Tag:noindex
X-PUBLISHED-TTL:PT1H
BEGIN:VTIMEZONE
TZID:America/New_York
BEGIN:DAYLIGHT
TZOFFSETFROM:-0500
TZOFFSETTO:-0400
TZNAME:EDT
DTSTART:20240310T070000
END:DAYLIGHT
BEGIN:STANDARD
TZOFFSETFROM:-0400
TZOFFSETTO:-0500
TZNAME:EST
DTSTART:20241103T060000
END:STANDARD
BEGIN:DAYLIGHT
TZOFFSETFROM:-0500
TZOFFSETTO:-0400
TZNAME:EDT
DTSTART:20250309T070000
END:DAYLIGHT
BEGIN:STANDARD
TZOFFSETFROM:-0400
TZOFFSETTO:-0500
TZNAME:EST
DTSTART:20251102T060000
END:STANDARD
BEGIN:DAYLIGHT
TZOFFSETFROM:-0500
TZOFFSETTO:-0400
TZNAME:EDT
DTSTART:20260308T070000
END:DAYLIGHT
BEGIN:STANDARD
TZOFFSETFROM:-0400
TZOFFSETTO:-0500
TZNAME:EST
DTSTART:20261101T060000
END:STANDARD
END:VTIMEZONE
BEGIN:VEVENT
DTSTART;TZID=America/New_York:20250918T163000
DTEND;TZID=America/New_York:20251003T180000
DTSTAMP:20260422T043234
CREATED:20250915T131224Z
LAST-MODIFIED:20250917T191618Z
UID:10001042-1758213000-1759514400@quoifairealma.com
SUMMARY:La Galerie du Collège d'Alma présente une exposition double : Wagons et travail de rue
DESCRIPTION:La Galerie du Collège d’Alma présente une exposition double : Wagons et travail de rue \nDeux projets d’illustrations numériques réalisés par les étudiantes et les étudiants d’Arts visuels et numériques (AVN) sont exposés durant le mois de septembre à la Galerie du Collège : un projet d’affiches pour le Comité du travail de rue d’Alma ainsi qu’un projet d’illustrations grand format conçues pour des wagons de la compagnie ferroviaire Roberval-Saguenay (Rio Tinto). \nLe vernissage aura lieu le 18 septembre à 16 h 30. \nL’événement est ouvert à toutes et à tous!
URL:https://quoifairealma.com/evenement/la-galerie-du-college-dalma-presente-une-exposition-double-wagons-et-travail-de-rue/
LOCATION:Collège d’Alma\, 675\, boulevard Auger Ouest\, Alma\, G8B 2B7
CATEGORIES:Expositions,Loisirs et culture
ATTACH;FMTTYPE=image/jpeg:https://quoifairealma.com/app/uploads/2025/09/AVN-expo-sept-2025-TV.jpg
ORGANIZER;CN="Coll%C3%A8ge d'Alma":MAILTO:melina.regimbal@collegealma.ca
END:VEVENT
BEGIN:VEVENT
DTSTART;TZID=America/New_York:20250912T180000
DTEND;TZID=America/New_York:20250912T230000
DTSTAMP:20260422T043234
CREATED:20250905T191313Z
LAST-MODIFIED:20250910T115722Z
UID:10001030-1757700000-1757718000@quoifairealma.com
SUMMARY:Soccer féminin et masculin : Jonquière contre Alma
DESCRIPTION:Pour lancer la saison de soccer\, les équipes féminine et masculine du Collège d’Alma affronteront leurs rivaux du cégep de Jonquière. À 19 h\, les filles prendront d’assaut le terrain synthétique et à 21 h\, ce sera au tour des garçons. Un TAILGATE précèdera les 2 matchs à compter de 18 h. \n\n Endroit: terrain synthétique du collège\n Entrée gratuite \n\n\n\n Tailgate dès 18h00 pour bien lancer la soirée ! Ambiance garantie avec :\n– Bières\n– Hot-dogs\n– Boissons chaudes\n– Grignotines \n\nEt des prix de présence à gagner !\n\n\n Match féminin à 18h30\n Match masculin à 20h30\nNos équipes affrontent les Gaillards de Jonquière dans deux duels à ne pas manquer !\n\nVenez en grand nombre pour ce doublé totalement JEANNOIS! \nWebdiffusion : https://www.youtube.com/live/zSQP7rH3yYI
URL:https://quoifairealma.com/evenement/soccer-feminin-et-masculin-jonquiere-contre-alma/
LOCATION:Collège d’Alma\, 675\, boulevard Auger Ouest\, Alma\, G8B 2B7
CATEGORIES:Compétitions et rencontres sportives,Sports et plein air
ATTACH;FMTTYPE=image/jpeg:https://quoifairealma.com/app/uploads/2025/09/Talgate.jpg
ORGANIZER;CN="Coll%C3%A8ge d'Alma":MAILTO:melina.regimbal@collegealma.ca
END:VEVENT
BEGIN:VEVENT
DTSTART;TZID=America/New_York:20250714T100000
DTEND;TZID=America/New_York:20250714T113000
DTSTAMP:20260422T043234
CREATED:20250708T194249Z
LAST-MODIFIED:20250709T115948Z
UID:10001023-1752487200-1752492600@quoifairealma.com
SUMMARY:Atelier découverte Forêt nourricière du Collège d'Alma
DESCRIPTION:🌿 Venez découvrir la magnifique forêt nourricière du Collège d’Alma ! 🌳Une activité pour tous les curieux de nature et de saveurs locales 🍓🌼 \n👣 Au menu :🔍 Visite guidée du site🍽️ Dégustation 🎨 Activités variées pour découvrir les plantes et arbustes présents sur le terrain \n📍 Lieu : Collège d’Alma – Forêt nourricière
URL:https://quoifairealma.com/evenement/atelier-decouverte-foret-nourriciere-du-college-dalma/
LOCATION:Collège d’Alma\, 675\, boulevard Auger Ouest\, Alma\, G8B 2B7
CATEGORIES:Ateliers,Communauté
ATTACH;FMTTYPE=image/jpeg:https://quoifairealma.com/app/uploads/2025/07/foret-nouriciere.jpg
END:VEVENT
BEGIN:VEVENT
DTSTART;TZID=America/New_York:20250521T200000
DTEND;TZID=America/New_York:20250521T220000
DTSTAMP:20260422T043234
CREATED:20250505T140902Z
LAST-MODIFIED:20250506T125837Z
UID:10001373-1747857600-1747864800@quoifairealma.com
SUMMARY:Soirée GRATUITE Ultimate Frisbee
DESCRIPTION:🥏Soirée d’initiation au Ultimate Frisbee !🥏 \nTu es curieux d’essayer un nouveau sport ou déjà un pro du lancer ?Rejoins-nous pour une soirée gratuite\, remplie d’énergie\, de rires et d’action ! \n💥 Que tu sois débutant ou expérimenté\, viens t’amuser\, bouger et découvrir l’esprit d’équipe unique du Ultimate Frisbee.👟 Amène ta bonne humeur\, on s’occupe du reste ! \n📍 Terrain Synthétique du Collège Alma \nTout le monde est bienvenu — pas besoin de s’inscrire\, juste de venir jouer !
URL:https://quoifairealma.com/evenement/soiree-gratuite-ultimate-frisbee-2/
LOCATION:Collège d’Alma\, 675\, boulevard Auger Ouest\, Alma\, G8B 2B7
ATTACH;FMTTYPE=image/jpeg:https://quoifairealma.com/app/uploads/2025/05/Ultimate-frisbee.jpg
ORGANIZER;CN="Alma Ultimate":MAILTO:admins@alma.ultimatecentral.com
END:VEVENT
BEGIN:VEVENT
DTSTART;TZID=America/New_York:20250514T200000
DTEND;TZID=America/New_York:20250514T220000
DTSTAMP:20260422T043234
CREATED:20250502T171601Z
LAST-MODIFIED:20250506T125955Z
UID:10001002-1747252800-1747260000@quoifairealma.com
SUMMARY:Soirée GRATUITE Ultimate Frisbee
DESCRIPTION:🥏Soirée d’initiation au Ultimate Frisbee !🥏 \nTu es curieux d’essayer un nouveau sport ou déjà un pro du lancer ?Rejoins-nous pour une soirée gratuite\, remplie d’énergie\, de rires et d’action ! \n💥 Que tu sois débutant ou expérimenté\, viens t’amuser\, bouger et découvrir l’esprit d’équipe unique du Ultimate Frisbee.👟 Amène ta bonne humeur\, on s’occupe du reste ! \n📍 Terrain Synthétique du Collège Alma \nTout le monde est bienvenu — pas besoin de s’inscrire\, juste de venir jouer ! \n \n 
URL:https://quoifairealma.com/evenement/soiree-gratuite-ultimate-frisbee/
LOCATION:Collège d’Alma\, 675\, boulevard Auger Ouest\, Alma\, G8B 2B7
ATTACH;FMTTYPE=image/jpeg:https://quoifairealma.com/app/uploads/2025/05/Ultimate-frisbee.jpg
ORGANIZER;CN="Alma Ultimate":MAILTO:admins@alma.ultimatecentral.com
END:VEVENT
BEGIN:VEVENT
DTSTART;TZID=America/New_York:20250510T140000
DTEND;TZID=America/New_York:20250511T160000
DTSTAMP:20260422T043234
CREATED:20250424T191412Z
LAST-MODIFIED:20250903T141550Z
UID:10000976-1746885600-1746979200@quoifairealma.com
SUMMARY:Concert de l'Harmonie TransiSon
DESCRIPTION:Plus de quarante musiciens et musiciennes se réunissent sur scène pour vous offrir un concert inoubliable sous le thème de la Chevauchée Printanière. De l’Ouverture 1812 de Tchaïkovsky à l’opéra rock Starmania de Luc Plamondon\, en passant par Taylor Swift\, Debussy et la musique du film Gladiateur de Hanz Zimmer\, l’orchestre d’Harmonie TransiSon vous invite à cette soirée riche en émotions et en diversité musicale. Solistes invités : Lou Sales (flûte traversière)\, Swann Bonneau (flûte traversière)\, Nicolas Gobeil (trompette) et Satia Kong (piano). Le tout sous la direction musicale d’Aline Guérin. \nAdmission générale : 10 $\, étudiantes et étudiants : 5 $ \nBillets en vente à la Coopsco du Collège d’Alma \nPrésenté à La Tourelle du Collège d’Alma (entrée Porte 1)
URL:https://quoifairealma.com/evenement/concert-de-lharmonie-transison/
LOCATION:Collège d’Alma\, 675\, boulevard Auger Ouest\, Alma\, G8B 2B7
CATEGORIES:Musique,Spectacles et festivals
ATTACH;FMTTYPE=image/jpeg:https://quoifairealma.com/app/uploads/2025/04/TransiSon-min.jpg
ORGANIZER;CN="Coll%C3%A8ge d'Alma":MAILTO:melina.regimbal@collegealma.ca
END:VEVENT
BEGIN:VEVENT
DTSTART;TZID=America/New_York:20250507T190000
DTEND;TZID=America/New_York:20250507T210000
DTSTAMP:20260422T043234
CREATED:20250415T190531Z
LAST-MODIFIED:20250418T144949Z
UID:10000971-1746644400-1746651600@quoifairealma.com
SUMMARY:Soirée des finissantes et des finissants avec Gabrielle Shonk
DESCRIPTION:Les finissantes et finissants de Techniques professionnelles de musique et de chanson auront l’occasion de fouler la scène aux côtés de l’autrice-compositrice-interprète Gabrielle Shonk. Le tout sous la direction musicale de Gabriel Desjardins. C’est un rendez-vous à ne pas manquer!🎶
URL:https://quoifairealma.com/evenement/soiree-des-finissantes-et-des-finissants-avec-gabrielle-shonk/
LOCATION:Collège d’Alma\, 675\, boulevard Auger Ouest\, Alma\, G8B 2B7
CATEGORIES:Événements
ATTACH;FMTTYPE=image/jpeg:https://quoifairealma.com/app/uploads/2025/04/AFFICHAGE-INTERNE-16-9-scaled.jpg
ORGANIZER;CN="Coll%C3%A8ge d'Alma":MAILTO:melina.regimbal@collegealma.ca
END:VEVENT
BEGIN:VEVENT
DTSTART;TZID=America/New_York:20250501T190000
DTEND;TZID=America/New_York:20250501T210000
DTSTAMP:20260422T043234
CREATED:20250401T173805Z
LAST-MODIFIED:20250401T173805Z
UID:10001590-1746126000-1746133200@quoifairealma.com
SUMMARY:Soirée classique
DESCRIPTION:Le concert de fin de session des ensembles classiques vous emmènera dans un voyage musical\, où résonneront les chefs-d’oeuvre de Saint-Saëns\, Brahms\, Debussy\, Mendelssohn\, Dvorak et plus encore. Vous pourrez entendre la chorale\, les ensembles de flûte traversière\, de violon\, de piano\, ainsi que les groupes de musique de chambre. Les étudiantes et étudiants vous promettent une soirée riche en émotions et en découvertes. \nOuvert à toutes et à tous😊! \nAdmission générale : 10 $\, étudiantes et étudiants : 5 $ \nSalle La Tourelle du Collège d’Alma (entrée Porte 1)
URL:https://quoifairealma.com/evenement/soiree-classique/
LOCATION:Collège d’Alma\, 675\, boulevard Auger Ouest\, Alma\, G8B 2B7
CATEGORIES:Musique,Spectacles et festivals
ATTACH;FMTTYPE=image/jpeg:https://quoifairealma.com/app/uploads/2025/04/soiree-classique-min_-scaled.jpg
ORGANIZER;CN="Coll%C3%A8ge d'Alma":MAILTO:melina.regimbal@collegealma.ca
END:VEVENT
BEGIN:VEVENT
DTSTART;TZID=America/New_York:20250430T170000
DTEND;TZID=America/New_York:20250430T190000
DTSTAMP:20260422T043234
CREATED:20250401T173436Z
LAST-MODIFIED:20250401T173436Z
UID:10001589-1746032400-1746039600@quoifairealma.com
SUMMARY:Concert des combos jazz-pop
DESCRIPTION:Le concert de fin de session des étudiantes et étudiants en jazz pop mettra en vedette le Stage band\, sous la direction de Guy Tremblay\, la revue musicale\, sous la direction de Gabriel Desjardins ainsi que les finissantes et finissants du programme Techniques professionnelles de musique de chanson qui vous présenteront leurs projets musicaux\, sous la direction de Jean-Sébastien Bordage. À prévoir : des incontournables de Chick Corea\, Augrey Logan\, Joey Calderazzo\, Cole Porter Earth\, Wind & Fire\, Stevie Wonder\, les Beatles\, et bien plus. \nOuvert à toutes et à tous😊! \nAdmission générale : 10 $\nÉtudiantes et étudiants : 5 $
URL:https://quoifairealma.com/evenement/concert-des-combos-jazz-pop-2/
LOCATION:Collège d’Alma\, 675\, boulevard Auger Ouest\, Alma\, G8B 2B7
CATEGORIES:Musique,Spectacles et festivals
ATTACH;FMTTYPE=image/jpeg:https://quoifairealma.com/app/uploads/2025/04/soiree-jazz-pop-min-scaled.jpg
ORGANIZER;CN="Coll%C3%A8ge d'Alma":MAILTO:melina.regimbal@collegealma.ca
END:VEVENT
END:VCALENDAR