BEGIN:VCALENDAR
VERSION:2.0
PRODID:-//Quoi faire à Alma - ECPv6.15.14//NONSGML v1.0//EN
CALSCALE:GREGORIAN
METHOD:PUBLISH
X-ORIGINAL-URL:https://quoifairealma.com
X-WR-CALDESC:Évènements pour Quoi faire à Alma
REFRESH-INTERVAL;VALUE=DURATION:PT1H
X-Robots-Tag:noindex
X-PUBLISHED-TTL:PT1H
BEGIN:VTIMEZONE
TZID:America/New_York
BEGIN:DAYLIGHT
TZOFFSETFROM:-0500
TZOFFSETTO:-0400
TZNAME:EDT
DTSTART:20240310T070000
END:DAYLIGHT
BEGIN:STANDARD
TZOFFSETFROM:-0400
TZOFFSETTO:-0500
TZNAME:EST
DTSTART:20241103T060000
END:STANDARD
BEGIN:DAYLIGHT
TZOFFSETFROM:-0500
TZOFFSETTO:-0400
TZNAME:EDT
DTSTART:20250309T070000
END:DAYLIGHT
BEGIN:STANDARD
TZOFFSETFROM:-0400
TZOFFSETTO:-0500
TZNAME:EST
DTSTART:20251102T060000
END:STANDARD
BEGIN:DAYLIGHT
TZOFFSETFROM:-0500
TZOFFSETTO:-0400
TZNAME:EDT
DTSTART:20260308T070000
END:DAYLIGHT
BEGIN:STANDARD
TZOFFSETFROM:-0400
TZOFFSETTO:-0500
TZNAME:EST
DTSTART:20261101T060000
END:STANDARD
BEGIN:DAYLIGHT
TZOFFSETFROM:-0500
TZOFFSETTO:-0400
TZNAME:EDT
DTSTART:20270314T070000
END:DAYLIGHT
BEGIN:STANDARD
TZOFFSETFROM:-0400
TZOFFSETTO:-0500
TZNAME:EST
DTSTART:20271107T060000
END:STANDARD
END:VTIMEZONE
BEGIN:VEVENT
DTSTART;TZID=America/New_York:20260205T170000
DTEND;TZID=America/New_York:20260305T170000
DTSTAMP:20260421T214204
CREATED:20260129T155505Z
LAST-MODIFIED:20260130T150440Z
UID:10001662-1770310800-1772730000@quoifairealma.com
SUMMARY:Exposition - Amplifier l’errance\, guetter le sillon des foulées
DESCRIPTION:Vernissage le 5 février 2026 à 17 h au Centre SAGAMIE\nExposition du 5 février au 5 mai 2026 \nArtistes : Molly Bertrand\, Valérie Cain Bourget\, Laetitia de Coninck\, Tina Lam\, Pépite et Josèphe\, Florence Viau\nCommissaire : Galadriel Avon \nCette exposition présente les œuvres de six artistes émergents sélectionnées par L’Écart dans le cadre du projet PRÉSENCES\, initié par le Centre SAGAMIE. \nSuite à une résidence au Centre SAGAMIE de chaque artiste\, l’exposition s’est tenue une première fois à l’Écart au printemps dernier et sera présentée au Centre SAGAMIE du 5 février au 4 mai prochain.
URL:https://quoifairealma.com/evenement/exposition-amplifier-lerrance-guetter-le-sillon-des-foulees/
LOCATION:Centre Sagamie\, 50 rue St-Joseph\, Alma\, Québec\, G8B 5W1\, Canada
CATEGORIES:Expositions,Loisirs et culture
ATTACH;FMTTYPE=image/jpeg:https://quoifairealma.com/app/uploads/2026/01/1920x1080_Expo_CentreSAGAMIE.jpg
ORGANIZER;CN="Centre SAGAMIE":MAILTO:info@sagamie.com
END:VEVENT
BEGIN:VEVENT
DTSTART;TZID=America/New_York:20250904T170000
DTEND;TZID=America/New_York:20251204T000000
DTSTAMP:20260421T214204
CREATED:20250829T194736Z
LAST-MODIFIED:20250903T141431Z
UID:10000929-1757005200-1764806400@quoifairealma.com
SUMMARY:Exposition - Sous le vernis du quotidien
DESCRIPTION:Vernissage — Sous le vernis du quotidien\nExposition du 4 septembre au 4 décembre 2025 \nVernissage le jeudi 4 septembre à 17 h \nArtistes : Sarah Toung Ondo\, Zoé Julien-Tessier\, Amanda Roy\, Annie-Kim Rainville et Alejandra Zamudio\nCommissaires : Félipe Goulet-Letarte et Adrien Guillet\nAutrice : Gabrielle Izaguirré-Falardeau \nL’exposition Sous le vernis du quotidien\, commissariée par Félipe Goulet-Letarte et Adrien Guillet\, présente les œuvres de cinq artistes émergentes sélectionnées par SKOL dans le cadre du projet PRÉSENCES.\nSuite à une résidence au Centre SAGAMIE\, l’exposition s’est tenue une première fois au centre SKOL au printemps dernier et sera présentée au Centre SAGAMIE du 4 septembre au 4 décembre prochain.
URL:https://quoifairealma.com/evenement/exposition-sous-le-vernis-du-quotidien/
LOCATION:Centre Sagamie\, 50 rue St-Joseph\, Alma\, Québec\, G8B 5W1\, Canada
CATEGORIES:Expositions,Loisirs et culture
ATTACH;FMTTYPE=image/jpeg:https://quoifairealma.com/app/uploads/2025/08/FBEvent-SLVDQ.jpg
ORGANIZER;CN="Centre SAGAMIE":MAILTO:info@sagamie.com
END:VEVENT
BEGIN:VEVENT
DTSTART;TZID=America/New_York:20250501T163000
DTEND;TZID=America/New_York:20250501T200000
DTSTAMP:20260421T214204
CREATED:20250423T174239Z
LAST-MODIFIED:20250429T230802Z
UID:10001364-1746117000-1746129600@quoifairealma.com
SUMMARY:Lancement de la Politique culturelle de Ville d'Alma
DESCRIPTION:La Ville d’Alma invite la population\, les artistes\, les travailleurs culturels\, les bénévoles\, les organisateurs d’événements et ses partenaires au lancement de la toute nouvelle Politique culturelle\, sous le thème «Audacieuse et festive». \n  \nFruit d’une réflexion amorcée avec le milieu et enrichie par des consultations publiques\, la Politique culturelle est un outil de développement puissant pour la culture. Elle permet de faire de la culture un véritable levier pour le renforcement de la communauté et de définir une vision d’avenir collective. \n  \nVenez célébrer la culture et rencontrer les acteurs qui la rendent forte\, audacieuse et festive ! \nRendez-vous dans les locaux du centre d’artistes en art actuel Sagamie (édifice Paul-Tremblay). Inscription requise par courriel à reception@ville.alma.qc.ca
URL:https://quoifairealma.com/evenement/lancement-de-la-politique-culturelle/
LOCATION:Centre Sagamie\, 50 rue St-Joseph\, Alma\, Québec\, G8B 5W1\, Canada
CATEGORIES:Arts et patrimoine
ATTACH;FMTTYPE=image/jpeg:https://quoifairealma.com/app/uploads/2025/04/Invitation-politique-1.jpg
END:VEVENT
BEGIN:VEVENT
DTSTART;TZID=America/New_York:20250424T170000
DTEND;TZID=America/New_York:20250627T190000
DTSTAMP:20260421T214204
CREATED:20250401T204407Z
LAST-MODIFIED:20250407T133447Z
UID:10000879-1745514000-1751050800@quoifairealma.com
SUMMARY:Vernissage de Cristel Silva
DESCRIPTION:artch – art contemporain émergent et le Centre SAGAMIE sont heureux de présenter la toute première exposition solo de Cristel Silva intitulée : Transmutations du devenir les uns avec les autres.\nSoyez des notre lors du vernissage qui aura lieu le 24 avril 2025 à 17 h ! \nDans son projet Transmutations du devenir les uns avec les autres\, l’artiste Cristel Silva explore les espaces invisibles de la ville\, tels que les friches et les chemins de fer\, en s’inspirant de la dérive situationniste. En parcourant librement la ville\, elle collecte des fragments – bâches abandonnées\, sacs plastiques\, images de grillages envahis – qu’elle intègre dans des courtepointes\, créant ainsi une cartographie sensible des lieux traversés. Cette exposition\, née d’une résidence au Centre SAGAMIE\, invite à repenser notre manière d’habiter les villes\, en mêlant intime et politique à travers l’art. \nCette exposition a lieu dans le cadre de Plein Solo : un projet porté par artch et soutenu par Gouvernement du Québec\, offrant à 6 artistes visuels émergents l’opportunité de présenter leur première exposition solo dans des institutions culturelles majeures du Québec.
URL:https://quoifairealma.com/evenement/vernissage-de-cristel-silva/
LOCATION:Centre Sagamie\, 50 rue St-Joseph\, Alma\, Québec\, G8B 5W1\, Canada
CATEGORIES:Expositions,Loisirs et culture
ATTACH;FMTTYPE=image/jpeg:https://quoifairealma.com/app/uploads/2025/04/Photo_expo-Criste_Silva_retouchee.jpg
END:VEVENT
END:VCALENDAR