BEGIN:VCALENDAR
VERSION:2.0
PRODID:-//Quoi faire à Alma - ECPv6.15.14//NONSGML v1.0//EN
CALSCALE:GREGORIAN
METHOD:PUBLISH
X-ORIGINAL-URL:https://quoifairealma.com
X-WR-CALDESC:Évènements pour Quoi faire à Alma
REFRESH-INTERVAL;VALUE=DURATION:PT1H
X-Robots-Tag:noindex
X-PUBLISHED-TTL:PT1H
BEGIN:VTIMEZONE
TZID:America/New_York
BEGIN:DAYLIGHT
TZOFFSETFROM:-0500
TZOFFSETTO:-0400
TZNAME:EDT
DTSTART:20240310T070000
END:DAYLIGHT
BEGIN:STANDARD
TZOFFSETFROM:-0400
TZOFFSETTO:-0500
TZNAME:EST
DTSTART:20241103T060000
END:STANDARD
BEGIN:DAYLIGHT
TZOFFSETFROM:-0500
TZOFFSETTO:-0400
TZNAME:EDT
DTSTART:20250309T070000
END:DAYLIGHT
BEGIN:STANDARD
TZOFFSETFROM:-0400
TZOFFSETTO:-0500
TZNAME:EST
DTSTART:20251102T060000
END:STANDARD
BEGIN:DAYLIGHT
TZOFFSETFROM:-0500
TZOFFSETTO:-0400
TZNAME:EDT
DTSTART:20260308T070000
END:DAYLIGHT
BEGIN:STANDARD
TZOFFSETFROM:-0400
TZOFFSETTO:-0500
TZNAME:EST
DTSTART:20261101T060000
END:STANDARD
BEGIN:DAYLIGHT
TZOFFSETFROM:-0500
TZOFFSETTO:-0400
TZNAME:EDT
DTSTART:20270314T070000
END:DAYLIGHT
BEGIN:STANDARD
TZOFFSETFROM:-0400
TZOFFSETTO:-0500
TZNAME:EST
DTSTART:20271107T060000
END:STANDARD
END:VTIMEZONE
BEGIN:VEVENT
DTSTART;TZID=America/New_York:20260112T163000
DTEND;TZID=America/New_York:20260318T193000
DTSTAMP:20260422T030011
CREATED:20260105T221944Z
LAST-MODIFIED:20260108T185831Z
UID:10001138-1768235400-1773862200@quoifairealma.com
SUMMARY:Cardio-rame - Hiver 2026 - Entraînement 10 semaines sur ergorameur
DESCRIPTION:Séances d’entraînement sur ergorameur à raison de 55 min par séance échelonnées sur 10 semaines. Adultes (lundi-mercredi / 3 groupes 16h30-17h30-18h-30) Jeunesse (Mardi – 1 groupe 16h00) Prix: Adultes (140$/2x sem – 100$/1x sem) Jeunesse 18 ans moins (110$/2x sem – Élite – 70$/1x sem)
URL:https://quoifairealma.com/evenement/cardio-rame-hiver-2026-entrainement-10-semaines-sur-ergorameur/
LOCATION:Centre multisport\, 605\, boulevard Saint-Luc\, Alma\, Québec\, G8B 2K8\, Canada
CATEGORIES:Activités sportives,Sports et plein air
ATTACH;FMTTYPE=image/jpeg:https://quoifairealma.com/app/uploads/2026/01/CR-Affiche-hiver-2026-page-001.jpg
ORGANIZER;CN="Club d'Aviron d'Alma":MAILTO:clubavironalma@gmail.com
END:VEVENT
BEGIN:VEVENT
DTSTART;TZID=America/New_York:20250923T183000
DTEND;TZID=America/New_York:20250923T190000
DTSTAMP:20260422T030011
CREATED:20250917T190055Z
LAST-MODIFIED:20250917T190055Z
UID:10001614-1758652200-1758654000@quoifairealma.com
SUMMARY:Portes-Ouvertes Cardio-Rame
DESCRIPTION:Le but principal est de promouvoir nos séances gratuites de 30 minutes 2 offertes le 23 septembre. Faire connaître une activité sportive peu connue qui se passe au CMT l’automne\, l’hiver et le printemps à raison de 1 ou 2 séances de 60 minutes par semaine. Le tout échelonné sur 10 semaines vous vivrez des entraînements dynamiques au rythme de la musique. Sous la surveillance d’experts accrédités\, une belle méthode pour une mise en forme ou garder les acquis avec un sport sans contact et surtout sans risque de blessure. Du plaisir garanti! \n🌟 Portes-Ouvertes Cardio-Rame 🌟 \nDécouvrez une activité sportive dynamique\, sécuritaire et peu connue ! Venez profiter de nos séances gratuites de 30 minutes. \nLe Cardio-Rame\, c’est : \n\nDes entraînements rythmiques au son de la musique 🎶\nUne activité sans contact et à faible risque de blessure\nEncadrée par des experts accrédités\nIdéal pour se mettre en forme ou maintenir ses acquis\n\nCette activité se déroule à l’automne\, l’hiver et le printemps\, avec 1 ou 2 séances de 60 minutes par semaine sur 10 semaines. \n💪 Du plaisir garanti et une façon originale de bouger !
URL:https://quoifairealma.com/evenement/portes-ouvertes-cardio-rame-2/
LOCATION:Centre multisport\, 605\, boulevard Saint-Luc\, Alma\, Québec\, G8B 2K8\, Canada
CATEGORIES:Activités sportives,Sports et plein air
ATTACH;FMTTYPE=image/jpeg:https://quoifairealma.com/app/uploads/2025/09/1-TEMPLATE-2.jpg
ORGANIZER;CN="Club d'Aviron d'Alma":MAILTO:clubavironalma@gmail.com
END:VEVENT
BEGIN:VEVENT
DTSTART;TZID=America/New_York:20250923T180000
DTEND;TZID=America/New_York:20250923T183000
DTSTAMP:20260422T030011
CREATED:20250916T143449Z
LAST-MODIFIED:20250917T185956Z
UID:10001050-1758650400-1758652200@quoifairealma.com
SUMMARY:Portes-Ouvertes Cardio-Rame
DESCRIPTION:Le but principal est de promouvoir nos séances gratuites de 30 minutes 2 offertes le 23 septembre. Faire connaître une activité sportive peu connue qui se passe au CMT l’automne\, l’hiver et le printemps à raison de 1 ou 2 séances de 60 minutes par semaine. Le tout échelonné sur 10 semaines vous vivrez des entraînements dynamiques au rythme de la musique. Sous la surveillance d’experts accrédités\, une belle méthode pour une mise en forme ou garder les acquis avec un sport sans contact et surtout sans risque de blessure. Du plaisir garanti! \n🌟 Portes-Ouvertes Cardio-Rame 🌟 \nDécouvrez une activité sportive dynamique\, sécuritaire et peu connue ! Venez profiter de nos séances gratuites de 30 minutes. \nLe Cardio-Rame\, c’est : \n\nDes entraînements rythmiques au son de la musique 🎶\nUne activité sans contact et à faible risque de blessure\nEncadrée par des experts accrédités\nIdéal pour se mettre en forme ou maintenir ses acquis\n\nCette activité se déroule à l’automne\, l’hiver et le printemps\, avec 1 ou 2 séances de 60 minutes par semaine sur 10 semaines. \n💪 Du plaisir garanti et une façon originale de bouger !
URL:https://quoifairealma.com/evenement/portes-ouvertes-cardio-rame/
LOCATION:Centre multisport\, 605\, boulevard Saint-Luc\, Alma\, Québec\, G8B 2K8\, Canada
CATEGORIES:Activités sportives,Sports et plein air
ATTACH;FMTTYPE=image/jpeg:https://quoifairealma.com/app/uploads/2025/09/1-TEMPLATE-2.jpg
ORGANIZER;CN="Club d'Aviron d'Alma":MAILTO:clubavironalma@gmail.com
END:VEVENT
BEGIN:VEVENT
DTSTART;TZID=America/New_York:20250620T210000
DTEND;TZID=America/New_York:20250620T223000
DTSTAMP:20260422T030011
CREATED:20240528T133113Z
LAST-MODIFIED:20250619T173038Z
UID:10001208-1750453200-1750458600@quoifairealma.com
SUMMARY:Cinéma extérieur - au parc Falaise
DESCRIPTION:**CHANGEMENT DE LIEU** En raison de la météo annoncée\, nous sommes dans l’obligation de déplacer l’événement au Centre Multisport. \nVu la popularité de notre événement des dernières années\, c’est le retour de notre maintenant traditionnelle projection pour célébrer la fin des classes et pour lancer la programmation estivale Quoi faire cet été. Venez nous rejoindre au CENTRE MULTISPORT pour la projection du film Paddington au Pérou. N’oubliez pas vos chaises de camping\, couvertures et collations. \nPopcorn et barbe à papa en vente sur place. \n 
URL:https://quoifairealma.com/evenement/cinema-exterieur-au-parc-falaise/
LOCATION:Centre multisport\, 605\, boulevard Saint-Luc\, Alma\, Québec\, G8B 2K8\, Canada
CATEGORIES:Activités de loisir,Événements
ATTACH;FMTTYPE=image/png:https://quoifairealma.com/app/uploads/2024/05/Programmation-juin-2025-6-x-3.5-po-8.png
ORGANIZER;CN="Biblioth%C3%A8que d'Alma":MAILTO:bibliotheque@ville.alma.qc.ca
END:VEVENT
END:VCALENDAR