BEGIN:VCALENDAR
VERSION:2.0
PRODID:-//Quoi faire à Alma - ECPv6.15.14//NONSGML v1.0//EN
CALSCALE:GREGORIAN
METHOD:PUBLISH
X-WR-CALNAME:Quoi faire à Alma
X-ORIGINAL-URL:https://quoifairealma.com
X-WR-CALDESC:Évènements pour Quoi faire à Alma
REFRESH-INTERVAL;VALUE=DURATION:PT1H
X-Robots-Tag:noindex
X-PUBLISHED-TTL:PT1H
BEGIN:VTIMEZONE
TZID:America/New_York
BEGIN:DAYLIGHT
TZOFFSETFROM:-0500
TZOFFSETTO:-0400
TZNAME:EDT
DTSTART:20240310T070000
END:DAYLIGHT
BEGIN:STANDARD
TZOFFSETFROM:-0400
TZOFFSETTO:-0500
TZNAME:EST
DTSTART:20241103T060000
END:STANDARD
BEGIN:DAYLIGHT
TZOFFSETFROM:-0500
TZOFFSETTO:-0400
TZNAME:EDT
DTSTART:20250309T070000
END:DAYLIGHT
BEGIN:STANDARD
TZOFFSETFROM:-0400
TZOFFSETTO:-0500
TZNAME:EST
DTSTART:20251102T060000
END:STANDARD
BEGIN:DAYLIGHT
TZOFFSETFROM:-0500
TZOFFSETTO:-0400
TZNAME:EDT
DTSTART:20260308T070000
END:DAYLIGHT
BEGIN:STANDARD
TZOFFSETFROM:-0400
TZOFFSETTO:-0500
TZNAME:EST
DTSTART:20261101T060000
END:STANDARD
BEGIN:DAYLIGHT
TZOFFSETFROM:-0500
TZOFFSETTO:-0400
TZNAME:EDT
DTSTART:20270314T070000
END:DAYLIGHT
BEGIN:STANDARD
TZOFFSETFROM:-0400
TZOFFSETTO:-0500
TZNAME:EST
DTSTART:20271107T060000
END:STANDARD
END:VTIMEZONE
BEGIN:VEVENT
DTSTART;TZID=America/New_York:20260417T183000
DTEND;TZID=America/New_York:20260417T200000
DTSTAMP:20260421T213926
CREATED:20260211T213727Z
LAST-MODIFIED:20260213T134517Z
UID:10001685-1776450600-1776456000@quoifairealma.com
SUMMARY:Concerts du printemps - Classes de Nathalie et MarieSoleil
DESCRIPTION:Venez encourager les élèves qui ont travaillé très fort toute la session pour monter sur scène et vous offrir un bon moment!
URL:https://quoifairealma.com/evenement/concerts-du-printemps-classes-de-nathalie-et-mariesoleil/
LOCATION:Centre culturel\, 400\, rue Saint-Sacrement Ouest\, Alma\, G8B 7K8
CATEGORIES:Musique,Spectacles et festivals
ATTACH;FMTTYPE=image/jpeg:https://quoifairealma.com/app/uploads/2026/02/CONCERTS-1.jpg
END:VEVENT
BEGIN:VEVENT
DTSTART;TZID=America/New_York:20260416T103000
DTEND;TZID=America/New_York:20260416T120000
DTSTAMP:20260421T213926
CREATED:20260320T155340Z
LAST-MODIFIED:20260325T135154Z
UID:10002591-1776335400-1776340800@quoifairealma.com
SUMMARY:Dîner-causerie AQDR Alma : Vieillir avec fierté
DESCRIPTION:Assistez à la conférence gratuite de Carol Bélanger et Denise Ouellet intitulée : Vieillir avec fierté\, qui aborde l’épanouissement dans la vieillesse malgré les deuils qui se dressent sur la route. \nCONFÉRENCE GRATUITE\nRepas facultatif à 10$/ membres et à 15$/ non-membres \nINSCRIPTIONS OBLIGATOIRES d’ici le 14 avril midi au 418 480-1122
URL:https://quoifairealma.com/evenement/diner-causerie-aqdr-alma-vieillir-avec-fierte/
LOCATION:Centre culturel\, 400\, rue Saint-Sacrement Ouest\, Alma\, G8B 7K8
CATEGORIES:Ateliers,Communauté,Conférences et formations,Loisirs et culture
ATTACH;FMTTYPE=image/jpeg:https://quoifairealma.com/app/uploads/2026/03/Capture-decran-2026-03-20-115006.jpg
ORGANIZER;CN="AQDR Alma":MAILTO:coordination@aqdralma.com
END:VEVENT
BEGIN:VEVENT
DTSTART;TZID=America/New_York:20260327T170000
DTEND;TZID=America/New_York:20260329T150000
DTSTAMP:20260421T213927
CREATED:20260317T161643Z
LAST-MODIFIED:20260320T131001Z
UID:10002453-1774630800-1774796400@quoifairealma.com
SUMMARY:Exposition annuelle 2026
DESCRIPTION:Vous êtes cordialement invité au vernissage de l’exposition des élèves et les animateurs de l’Atelier d’Art d’Alma qui aura lieu le vendredi 27 mars 2026 au Centre Culturel à 17 h. \nChoisissez votre coup de coeur!❤️\nPrésence d’un jury composé d’artistes invités afin de sélectionner une oeuvre de mérite dans chaque catégorie. (Aquarelle\, acrylique\, dessin\, pastel. ) \nArtistes présents pour démonstrations et peintures en direct le samedi et dimanche.\nL’exposition se déroule jusqu’au dimanche 29 mars 15 h. \nPassez voir les magnifiques peintures et oeuvres!
URL:https://quoifairealma.com/evenement/exposition-annuelle-2026/
LOCATION:Centre culturel\, 400\, rue Saint-Sacrement Ouest\, Alma\, G8B 7K8
CATEGORIES:Expositions,Loisirs et culture
ATTACH;FMTTYPE=image/jpeg:https://quoifairealma.com/app/uploads/2026/03/2026_carre_facebook_Facebook_carre_900px-copie-scaled.jpg
ORGANIZER;CN="Atelier d'Art d'Alma":MAILTO:info@atelierdartdalma.com
END:VEVENT
BEGIN:VEVENT
DTSTART;TZID=America/New_York:20260319T103000
DTEND;TZID=America/New_York:20260319T120000
DTSTAMP:20260421T213927
CREATED:20260113T194141Z
LAST-MODIFIED:20260116T162507Z
UID:10001146-1773916200-1773921600@quoifairealma.com
SUMMARY:Dîner-causerie de l'AQDR Alma : Conférence de Jérôme Pruneau « Je suis raciste\, mais je me soigne »
DESCRIPTION:CONFÉRENCE GRATUITE // Repas facultatif à 10$/membre et 15$/non-membre\nINSCRIPTION OBLIGATOIRE \nDès 10h30 ! Ne manquez pas cette conférence inspirante !
URL:https://quoifairealma.com/evenement/diner-causerie-de-laqdr-alma-conference-de-jerome-pruneau-je-suis-raciste-mais-je-me-soigne/
LOCATION:Centre culturel\, 400\, rue Saint-Sacrement Ouest\, Alma\, G8B 7K8
CATEGORIES:Ateliers,Communauté
ATTACH;FMTTYPE=image/jpeg:https://quoifairealma.com/app/uploads/2026/01/Capture-decran-2026-01-13-1436561.jpg
ORGANIZER;CN="AQDR Alma":MAILTO:coordination@aqdralma.com
END:VEVENT
BEGIN:VEVENT
DTSTART;TZID=America/New_York:20260318T190000
DTEND;TZID=America/New_York:20260318T200000
DTSTAMP:20260421T213927
CREATED:20260317T160232Z
LAST-MODIFIED:20260320T130924Z
UID:10002452-1773860400-1773864000@quoifairealma.com
SUMMARY:Assemblée générale annuelle
DESCRIPTION:L’assemblée générale annuelle de l’Atelier d’Art d’Alma aura lieu demain au deuxième étage du Centre Culturel d’Alma. Café et collations servies sur place\, au plaisir de vous y voir! 🙂
URL:https://quoifairealma.com/evenement/assemblee-generale-annuelle/
LOCATION:Centre culturel\, 400\, rue Saint-Sacrement Ouest\, Alma\, G8B 7K8
CATEGORIES:Communauté,Conférences et formations,Événements,Loisirs et culture
ATTACH;FMTTYPE=image/jpeg:https://quoifairealma.com/app/uploads/2026/03/atelier_assemblee_2026_Billet-pour-Facebook-940-x-788-px-scaled.jpg
ORGANIZER;CN="Atelier d'Art d'Alma":MAILTO:info@atelierdartdalma.com
END:VEVENT
BEGIN:VEVENT
DTSTART;TZID=America/New_York:20260219T103000
DTEND;TZID=America/New_York:20260219T120000
DTSTAMP:20260421T213927
CREATED:20260113T193833Z
LAST-MODIFIED:20260116T162443Z
UID:10001144-1771497000-1771502400@quoifairealma.com
SUMMARY:Dîner-causerie de l'AQDR Alma Service des impôts chez IRR02 & Cohabitation Saguenay (jumelage de colocation)
DESCRIPTION:CONFÉRENCE GRATUITE // Repas facultatif à 10$/membre et 15$/non-membre\nINSCRIPTION OBLIGATOIRE \nDès 10h30\, assistez à notre conférence formule 2 en 1 !
URL:https://quoifairealma.com/evenement/diner-causerie-de-laqdr-alma-service-des-impots-chez-irr02-cohabitation-saguenay-jumelage-de-colocation/
LOCATION:Centre culturel\, 400\, rue Saint-Sacrement Ouest\, Alma\, G8B 7K8
CATEGORIES:Ateliers,Communauté
ATTACH;FMTTYPE=image/jpeg:https://quoifairealma.com/app/uploads/2026/01/Capture-decran-2026-01-13-143656.jpg
ORGANIZER;CN="AQDR Alma":MAILTO:coordination@aqdralma.com
END:VEVENT
BEGIN:VEVENT
DTSTART;TZID=America/New_York:20260119T133000
DTEND;TZID=America/New_York:20260119T153000
DTSTAMP:20260421T213927
CREATED:20260107T164911Z
LAST-MODIFIED:20260108T190315Z
UID:10001142-1768829400-1768836600@quoifairealma.com
SUMMARY:Café de Fernand
DESCRIPTION:Perspectives02 est un organisme régional. \nIssu de la fusion de deux entités \,soit l’Association de soutien et d’information face a la douleur et de Fibromyalgie\nPour le secteur d’Alma\, Il y a un déjeuner et une rencontre d’informations par mois . \nLes rencontres se font au Centre culturel\, 400\, St-Sacrement Ouest\, Alma \, G8B 2K1\nEn janvier:\nLundi\,19 janvier 2026 a 13H30. \nPour information: Germaine Gauthier\, représentante de secteur\ntél. 367-348-1677
URL:https://quoifairealma.com/evenement/cafe-de-fernand/
LOCATION:Centre culturel\, 400\, rue Saint-Sacrement Ouest\, Alma\, G8B 7K8
CATEGORIES:Ateliers,Communauté
END:VEVENT
BEGIN:VEVENT
DTSTART;TZID=America/New_York:20260115T103000
DTEND;TZID=America/New_York:20260115T120000
DTSTAMP:20260421T213927
CREATED:20260106T194757Z
LAST-MODIFIED:20260108T185901Z
UID:10001139-1768473000-1768478400@quoifairealma.com
SUMMARY:Dîner-causerie de l'AQDR Alma : Société Alzheimer du Saguenay-Lac-Saint-Jean
DESCRIPTION:CONFÉRENCE GRATUITE // Repas facultatif à 10$ pour les membres et 15$ pour les non-membres\nDès 10h30\, assistez à notre première conférence de l’an 2026. Nous recevrons la Société Alzheimer du Saguenay-Lac-Saint-Jean\, qui nous exposera les divers défis et manières d’agir lorsque nous sommes en relation avec une personne atteinte de cette maladie.
URL:https://quoifairealma.com/evenement/diner-causerie-de-laqdr-alma-societe-alzheimer-du-saguenay-lac-saint-jean/
LOCATION:Centre culturel\, 400\, rue Saint-Sacrement Ouest\, Alma\, G8B 7K8
CATEGORIES:Ateliers,Communauté
ATTACH;FMTTYPE=image/jpeg:https://quoifairealma.com/app/uploads/2026/01/Capture-decran-2026-01-06-144301.jpg
ORGANIZER;CN="AQDR Alma":MAILTO:coordination@aqdralma.com
END:VEVENT
BEGIN:VEVENT
DTSTART;TZID=America/New_York:20260115T103000
DTEND;TZID=America/New_York:20260115T120000
DTSTAMP:20260421T213927
CREATED:20251219T150950Z
LAST-MODIFIED:20260108T184443Z
UID:10001127-1768473000-1768478400@quoifairealma.com
SUMMARY:Dîner-causerie AQDR Alma : Société Alzheimer Saguenay-Lac-Saint-Jean
DESCRIPTION:CONFÉRENCE GRATUITE / Repas facultatif 10 $ pour les membres et 15$ pour les non-membres\nINSCRIPTION OBLIGATOIRE au 418 480-1122 \nPaiement sur place en argent comptant
URL:https://quoifairealma.com/evenement/diner-causerie-aqdr-alma-societe-alzheimer-saguenay-lac-saint-jean/
LOCATION:Centre culturel\, 400\, rue Saint-Sacrement Ouest\, Alma\, G8B 7K8
CATEGORIES:Ateliers,Communauté
ATTACH;FMTTYPE=image/jpeg:https://quoifairealma.com/app/uploads/2025/12/Capture-decran-2025-12-19-100750.jpg
ORGANIZER;CN="AQDR Alma":MAILTO:coordination@aqdralma.com
END:VEVENT
BEGIN:VEVENT
DTSTART;TZID=America/New_York:20251213T133000
DTEND;TZID=America/New_York:20251213T150000
DTSTAMP:20260421T213927
CREATED:20251016T162050Z
LAST-MODIFIED:20251021T143814Z
UID:10001087-1765632600-1765638000@quoifairealma.com
SUMMARY:Concert de Noël - Éveil musical et Classes des instruments (École de Formation Musicale d'Alma)
DESCRIPTION:Venez en grand nombre encourager nos élèves qui ont travaillé toute la session pour monter sur scène! \n11 ans et moins : 5 $\n12 ans et plus : 10$ \nTirages et cantine sur place au profit de l’école \nPaiement à la porte\, comptant ou par carte de débit. \nInfo : (418) 668-4467
URL:https://quoifairealma.com/evenement/concert-de-noel-eveil-musical-et-classes-des-instruments-ecole-de-formation-musicale-dalma/
LOCATION:Centre culturel\, 400\, rue Saint-Sacrement Ouest\, Alma\, G8B 7K8
CATEGORIES:Musique,Spectacles et festivals
ATTACH;FMTTYPE=image/jpeg:https://quoifairealma.com/app/uploads/2025/10/Concert-de-noel.jpg
END:VEVENT
BEGIN:VEVENT
DTSTART;TZID=America/New_York:20251212T183000
DTEND;TZID=America/New_York:20251212T200000
DTSTAMP:20260421T213927
CREATED:20250923T181659Z
LAST-MODIFIED:20250924T192519Z
UID:10001065-1765564200-1765569600@quoifairealma.com
SUMMARY:Concert de Noël - Classe de Linda (École de formation musicale d'Alma)
DESCRIPTION:Venez en grand nombre encourager les élèves qui ont travaillé toute l’année pour monter sur scène! \n11 ans et moins : 5 $\n12 ans et plus : 10$ \nTirages et cantine sur place au profit de l’école \nPaiement à la porte\, comptant ou par carte de débit
URL:https://quoifairealma.com/evenement/concert-de-noel-classe-de-linda-ecole-de-formation-musicale-dalma/
LOCATION:Centre culturel\, 400\, rue Saint-Sacrement Ouest\, Alma\, G8B 7K8
CATEGORIES:Musique,Spectacles et festivals
ATTACH;FMTTYPE=image/jpeg:https://quoifairealma.com/app/uploads/2025/09/concert-de-noel2.jpg
END:VEVENT
BEGIN:VEVENT
DTSTART;TZID=America/New_York:20251205T183000
DTEND;TZID=America/New_York:20251205T200000
DTSTAMP:20260421T213927
CREATED:20250923T181233Z
LAST-MODIFIED:20250924T191839Z
UID:10001063-1764959400-1764964800@quoifairealma.com
SUMMARY:Concert de Noël - Classe de Nathalie ( École de Formation Musicale d'Alma)
DESCRIPTION:Venez en grand nombre encourager nos élèves qui ont travaillé toute la session pour monter sur scène! \n11 ans et moins : 5 $\n12 ans et plus : 10$ \nTirages et cantine sur place au profit de l’école \nPaiement à la porte\, comptant ou par carte de débit. \nInfo : (418) 668-4467 \n \n 
URL:https://quoifairealma.com/evenement/concert-de-noel-classe-de-nathalie-ecole-de-formation-musicale-dalma/
LOCATION:Centre culturel\, 400\, rue Saint-Sacrement Ouest\, Alma\, G8B 7K8
CATEGORIES:Musique,Spectacles et festivals
ATTACH;FMTTYPE=image/jpeg:https://quoifairealma.com/app/uploads/2025/09/1-TEMPLATE-3.jpg
END:VEVENT
BEGIN:VEVENT
DTSTART;TZID=America/New_York:20251201T070000
DTEND;TZID=America/New_York:20251219T160000
DTSTAMP:20260421T213927
CREATED:20251212T022452Z
LAST-MODIFIED:20251218T190348Z
UID:10001125-1764572400-1766160000@quoifairealma.com
SUMMARY:Concours de dessin
DESCRIPTION:Voici enfin notre concours de dessin! 👩‍🎨 Les jeunes créatifs entre 6 et 14 ans peuvent participer! 🐱🚙 🖐️\nThème 2025:\n🧸🛩️♟️🧩Ton jouet préféré dans son univers… 🎲 \nVoilà l’occasion de créer un dessin original et gagner l’un de nos fabuleux prix. ✍️ Un cours de ton choix gratuit à l’Atelier d’Art ou des paniers cadeaux de nos commanditaires. \nMerci à nos généreux commanditaires participants : Encadratech\, Librairie Harvey\, L’Artisan Plus et Galerie du jouet et Mélanie Potvin designer graphique\nPlus de détails et règlements complets sur notre site Internet! \nLe concours prend fin le 19 décembre 2025. \n🖍️ Tous à vos crayons! ✏️ \n 
URL:https://quoifairealma.com/evenement/concours-de-dessin/
LOCATION:Centre culturel\, 400\, rue Saint-Sacrement Ouest\, Alma\, G8B 7K8
CATEGORIES:Ateliers,Communauté
ATTACH;FMTTYPE=image/jpeg:https://quoifairealma.com/app/uploads/2025/12/affiche_concours_2025_12po-scaled.jpg
ORGANIZER;CN="Atelier d'Art d'Alma":MAILTO:info@atelierdartdalma.com
END:VEVENT
BEGIN:VEVENT
DTSTART;TZID=America/New_York:20251120T103000
DTEND;TZID=America/New_York:20251120T120000
DTSTAMP:20260421T213927
CREATED:20251014T191637Z
LAST-MODIFIED:20251015T122024Z
UID:10001084-1763634600-1763640000@quoifairealma.com
SUMMARY:Dîner-causerie AQDR Alma : Équijustice présente : La médiation citoyenne
DESCRIPTION:Conférence gratuite / repas facultatif à 10$ pour les membres et à 15$ pour les non-membres (paiements par argent comptant seulement). \nDémystifiez ce qu’est la médiation citoyenne et en quoi elle pourrait peut-être vous être utile dans la résolution d’un conflit. \nÉquijustice vient nous présenter leur service fort intéressant qu’est la médiation citoyenne. \nInscrivez-vous d’ici le 13 novembre au 418 480-1122 pour y assister !
URL:https://quoifairealma.com/evenement/diner-causerie-aqdr-alma-equijustice-presente-la-mediation-citoyenne/
LOCATION:Centre culturel\, 400\, rue Saint-Sacrement Ouest\, Alma\, G8B 7K8
CATEGORIES:Ateliers,Communauté
ATTACH;FMTTYPE=image/jpeg:https://quoifairealma.com/app/uploads/2025/10/AQDR-DIner-causerie.jpg
ORGANIZER;CN="AQDR Alma":MAILTO:coordination@aqdralma.com
END:VEVENT
BEGIN:VEVENT
DTSTART;TZID=America/New_York:20251109T100000
DTEND;TZID=America/New_York:20251109T153000
DTSTAMP:20260421T213927
CREATED:20251009T122154Z
LAST-MODIFIED:20251009T122154Z
UID:10001617-1762682400-1762702200@quoifairealma.com
SUMMARY:EXPOSITION ANNUELLE | Les Dentellières et brodeuses du Pays des Bleuets
DESCRIPTION:🎵 Exposition annuelle | Les Dentellières et brodeuses du Pays des Bleuets 🎶 \nVenez admirer le talent et la minutie des artisanes lors de leur exposition 2025\, sous le thème « Les instruments de musique » 🎻✨ \n📅 Les 8 et 9 novembre 2025🕙 8 novembre : de 10 h à 16 h🕞 9 novembre : de 10 h à 15 h 30📍 Centre culturel d’Alma💰 Entrée gratuite
URL:https://quoifairealma.com/evenement/exposition-annuelle-les-dentellieres-et-brodeuses-du-pays-des-bleuets-2/
LOCATION:Centre culturel\, 400\, rue Saint-Sacrement Ouest\, Alma\, G8B 7K8
CATEGORIES:Expositions,Loisirs et culture
ATTACH;FMTTYPE=image/jpeg:https://quoifairealma.com/app/uploads/2025/10/QF-dentelliere.jpg
END:VEVENT
BEGIN:VEVENT
DTSTART;TZID=America/New_York:20251108T100000
DTEND;TZID=America/New_York:20251108T160000
DTSTAMP:20260421T213927
CREATED:20251009T122114Z
LAST-MODIFIED:20251009T122114Z
UID:10001616-1762596000-1762617600@quoifairealma.com
SUMMARY:EXPOSITION ANNUELLE | Les Dentellières et brodeuses du Pays des Bleuets
DESCRIPTION:🎵 Exposition annuelle | Les Dentellières et brodeuses du Pays des Bleuets 🎶 \nVenez admirer le talent et la minutie des artisanes lors de leur exposition 2025\, sous le thème « Les instruments de musique » 🎻✨ \n📅 Les 8 et 9 novembre 2025🕙 8 novembre : de 10 h à 16 h🕞 9 novembre : de 10 h à 15 h 30📍 Centre culturel d’Alma💰 Entrée gratuite
URL:https://quoifairealma.com/evenement/exposition-annuelle-les-dentellieres-et-brodeuses-du-pays-des-bleuets/
LOCATION:Centre culturel\, 400\, rue Saint-Sacrement Ouest\, Alma\, G8B 7K8
CATEGORIES:Expositions,Loisirs et culture
ATTACH;FMTTYPE=image/jpeg:https://quoifairealma.com/app/uploads/2025/10/QF-dentelliere.jpg
END:VEVENT
BEGIN:VEVENT
DTSTART;TZID=America/New_York:20251016T180000
DTEND;TZID=America/New_York:20251016T210000
DTSTAMP:20260421T213927
CREATED:20250919T140741Z
LAST-MODIFIED:20250919T150836Z
UID:10001056-1760637600-1760648400@quoifairealma.com
SUMMARY:Souper de clôture
DESCRIPTION:🌿 Invitation au souper de clôture 🌿 \nLa Société d’horticulture d’Alma a l’honneur de vous inviter à son souper de clôture de l’année ! \n📅 Date : 16 octobre📍 Lieu : Centre culturel d’Alma⏰ Heure : 18 h💲 Coût : 30 $ par personne \nCet événement sera l’occasion de faire le bilan de notre belle année et de célébrer ensemble nos réussites.✨ De nombreux prix de présence seront remis au cours de la soirée ! \n✅ Réservation obligatoire avant le 7 octobreMerci de confirmer votre présence et de payer avant cette date auprès de Mme Maureen Doyle au 418 668-4106.
URL:https://quoifairealma.com/evenement/souper-de-cloture/
LOCATION:Centre culturel\, 400\, rue Saint-Sacrement Ouest\, Alma\, G8B 7K8
CATEGORIES:Ateliers,Communauté
ATTACH;FMTTYPE=image/jpeg:https://quoifairealma.com/app/uploads/2025/09/closeup-selective-focus-shot-pink-flowers-with-bee-top-greenery-scaled.jpg
END:VEVENT
BEGIN:VEVENT
DTSTART;TZID=America/New_York:20251016T103000
DTEND;TZID=America/New_York:20251016T120000
DTSTAMP:20260421T213927
CREATED:20250915T182206Z
LAST-MODIFIED:20250929T170805Z
UID:10001048-1760610600-1760616000@quoifairealma.com
SUMMARY:Dîner-Causerie AQDR Alma : Élections municipales - Quel pouvoir avons-nous ?
DESCRIPTION:Dîner-Causerie AQDR AlmaÉlections municipales – Quel pouvoir avons-nous ? \n📅 Date : 16 octobre📍 Lieu : Centre culturel \nVenez démystifier le monde politico-électoral et découvrir l’étendue de votre pouvoir en tant qu’électeur à l’approche des élections municipales. \n🎤 Conférence gratuite🍽️ Repas facultatif : 10 $/membre | 15 $/non-membre☎️ Inscription obligatoire : 418 480-1122
URL:https://quoifairealma.com/evenement/diner-causerie-aqdr-alma-elections-municipales-quel-pouvoir-avons-nous/
LOCATION:Centre culturel\, 400\, rue Saint-Sacrement Ouest\, Alma\, G8B 7K8
CATEGORIES:Communauté,Événements
ATTACH;FMTTYPE=image/jpeg:https://quoifairealma.com/app/uploads/2025/09/Capture-decran-.jpg
ORGANIZER;CN="AQDR Alma":MAILTO:coordination@aqdralma.com
END:VEVENT
BEGIN:VEVENT
DTSTART;TZID=America/New_York:20250918T103000
DTEND;TZID=America/New_York:20250918T120000
DTSTAMP:20260421T213927
CREATED:20250915T180516Z
LAST-MODIFIED:20250917T172929Z
UID:10001045-1758191400-1758196800@quoifairealma.com
SUMMARY:Dîner-Causerie AQDR Alma - Aînés : Quelles sont vos priorités ?
DESCRIPTION:CONFÉRENCE GRATUITE\nVenez assister à notre premier Dîner-Causerie ! En formule atelier\, nous recevons le mouvement citoyen Le Grand Dialogue. \nVenez partager vos rêves et partager vos priorités dans un cadre inspirant et accueillant. \nRepas facultatif\, à 10$/ membres et 15$/ non-membre\nINSCRIPTIONS OBLIGATOIRES au 418 480-1122
URL:https://quoifairealma.com/evenement/diner-causerie-aqdr-alma-aines-quelles-sont-vos-priorites/
LOCATION:Centre culturel\, 400\, rue Saint-Sacrement Ouest\, Alma\, G8B 7K8
CATEGORIES:Ateliers,Communauté
ATTACH;FMTTYPE=image/jpeg:https://quoifairealma.com/app/uploads/2025/09/DINER-CAUSERIE-18-sept.jpg
ORGANIZER;CN="AQDR Alma":MAILTO:coordination@aqdralma.com
END:VEVENT
BEGIN:VEVENT
DTSTART;TZID=America/New_York:20250913T133000
DTEND;TZID=America/New_York:20250913T150000
DTSTAMP:20260421T213927
CREATED:20250923T181958Z
LAST-MODIFIED:20250924T192824Z
UID:10001067-1757770200-1757775600@quoifairealma.com
SUMMARY:Concert de Noël - Éveil musical et classes des instruments
DESCRIPTION:Venez en grand nombre encourager les élèves qui ont travaillé fort pour monter sur scène! \n11 ans et moins : 5 $\n12 ans et plus : 10 $ \nTirages et cantine sur place au profit de l’école \nPaiement à la porte\, comptant et carte de débit
URL:https://quoifairealma.com/evenement/concert-de-noel-eveil-musical-et-classes-des-instruments/
LOCATION:Centre culturel\, 400\, rue Saint-Sacrement Ouest\, Alma\, G8B 7K8
CATEGORIES:Musique,Spectacles et festivals
ATTACH;FMTTYPE=image/jpeg:https://quoifairealma.com/app/uploads/2025/09/concert-de-noel2.jpg
END:VEVENT
BEGIN:VEVENT
DTSTART;TZID=America/New_York:20250911T190000
DTEND;TZID=America/New_York:20250911T210000
DTSTAMP:20260421T213927
CREATED:20250827T233633Z
LAST-MODIFIED:20250828T123620Z
UID:10000927-1757617200-1757624400@quoifairealma.com
SUMMARY:Conférence - Plante d'intérieur qui vont à l'extérieur
DESCRIPTION:🌿 Conférence horticole à ne pas manquer! 🌿 \nVenez assister à la conférence « Plantes d’intérieur qui vont à l’extérieur »\, présentée par M. Mathieu Ouellet de la Pépinière Boréalis. \n📅 Une belle occasion d’apprendre\, d’échanger et de partager votre passion pour l’horticulture\, le tout dans une ambiance conviviale!🎁 De nombreux prix de présence à gagner!💵 Coût d’entrée : 7 $ pour les non-membres \n✨ Au plaisir de vous y voir!
URL:https://quoifairealma.com/evenement/conference-plante-dinterieur-qui-vont-a-lexterieur/
LOCATION:Centre culturel\, 400\, rue Saint-Sacrement Ouest\, Alma\, G8B 7K8
CATEGORIES:Ateliers,Communauté
ATTACH;FMTTYPE=image/jpeg:https://quoifairealma.com/app/uploads/2025/08/plante.jpg
END:VEVENT
BEGIN:VEVENT
DTSTART;TZID=America/New_York:20250908T080000
DTEND;TZID=America/New_York:20250911T190000
DTSTAMP:20260421T213927
CREATED:20250826T152506Z
LAST-MODIFIED:20250902T123702Z
UID:10001135-1757318400-1757617200@quoifairealma.com
SUMMARY:Inscriptions aux cours de peinture et dessin
DESCRIPTION:  \n \n 
URL:https://quoifairealma.com/evenement/inscriptions/
LOCATION:Centre culturel\, 400\, rue Saint-Sacrement Ouest\, Alma\, G8B 7K8
CATEGORIES:Ateliers et bricolage,Loisirs et culture
ATTACH;FMTTYPE=image/jpeg:https://quoifairealma.com/app/uploads/2025/09/1-TEMPLATE.jpg
ORGANIZER;CN="Atelier d'Art d'Alma":MAILTO:info@atelierdartdalma.com
END:VEVENT
BEGIN:VEVENT
DTSTART;TZID=America/New_York:20250906T083000
DTEND;TZID=America/New_York:20250906T160000
DTSTAMP:20260421T213927
CREATED:20250519T205010Z
LAST-MODIFIED:20250520T133408Z
UID:10001008-1757147400-1757174400@quoifairealma.com
SUMMARY:Conférence sur les Suillus par Daniel Mary et cueillette de champignons
DESCRIPTION:🎤 CONFÉRENCE sur les Suillus avec M. Daniel Mary en avant-midi suivie d’une sortie à la Dam-en-terre. \n📅 Lundi 9 juin📍 Centre culturel d’Alma🕣 À 8h30 \n🎫 Entrée gratuite pour les membres de la Société de mycologie d’Alma💵 5 $ pour les non-membres \nApportez votre diner!
URL:https://quoifairealma.com/evenement/conference-sur-les-suillus-par-daniel-mary-et-cueillette-de-champignons/
LOCATION:Centre culturel\, 400\, rue Saint-Sacrement Ouest\, Alma\, G8B 7K8
CATEGORIES:Ateliers,Communauté
ATTACH;FMTTYPE=image/jpeg:https://quoifairealma.com/app/uploads/2025/05/494330350_1065117002099458_5383195874639709246_n.jpg
END:VEVENT
BEGIN:VEVENT
DTSTART;TZID=America/New_York:20250614T083000
DTEND;TZID=America/New_York:20250614T130000
DTSTAMP:20260421T213927
CREATED:20250519T204437Z
LAST-MODIFIED:20250520T132655Z
UID:10001007-1749889800-1749906000@quoifairealma.com
SUMMARY:Conférence sur les champignons comestibles par Daniel Mary
DESCRIPTION:🌟 En primeur à Alma ! 🌟 \nCONFÉRENCE EXCLUSIVE avec M. Daniel Mary 🍄 « Consommer sans s’empoisonner »🔍 Apprenez à identifier les champignons comestibles et toxiques ! \n📅 Samedi 14 juin📍 Centre culturel d’Alma🕣 À 8h30 \n🎫 Entrée gratuite pour les membres de la Société de mycologie d’Alma💵 5 $ pour les non-membres \n📢 Ne manquez pas cette occasion unique d’en apprendre plus sur la mycologie !Venez nombreux !
URL:https://quoifairealma.com/evenement/conference-sur-les-champignons-comestibles-par-daniel-mary/
LOCATION:Centre culturel\, 400\, rue Saint-Sacrement Ouest\, Alma\, G8B 7K8
CATEGORIES:Ateliers,Communauté
ATTACH;FMTTYPE=image/jpeg:https://quoifairealma.com/app/uploads/2025/05/494415660_10161474911754542_6878827662844525142_n.jpg
END:VEVENT
BEGIN:VEVENT
DTSTART;TZID=America/New_York:20250605T190000
DTEND;TZID=America/New_York:20250605T210000
DTSTAMP:20260421T213927
CREATED:20250523T011413Z
LAST-MODIFIED:20250523T114820Z
UID:10001009-1749150000-1749157200@quoifairealma.com
SUMMARY:Comment concevoir son aménagement paysager
DESCRIPTION:Conférence qui portera sur la manière et le comment concevoir son aménagement paysager donnée par Mme Anne-Marie Tremblay. Cette conférence est au coût de 7$ par personne pour les non membres. Il y a possibilité de devenir membre au coût de 30$. il y aura de nombreux prix de présence\, ainsi qu’un tirage pour la campagne de recrutement. Nous sommes impatients de vous retrouver !
URL:https://quoifairealma.com/evenement/comment-concevoir-son-amenagement-paysager/
LOCATION:Centre culturel\, 400\, rue Saint-Sacrement Ouest\, Alma\, G8B 7K8
CATEGORIES:Ateliers,Communauté
ATTACH;FMTTYPE=image/jpeg:https://quoifairealma.com/app/uploads/2025/05/R-3.jpg
END:VEVENT
BEGIN:VEVENT
DTSTART;TZID=America/New_York:20250531T083000
DTEND;TZID=America/New_York:20250531T083000
DTSTAMP:20260421T213927
CREATED:20250523T180722Z
LAST-MODIFIED:20250527T115117Z
UID:10001010-1748680200-1748680200@quoifairealma.com
SUMMARY:Cours d'initiation à la mycologie
DESCRIPTION:🍄 Initiation à la Mycologie – Cours Théorique 🍄 \nEnvie d’en apprendre plus sur le monde fascinant des champignons ?👉 Venez découvrir les bases de la mycologie lors de ce cours d’initiation théorique ! \n🔍 Accessible à tous\, aucun prérequis nécessaire.💰 Tarif : 20\,00 $ pour les membres | 30\,00 $ pour les non-membres \nRejoignez-nous pour plonger dans l’univers mystérieux et passionnant des champignons ! 🌿
URL:https://quoifairealma.com/evenement/cours-dinitiation-a-la-mycologie/
LOCATION:Centre culturel\, 400\, rue Saint-Sacrement Ouest\, Alma\, G8B 7K8
CATEGORIES:Ateliers,Communauté
ATTACH;FMTTYPE=image/jpeg:https://quoifairealma.com/app/uploads/2025/05/mycologie-2_.jpg
END:VEVENT
BEGIN:VEVENT
DTSTART;TZID=America/New_York:20250515T103000
DTEND;TZID=America/New_York:20250515T120000
DTSTAMP:20260421T213927
CREATED:20250423T141818Z
LAST-MODIFIED:20250428T145848Z
UID:10000974-1747305000-1747310400@quoifairealma.com
SUMMARY:Dîner-Causerie AQDR Alma : La santé mentale au masculin
DESCRIPTION:CONFÉRENCE GRATUITE / Repas facultatif 10$/ membres et 15$/ non-membres\nINSCRIPTIONS OBLIGATOIRES \nCette dernière conférence avant la période estivale sera animée par Le Centre de Ressources pour Hommes Optimum d’Alma : nous y démystifierons les enjeux de santé mentale et mythes entourant la santé mentale masculine. \nVenez en apprendre davantage sur ce sujet important qui est malheureusement peu abordé autour de nous. Parce qu’on a tous un homme dans notre entourage à qui l’on tient\, déplaçons-nous pour s’unir à eux et leur santé ! \nMembres et non-membres sont les bienvenus\nSur inscription seulement\, au 418 480-1122 ou via notre formulaire d’inscription en ligne
URL:https://quoifairealma.com/evenement/diner-causerie-aqdr-alma-la-sante-mentale-au-masculin/
LOCATION:Centre culturel\, 400\, rue Saint-Sacrement Ouest\, Alma\, G8B 7K8
CATEGORIES:Ateliers,Communauté
ATTACH;FMTTYPE=image/jpeg:https://quoifairealma.com/app/uploads/2025/04/AQDR-causerie2.jpg
ORGANIZER;CN="AQDR Alma":MAILTO:coordination@aqdralma.com
END:VEVENT
BEGIN:VEVENT
DTSTART;TZID=America/New_York:20250501T190000
DTEND;TZID=America/New_York:20250501T210000
DTSTAMP:20260421T213927
CREATED:20250415T234605Z
LAST-MODIFIED:20250418T145134Z
UID:10000972-1746126000-1746133200@quoifairealma.com
SUMMARY:La culture de petits fruits et taille.
DESCRIPTION:Conférence sur la culture de petits fruits et taille (Framboises\, cassis\, raisins\, bleuets sauvages) donné par : M. pierre Philippe Tremblay du Domaine Le Cageot – Vignoble et Distillerie. \nLe coût d’entrée pour cette conférence est de 7$ et il y aura de nombreux prix de présence. Bienvenue à tous.
URL:https://quoifairealma.com/evenement/la-culture-de-petits-fruits-et-taille/
LOCATION:Centre culturel\, 400\, rue Saint-Sacrement Ouest\, Alma\, G8B 7K8
CATEGORIES:Ateliers,Communauté
ATTACH;FMTTYPE=image/jpeg:https://quoifairealma.com/app/uploads/2025/04/taille-petits-fruits.jpg
END:VEVENT
END:VCALENDAR