BEGIN:VCALENDAR
VERSION:2.0
PRODID:-//Quoi faire à Alma - ECPv6.15.14//NONSGML v1.0//EN
CALSCALE:GREGORIAN
METHOD:PUBLISH
X-ORIGINAL-URL:https://quoifairealma.com
X-WR-CALDESC:Évènements pour Quoi faire à Alma
REFRESH-INTERVAL;VALUE=DURATION:PT1H
X-Robots-Tag:noindex
X-PUBLISHED-TTL:PT1H
BEGIN:VTIMEZONE
TZID:America/New_York
BEGIN:DAYLIGHT
TZOFFSETFROM:-0500
TZOFFSETTO:-0400
TZNAME:EDT
DTSTART:20240310T070000
END:DAYLIGHT
BEGIN:STANDARD
TZOFFSETFROM:-0400
TZOFFSETTO:-0500
TZNAME:EST
DTSTART:20241103T060000
END:STANDARD
BEGIN:DAYLIGHT
TZOFFSETFROM:-0500
TZOFFSETTO:-0400
TZNAME:EDT
DTSTART:20250309T070000
END:DAYLIGHT
BEGIN:STANDARD
TZOFFSETFROM:-0400
TZOFFSETTO:-0500
TZNAME:EST
DTSTART:20251102T060000
END:STANDARD
BEGIN:DAYLIGHT
TZOFFSETFROM:-0500
TZOFFSETTO:-0400
TZNAME:EDT
DTSTART:20260308T070000
END:DAYLIGHT
BEGIN:STANDARD
TZOFFSETFROM:-0400
TZOFFSETTO:-0500
TZNAME:EST
DTSTART:20261101T060000
END:STANDARD
END:VTIMEZONE
BEGIN:VEVENT
DTSTART;TZID=America/New_York:20251018T103000
DTEND;TZID=America/New_York:20251018T120000
DTSTAMP:20260421T214328
CREATED:20251003T193007Z
LAST-MODIFIED:20251003T193201Z
UID:10000837-1760783400-1760788800@quoifairealma.com
SUMMARY:Décore ta citrouille
DESCRIPTION:Venez bricoler dans votre quartier! Vous pourrez vous inspirer de quelques modèles déjà conçus et développer votre créativité pour créer votre propre citrouille!\nMatériel fourni \nTarif citoyen: GRATUIT\nTarif voisin: 5 $ \nInscription en ligne
URL:https://quoifairealma.com/evenement/decore-ta-citrouille-2/
LOCATION:CENTRE CULTUREL/SALLE 2-3\, 400 Rue St Sacrement O\, Alma\, G8B 7K8
CATEGORIES:Ateliers,Ateliers et bricolage,Communauté
ATTACH;FMTTYPE=image/png:https://quoifairealma.com/app/uploads/2024/09/11.png
END:VEVENT
BEGIN:VEVENT
DTSTART;TZID=America/New_York:20250923T093000
DTEND;TZID=America/New_York:20250923T093000
DTSTAMP:20260421T214328
CREATED:20250904T124610Z
LAST-MODIFIED:20250904T142313Z
UID:10001260-1758619800-1758619800@quoifairealma.com
SUMMARY:Les bouts de chou bouquinent
DESCRIPTION:Les bouts de chou bouquinent\, c’est l’occasion idéale d’éveiller vos tout-petits à la lecture\, par des albums drôles et colorés\, avec une animatrice dynamique et débordante d’idées. Vous aimerez à coup sûr nos activités et bricolages en lien avec l’histoire choisie. \nThématique du mois: DES LIVRES SUR LES LIVRES
URL:https://quoifairealma.com/evenement/les-bouts-de-chou-bouquinent-7/
LOCATION:CENTRE CULTUREL/SALLE 2-3\, 400 Rue St Sacrement O\, Alma\, G8B 7K8
CATEGORIES:Ateliers et bricolage,Littérature,Loisirs et culture
ATTACH;FMTTYPE=image/png:https://quoifairealma.com/app/uploads/2025/09/6.png
ORGANIZER;CN="Biblioth%C3%A8que d'Alma":MAILTO:bibliotheque@ville.alma.qc.ca
END:VEVENT
BEGIN:VEVENT
DTSTART;TZID=America/New_York:20250828T190000
DTEND;TZID=America/New_York:20250828T203000
DTSTAMP:20260421T214328
CREATED:20250605T172623Z
LAST-MODIFIED:20250828T193057Z
UID:10001240-1756407600-1756413000@quoifairealma.com
SUMMARY:Danse Country avec Alexandra Gauthier
DESCRIPTION:Vous avez toujours rêvé d’apprendre les différentes danses en ligne ? Ou bien vous voulez tout simplement vous préparez à la saison estivale des festivals ? C’est votre chance ! Venez bouger au son de la musique country en compagnie de vos amis et votre famille. \n  \n  \n 
URL:https://quoifairealma.com/evenement/danse-country-avec-alexandra-gauthier-7/
LOCATION:CENTRE CULTUREL/SALLE 2-3\, 400 Rue St Sacrement O\, Alma\, G8B 7K8
CATEGORIES:Ateliers,Communauté
ATTACH;FMTTYPE=image/png:https://quoifairealma.com/app/uploads/2025/06/quoifaireete-2.png
ORGANIZER;CN="Service des Loisirs et de la Culture":MAILTO:receptioncmt@ville.alma.qc.ca
END:VEVENT
BEGIN:VEVENT
DTSTART;TZID=America/New_York:20250529T103000
DTEND;TZID=America/New_York:20250529T113000
DTSTAMP:20260421T214328
CREATED:20250409T144453Z
LAST-MODIFIED:20250423T143427Z
UID:10000884-1748514600-1748518200@quoifairealma.com
SUMMARY:Initiation au Qicong
DESCRIPTION:Le Qigong vient de la médecine chinoise\, il est l’ancêtre du Taï chi. C’est une merveilleuse approche pour prendre soin de soi et de sa santé par la pratique de mouvements lents et conscients. \nTarif citoyen: 10 $ plus taxes\nTarif citoyen 60+ : 8.50 $\nTarif voisin: 14 $ plus taxes \nInscription en ligne
URL:https://quoifairealma.com/evenement/initiation-au-qicong/
LOCATION:CENTRE CULTUREL/SALLE 2-3\, 400 Rue St Sacrement O\, Alma\, G8B 7K8
CATEGORIES:Ateliers,Ateliers et bricolage,Communauté
ATTACH;FMTTYPE=image/png:https://quoifairealma.com/app/uploads/2025/04/Quoi-Faire-10.png
END:VEVENT
BEGIN:VEVENT
DTSTART;TZID=America/New_York:20250423T093000
DTEND;TZID=America/New_York:20250423T103000
DTSTAMP:20260421T214328
CREATED:20250328T125052Z
LAST-MODIFIED:20250331T143120Z
UID:10001068-1745400600-1745404200@quoifairealma.com
SUMMARY:Les bouts de chou bouquinent
DESCRIPTION:Les bouts de chou bouquinent\, c’est l’occasion idéale d’éveiller vos tout-petits à la lecture\, par des albums drôles et colorés\, avec une animatrice dynamique et débordante d’idées. Vous aimerez à coup sûr nos activités et bricolages en lien avec l’histoire choisie. \nThématique du mois: LA MAGIE
URL:https://quoifairealma.com/evenement/les-bouts-de-chou-bouquinent-30/
LOCATION:CENTRE CULTUREL/SALLE 2-3\, 400 Rue St Sacrement O\, Alma\, G8B 7K8
CATEGORIES:Ateliers et bricolage,Littérature,Loisirs et culture
ATTACH;FMTTYPE=image/png:https://quoifairealma.com/app/uploads/2025/03/Programmation-avril-2025.png
ORGANIZER;CN="Biblioth%C3%A8que d'Alma":MAILTO:bibliotheque@ville.alma.qc.ca
END:VEVENT
END:VCALENDAR