BEGIN:VCALENDAR
VERSION:2.0
PRODID:-//Quoi faire à Alma - ECPv6.15.14//NONSGML v1.0//EN
CALSCALE:GREGORIAN
METHOD:PUBLISH
X-WR-CALNAME:Quoi faire à Alma
X-ORIGINAL-URL:https://quoifairealma.com
X-WR-CALDESC:Évènements pour Quoi faire à Alma
REFRESH-INTERVAL;VALUE=DURATION:PT1H
X-Robots-Tag:noindex
X-PUBLISHED-TTL:PT1H
BEGIN:VTIMEZONE
TZID:America/New_York
BEGIN:DAYLIGHT
TZOFFSETFROM:-0500
TZOFFSETTO:-0400
TZNAME:EDT
DTSTART:20240310T070000
END:DAYLIGHT
BEGIN:STANDARD
TZOFFSETFROM:-0400
TZOFFSETTO:-0500
TZNAME:EST
DTSTART:20241103T060000
END:STANDARD
BEGIN:DAYLIGHT
TZOFFSETFROM:-0500
TZOFFSETTO:-0400
TZNAME:EDT
DTSTART:20250309T070000
END:DAYLIGHT
BEGIN:STANDARD
TZOFFSETFROM:-0400
TZOFFSETTO:-0500
TZNAME:EST
DTSTART:20251102T060000
END:STANDARD
BEGIN:DAYLIGHT
TZOFFSETFROM:-0500
TZOFFSETTO:-0400
TZNAME:EDT
DTSTART:20260308T070000
END:DAYLIGHT
BEGIN:STANDARD
TZOFFSETFROM:-0400
TZOFFSETTO:-0500
TZNAME:EST
DTSTART:20261101T060000
END:STANDARD
END:VTIMEZONE
BEGIN:VEVENT
DTSTART;TZID=America/New_York:20250807T140000
DTEND;TZID=America/New_York:20250807T153000
DTSTAMP:20260422T012819
CREATED:20250725T132152Z
LAST-MODIFIED:20250725T132152Z
UID:10001485-1754575200-1754580600@quoifairealma.com
SUMMARY:Atelier découverte : Grand quiz de la forêt
DESCRIPTION:Une programmation dans le cadre du BiblioCLUB de lecture d’été 2025 \nTu sais tout sur la forêt ou tu aimerais en savoir plus? Cette activité est pour toi! En équipe\, tu répondras à des questions amusantes pour tester tes connaissances tout en découvrant des livres intéressants ! \nInscription requise | Gratuit | Pour les 3 à 12 ans \nUne inscription par enfant\, parents bienvenus
URL:https://quoifairealma.com/evenement/atelier-decouverte-grand-quiz-de-la-foret/
LOCATION:Bibliothèque de Saint-Cœur-de-Marie\, 5791 Avenue du Pont N # 105\, Alma\, Québec\, G8E 1X1\, Canada
CATEGORIES:Activités de loisir,Ateliers et bricolage,Littérature,Loisirs et culture,Science et technologies
ATTACH;FMTTYPE=image/png:https://quoifairealma.com/app/uploads/2025/07/Ateliers-decouvertes-3.png
ORGANIZER;CN="Biblioth%C3%A8que d'Alma":MAILTO:bibliotheque@ville.alma.qc.ca
END:VEVENT
BEGIN:VEVENT
DTSTART;TZID=America/New_York:20250715T103000
DTEND;TZID=America/New_York:20250715T113000
DTSTAMP:20260422T012819
CREATED:20250605T185744Z
LAST-MODIFIED:20250605T193301Z
UID:10001470-1752575400-1752579000@quoifairealma.com
SUMMARY:Atelier découverte : Comment boivent les arbres?
DESCRIPTION:Une programmation dans le cadre du BiblioCLUB de lecture d’été 2025 \nEst-ce que tu t’es déjà demandé comment l’eau\, du sol jusqu’aux feuilles tout là-haut\, circule dans les arbres? Découvre les mystères de arbres et mène une petite expérience scientifique pour comprendre ce phénomène étonnant de la nature. Alors\, prépare-toi et ouvre bien les yeux : la nature a des mystères fascinants à nous révéler! \nInscription requise | Gratuit | Pour les 3 à 12 ans \nUne inscription par enfant\, parents bienvenus
URL:https://quoifairealma.com/evenement/atelier-decouverte-6/
LOCATION:Bibliothèque de Saint-Cœur-de-Marie\, 5791 Avenue du Pont N # 105\, Alma\, Québec\, G8E 1X1\, Canada
CATEGORIES:Activités de loisir,Ateliers et bricolage,Littérature,Loisirs et culture,Science et technologies
ATTACH;FMTTYPE=image/png:https://quoifairealma.com/app/uploads/2025/06/7-1.png
ORGANIZER;CN="Biblioth%C3%A8que d'Alma":MAILTO:bibliotheque@ville.alma.qc.ca
END:VEVENT
BEGIN:VEVENT
DTSTART;TZID=America/New_York:20250619T093000
DTEND;TZID=America/New_York:20250619T103000
DTSTAMP:20260422T012819
CREATED:20250528T171111Z
LAST-MODIFIED:20250604T123553Z
UID:10001452-1750325400-1750329000@quoifairealma.com
SUMMARY:Les bouts de chou bouquinent
DESCRIPTION:Les bouts de chou bouquinent\, c’est l’occasion idéale d’éveiller vos tout-petits à la lecture\, par des albums drôles et colorés\, avec une animatrice dynamique et débordante d’idées. Vous aimerez à coup sûr nos activités et bricolages en lien avec l’histoire choisie. \nThématique du mois: LES ARBRES
URL:https://quoifairealma.com/evenement/les-bouts-de-chou-bouquinent-34/
LOCATION:Bibliothèque de Saint-Cœur-de-Marie\, 5791 Avenue du Pont N # 105\, Alma\, Québec\, G8E 1X1\, Canada
CATEGORIES:Ateliers et bricolage,Littérature,Loisirs et culture
ATTACH;FMTTYPE=image/png:https://quoifairealma.com/app/uploads/2025/05/3.png
ORGANIZER;CN="Biblioth%C3%A8que d'Alma":MAILTO:bibliotheque@ville.alma.qc.ca
END:VEVENT
BEGIN:VEVENT
DTSTART;TZID=America/New_York:20250523T093000
DTEND;TZID=America/New_York:20250523T103000
DTSTAMP:20260422T012819
CREATED:20250430T171753Z
LAST-MODIFIED:20250430T171753Z
UID:10001437-1747992600-1747996200@quoifairealma.com
SUMMARY:Les bouts de chou bouquinent
DESCRIPTION:Les bouts de chou bouquinent\, c’est l’occasion idéale d’éveiller vos tout-petits à la lecture\, par des albums drôles et colorés\, avec une animatrice dynamique et débordante d’idées. Vous aimerez à coup sûr nos activités et bricolages en lien avec l’histoire choisie. \nThématique du mois: LES PETITES BÊTES
URL:https://quoifairealma.com/evenement/les-bouts-de-chou-bouquinent-33/
LOCATION:Bibliothèque de Saint-Cœur-de-Marie\, 5791 Avenue du Pont N # 105\, Alma\, Québec\, G8E 1X1\, Canada
CATEGORIES:Ateliers et bricolage,Littérature,Loisirs et culture
ATTACH;FMTTYPE=image/png:https://quoifairealma.com/app/uploads/2025/04/2.png
ORGANIZER;CN="Biblioth%C3%A8que d'Alma":MAILTO:bibliotheque@ville.alma.qc.ca
END:VEVENT
BEGIN:VEVENT
DTSTART;TZID=America/New_York:20250514T100000
DTEND;TZID=America/New_York:20250514T120000
DTSTAMP:20260422T012819
CREATED:20250430T172950Z
LAST-MODIFIED:20250430T172950Z
UID:10001439-1747216800-1747224000@quoifairealma.com
SUMMARY:Sécurité en ligne: Trucs et astuces pour éviter l'hameçonnage
DESCRIPTION:Vous sentez-vous en confiance sur internet? \nConsidérez-vous que le monde numérique est sécuritaire? \nC’est le moment de venir en discuter avec le formateur de Formentik\, spécialisé dans le domaine numérique. Apprenez comment protéger vos appareils et votre navigation sur internet pour rester en sécurité.
URL:https://quoifairealma.com/evenement/securite-en-ligne/
LOCATION:Bibliothèque de Saint-Cœur-de-Marie\, 5791 Avenue du Pont N # 105\, Alma\, Québec\, G8E 1X1\, Canada
CATEGORIES:Conférences et formations,Loisirs et culture,Science et technologies
ATTACH;FMTTYPE=image/png:https://quoifairealma.com/app/uploads/2025/04/Programmation-mai-2025-5.png
ORGANIZER;CN="Biblioth%C3%A8que d'Alma":MAILTO:bibliotheque@ville.alma.qc.ca
END:VEVENT
BEGIN:VEVENT
DTSTART;TZID=America/New_York:20250423T100000
DTEND;TZID=America/New_York:20250423T120000
DTSTAMP:20260422T012819
CREATED:20250331T144606Z
LAST-MODIFIED:20250331T144606Z
UID:10001202-1745402400-1745409600@quoifairealma.com
SUMMARY:Clinique de dépannage informatique à St-Coeur-de-Marie
DESCRIPTION:Vous rencontrez une problématique de mot de passe\, avez besoin d’aide pour comprendre une fonctionnalité de votre tablette\, vous rencontrez un petit bogue sur un logiciel? L’équipe de Formentik peut vous aider lors d’une rencontre privée d’une demi-heure. \n5 $ CITOYEN et 7\,50 $ VOISIN   (+ taxes)
URL:https://quoifairealma.com/evenement/clinique-de-depannage-informatique-a-st-coeur-de-marie-2/
LOCATION:Bibliothèque de Saint-Cœur-de-Marie\, 5791 Avenue du Pont N # 105\, Alma\, Québec\, G8E 1X1\, Canada
CATEGORIES:Loisirs et culture,Science et technologies
ATTACH;FMTTYPE=image/png:https://quoifairealma.com/app/uploads/2025/03/12.png
ORGANIZER;CN="Biblioth%C3%A8que d'Alma":MAILTO:bibliotheque@ville.alma.qc.ca
END:VEVENT
END:VCALENDAR