BEGIN:VCALENDAR
VERSION:2.0
PRODID:-//Quoi faire à Alma - ECPv6.15.14//NONSGML v1.0//EN
CALSCALE:GREGORIAN
METHOD:PUBLISH
X-WR-CALNAME:Quoi faire à Alma
X-ORIGINAL-URL:https://quoifairealma.com
X-WR-CALDESC:Évènements pour Quoi faire à Alma
REFRESH-INTERVAL;VALUE=DURATION:PT1H
X-Robots-Tag:noindex
X-PUBLISHED-TTL:PT1H
BEGIN:VTIMEZONE
TZID:America/New_York
BEGIN:DAYLIGHT
TZOFFSETFROM:-0500
TZOFFSETTO:-0400
TZNAME:EDT
DTSTART:20250309T070000
END:DAYLIGHT
BEGIN:STANDARD
TZOFFSETFROM:-0400
TZOFFSETTO:-0500
TZNAME:EST
DTSTART:20251102T060000
END:STANDARD
BEGIN:DAYLIGHT
TZOFFSETFROM:-0500
TZOFFSETTO:-0400
TZNAME:EDT
DTSTART:20260308T070000
END:DAYLIGHT
BEGIN:STANDARD
TZOFFSETFROM:-0400
TZOFFSETTO:-0500
TZNAME:EST
DTSTART:20261101T060000
END:STANDARD
BEGIN:DAYLIGHT
TZOFFSETFROM:-0500
TZOFFSETTO:-0400
TZNAME:EDT
DTSTART:20270314T070000
END:DAYLIGHT
BEGIN:STANDARD
TZOFFSETFROM:-0400
TZOFFSETTO:-0500
TZNAME:EST
DTSTART:20271107T060000
END:STANDARD
END:VTIMEZONE
BEGIN:VEVENT
DTSTART;TZID=America/New_York:20260510T100000
DTEND;TZID=America/New_York:20260510T110000
DTSTAMP:20260421T194826
CREATED:20260310T175716Z
LAST-MODIFIED:20260310T175716Z
UID:10002200-1778407200-1778410800@quoifairealma.com
SUMMARY:Atelier de robotique avec L'Unité médialab
DESCRIPTION:Participe à cet atelier pour découvrir tous les robots de l’Unité. Tu pourras découvrir les robots Bluebot\, Ozobot et Lego Wedo\, utilisés dans les écoles. Tu auras même la chance de tester nos nouveaux robots Dash\, ces petites boules attachantes qui suivront le parcours que tu leur auras construit. Ne manque pas ça!  \nOuvert à tous\, 7 ans et moins accompagné d’un adulte.  \nGratuit!
URL:https://quoifairealma.com/evenement/atelier-robotique/
LOCATION:Bibliothèque de Saint-Cœur-de-Marie\, 5791 Avenue du Pont N # 105\, Alma\, Québec\, G8E 1X1\, Canada
CATEGORIES:Activités de loisir,Ateliers,Ateliers et bricolage,Communauté,Loisirs et culture,Science et technologies
ATTACH;FMTTYPE=image/png:https://quoifairealma.com/app/uploads/2026/03/13.png
ORGANIZER;CN="Biblioth%C3%A8que d'Alma":MAILTO:bibliotheque@ville.alma.qc.ca
END:VEVENT
BEGIN:VEVENT
DTSTART;TZID=America/New_York:20260607T100000
DTEND;TZID=America/New_York:20260607T110000
DTSTAMP:20260421T194826
CREATED:20260310T175846Z
LAST-MODIFIED:20260310T175846Z
UID:10002201-1780826400-1780830000@quoifairealma.com
SUMMARY:Atelier Réalité virtuelle avec L'Unité médialab
DESCRIPTION:C’est le moment de venir essayer nos casques de réalité virtuelle. Explore divers jeux d’immersion selon ton niveau d’aisance et explore des mondes merveilleux inaccessibles. Pour les 10 ans et plus \nGratuit!
URL:https://quoifairealma.com/evenement/atelier-realite-virtuelle-avec-lunite-medialab/
LOCATION:Bibliothèque de Saint-Cœur-de-Marie\, 5791 Avenue du Pont N # 105\, Alma\, Québec\, G8E 1X1\, Canada
CATEGORIES:Activités de loisir,Ateliers,Ateliers et bricolage,Communauté,Loisirs et culture,Science et technologies
ATTACH;FMTTYPE=image/png:https://quoifairealma.com/app/uploads/2026/03/Programmation-mars-2026-2.png
ORGANIZER;CN="Biblioth%C3%A8que d'Alma":MAILTO:bibliotheque@ville.alma.qc.ca
END:VEVENT
END:VCALENDAR