BEGIN:VCALENDAR
VERSION:2.0
PRODID:-//Quoi faire à Alma - ECPv6.15.14//NONSGML v1.0//EN
CALSCALE:GREGORIAN
METHOD:PUBLISH
X-ORIGINAL-URL:https://quoifairealma.com
X-WR-CALDESC:Évènements pour Quoi faire à Alma
REFRESH-INTERVAL;VALUE=DURATION:PT1H
X-Robots-Tag:noindex
X-PUBLISHED-TTL:PT1H
BEGIN:VTIMEZONE
TZID:America/New_York
BEGIN:DAYLIGHT
TZOFFSETFROM:-0500
TZOFFSETTO:-0400
TZNAME:EDT
DTSTART:20250309T070000
END:DAYLIGHT
BEGIN:STANDARD
TZOFFSETFROM:-0400
TZOFFSETTO:-0500
TZNAME:EST
DTSTART:20251102T060000
END:STANDARD
BEGIN:DAYLIGHT
TZOFFSETFROM:-0500
TZOFFSETTO:-0400
TZNAME:EDT
DTSTART:20260308T070000
END:DAYLIGHT
BEGIN:STANDARD
TZOFFSETFROM:-0400
TZOFFSETTO:-0500
TZNAME:EST
DTSTART:20261101T060000
END:STANDARD
BEGIN:DAYLIGHT
TZOFFSETFROM:-0500
TZOFFSETTO:-0400
TZNAME:EDT
DTSTART:20270314T070000
END:DAYLIGHT
BEGIN:STANDARD
TZOFFSETFROM:-0400
TZOFFSETTO:-0500
TZNAME:EST
DTSTART:20271107T060000
END:STANDARD
END:VTIMEZONE
BEGIN:VEVENT
DTSTART;TZID=America/New_York:20260421T140000
DTEND;TZID=America/New_York:20260421T143000
DTSTAMP:20260421T124540
CREATED:20260330T172442Z
LAST-MODIFIED:20260330T172442Z
UID:10002775-1776780000-1776781800@quoifairealma.com
SUMMARY:Les bouts de chou bouquinent
DESCRIPTION:Les bouts de chou bouquinent\, c’est l’occasion idéale d’éveiller vos tout-petits à la lecture\, par des albums drôles et colorés\, avec une animatrice dynamique et débordante d’idées. Vous aimerez à coup sûr nos activités et bricolages en lien avec l’histoire choisie.
URL:https://quoifairealma.com/evenement/les-bouts-de-chou-bouquinent-23/
LOCATION:Bibliothèque d’Alma\, 500\, rue Collard Ouest\, Alma\, Québec\, G8B 1N2\, Canada
CATEGORIES:Ateliers et bricolage,Littérature,Loisirs et culture
ATTACH;FMTTYPE=image/png:https://quoifairealma.com/app/uploads/2026/03/7.png
ORGANIZER;CN="Biblioth%C3%A8que d'Alma":MAILTO:bibliotheque@ville.alma.qc.ca
END:VEVENT
BEGIN:VEVENT
DTSTART;TZID=America/New_York:20260422T103000
DTEND;TZID=America/New_York:20260422T113000
DTSTAMP:20260421T124540
CREATED:20260330T172522Z
LAST-MODIFIED:20260330T172522Z
UID:10002776-1776853800-1776857400@quoifairealma.com
SUMMARY:Les bouts de chou bouquinent
DESCRIPTION:Les bouts de chou bouquinent\, c’est l’occasion idéale d’éveiller vos tout-petits à la lecture\, par des albums drôles et colorés\, avec une animatrice dynamique et débordante d’idées. Vous aimerez à coup sûr nos activités et bricolages en lien avec l’histoire choisie.
URL:https://quoifairealma.com/evenement/les-bouts-de-chou-bouquinent-25/
LOCATION:Bibliothèque d’Alma\, 500\, rue Collard Ouest\, Alma\, Québec\, G8B 1N2\, Canada
CATEGORIES:Ateliers et bricolage,Littérature,Loisirs et culture
ATTACH;FMTTYPE=image/png:https://quoifairealma.com/app/uploads/2026/03/8.png
ORGANIZER;CN="Biblioth%C3%A8que d'Alma":MAILTO:bibliotheque@ville.alma.qc.ca
END:VEVENT
BEGIN:VEVENT
DTSTART;TZID=America/New_York:20260427T093000
DTEND;TZID=America/New_York:20260427T120000
DTSTAMP:20260421T124540
CREATED:20260331T195642Z
LAST-MODIFIED:20260331T195642Z
UID:10002809-1777282200-1777291200@quoifairealma.com
SUMMARY:Club d'exploration littéraire
DESCRIPTION:Le club d’exploration littéraire est l’occasion d’échanger avec d’autres passionnés de lecture autour d’un bon café! Il n’est pas nécessaire d’assister à toutes les rencontres. Il suffit d’être curieux ou d’avoir lu un livre correspondant à la thématique mensuelle pour vous joindre au groupe. \nThématique : Mythologie \nBienvenue à tous !  Les rencontres ont lieu un lundi par mois. \nGRATUIT
URL:https://quoifairealma.com/evenement/club-dexploration-litteraire-4/
LOCATION:Bibliothèque d’Alma\, 500\, rue Collard Ouest\, Alma\, Québec\, G8B 1N2\, Canada
CATEGORIES:Littérature,Loisirs et culture
ATTACH;FMTTYPE=image/png:https://quoifairealma.com/app/uploads/2026/03/12-1.png
ORGANIZER;CN="Biblioth%C3%A8que d'Alma":MAILTO:bibliotheque@ville.alma.qc.ca
END:VEVENT
BEGIN:VEVENT
DTSTART;TZID=America/New_York:20260504T100000
DTEND;TZID=America/New_York:20260504T120000
DTSTAMP:20260421T124540
CREATED:20260318T134416Z
LAST-MODIFIED:20260318T134416Z
UID:10002395-1777888800-1777896000@quoifairealma.com
SUMMARY:Clinique de dépannage informatique
DESCRIPTION:C’est le retour de nos Cliniques de dépannage informatique\, sous une nouvelle formule. En collaboration avec le Collège d’Alma\, les étudiants pourront répondre à vos questions et interrogations. Vous rencontrez une problématique de mot de passe\, avez besoin d’aide pour comprendre une fonctionnalité de votre tablette\, vous rencontrez un petit bogue sur un logiciel? Une équipe de deux étudiants peut vous aider lors d’une rencontre privée de trente minutes. L’enseignant du collège est sur place pour les situations qui nécessitent une technique approfondie. \n5 $ CITOYEN et 7\,50 $ VOISIN   (+ taxes)
URL:https://quoifairealma.com/evenement/clinique-de-depannage-informatique-7/
LOCATION:Bibliothèque d’Alma\, 500\, rue Collard Ouest\, Alma\, Québec\, G8B 1N2\, Canada
CATEGORIES:Conférences et formations,Loisirs et culture,Science et technologies
ATTACH;FMTTYPE=image/png:https://quoifairealma.com/app/uploads/2026/03/Programmation-mars-2026-8.png
ORGANIZER;CN="Biblioth%C3%A8que d'Alma":MAILTO:bibliotheque@ville.alma.qc.ca
END:VEVENT
END:VCALENDAR