BEGIN:VCALENDAR
VERSION:2.0
PRODID:-//Quoi faire à Alma - ECPv6.15.14//NONSGML v1.0//EN
CALSCALE:GREGORIAN
METHOD:PUBLISH
X-WR-CALNAME:Quoi faire à Alma
X-ORIGINAL-URL:https://quoifairealma.com
X-WR-CALDESC:Évènements pour Quoi faire à Alma
REFRESH-INTERVAL;VALUE=DURATION:PT1H
X-Robots-Tag:noindex
X-PUBLISHED-TTL:PT1H
BEGIN:VTIMEZONE
TZID:America/New_York
BEGIN:DAYLIGHT
TZOFFSETFROM:-0500
TZOFFSETTO:-0400
TZNAME:EDT
DTSTART:20250309T070000
END:DAYLIGHT
BEGIN:STANDARD
TZOFFSETFROM:-0400
TZOFFSETTO:-0500
TZNAME:EST
DTSTART:20251102T060000
END:STANDARD
BEGIN:DAYLIGHT
TZOFFSETFROM:-0500
TZOFFSETTO:-0400
TZNAME:EDT
DTSTART:20260308T070000
END:DAYLIGHT
BEGIN:STANDARD
TZOFFSETFROM:-0400
TZOFFSETTO:-0500
TZNAME:EST
DTSTART:20261101T060000
END:STANDARD
BEGIN:DAYLIGHT
TZOFFSETFROM:-0500
TZOFFSETTO:-0400
TZNAME:EDT
DTSTART:20270314T070000
END:DAYLIGHT
BEGIN:STANDARD
TZOFFSETFROM:-0400
TZOFFSETTO:-0500
TZNAME:EST
DTSTART:20271107T060000
END:STANDARD
END:VTIMEZONE
BEGIN:VEVENT
DTSTART;TZID=America/New_York:20260112T163000
DTEND;TZID=America/New_York:20260318T193000
DTSTAMP:20260425T063724
CREATED:20260105T221944Z
LAST-MODIFIED:20260108T185831Z
UID:10001138-1768235400-1773862200@quoifairealma.com
SUMMARY:Cardio-rame - Hiver 2026 - Entraînement 10 semaines sur ergorameur
DESCRIPTION:Séances d’entraînement sur ergorameur à raison de 55 min par séance échelonnées sur 10 semaines. Adultes (lundi-mercredi / 3 groupes 16h30-17h30-18h-30) Jeunesse (Mardi – 1 groupe 16h00) Prix: Adultes (140$/2x sem – 100$/1x sem) Jeunesse 18 ans moins (110$/2x sem – Élite – 70$/1x sem)
URL:https://quoifairealma.com/evenement/cardio-rame-hiver-2026-entrainement-10-semaines-sur-ergorameur/
LOCATION:Centre multisport\, 605\, boulevard Saint-Luc\, Alma\, Québec\, G8B 2K8\, Canada
CATEGORIES:Activités sportives,Sports et plein air
ATTACH;FMTTYPE=image/jpeg:https://quoifairealma.com/app/uploads/2026/01/CR-Affiche-hiver-2026-page-001.jpg
ORGANIZER;CN="Club d'Aviron d'Alma":MAILTO:clubavironalma@gmail.com
END:VEVENT
BEGIN:VEVENT
DTSTART;TZID=America/New_York:20260216T000000
DTEND;TZID=America/New_York:20260318T000000
DTSTAMP:20260425T063724
CREATED:20260212T203949Z
LAST-MODIFIED:20260213T140259Z
UID:10001704-1771200000-1773792000@quoifairealma.com
SUMMARY:Rallye des oiseaux
DESCRIPTION:🦉 Vous cherchez quelque chose à faire ?\nPourquoi ne pas essayer le rallye des oiseaux !\nC’est un petit rallye dans nos sentiers de raquettes 🌲\n👉 Il suffit de prendre le sentier #12 et vous y trouverez des bancs\, des mangeoires et une aire de repos pour observer et nourrir les oiseaux.\n❄️ Raquettes obligatoires dans les sentiers.\nℹ️ Informez-vous à la billetterie pour plus de détails.\nUne belle activité calme à faire en solo\, en famille ou entre amis 💚
URL:https://quoifairealma.com/evenement/rallye-des-oiseaux/
LOCATION:Centre Dorval\, Alma\, Québec\, G8B 5V2\, Canada
CATEGORIES:Activités de plein air,Sports et plein air
ATTACH;FMTTYPE=image/jpeg:https://quoifairealma.com/app/uploads/2026/02/Rallye-des-oiseaux.jpg
ORGANIZER;CN="Parc d'une rive %C3%A0 l'autre":MAILTO:info@urala.ca
GEO:48.506441;-71.560855
END:VEVENT
BEGIN:VEVENT
DTSTART;VALUE=DATE:20260303
DTEND;VALUE=DATE:20260304
DTSTAMP:20260425T063724
CREATED:20260212T201144Z
LAST-MODIFIED:20260213T140033Z
UID:10001700-1772496000-1772582399@quoifairealma.com
SUMMARY:Glissade Mont Villa
DESCRIPTION:🎉 Viens t’amuser !\nC’est l’ouverture de la glissade pour la semaine de relâche 🛷❄️ \nSors ta tuque\, apporte ton sourire et viens profiter d’un beau moment en plein air avec nous ! \n🕛 Horaire glissade\n➡️ Du lundi au vendredi\, de 12 h à 16 h \n🎿 Côté ski\n➡️ Du lundi au vendredi\, de 12 h à 16 h\n➡️ Vendredi soir\, de 18 h 30 à 21 h \nAu plaisir de vous voir au parc ! 😄❄️
URL:https://quoifairealma.com/evenement/glissade-mont-villa-5/
LOCATION:Mont Villa Saguenay\, Alma\, Québec\, G8B 5X9\, Canada
CATEGORIES:Activités de plein air,Activités sportives,Sports et plein air
ATTACH;FMTTYPE=image/jpeg:https://quoifairealma.com/app/uploads/2026/02/ouverture-des-glissades3.jpg
ORGANIZER;CN="Parc d'une rive %C3%A0 l'autre":MAILTO:info@urala.ca
GEO:48.548025;-71.631581
END:VEVENT
BEGIN:VEVENT
DTSTART;VALUE=DATE:20260303
DTEND;VALUE=DATE:20260304
DTSTAMP:20260425T063724
CREATED:20260225T165659Z
LAST-MODIFIED:20260227T164813Z
UID:10001782-1772496000-1772582399@quoifairealma.com
SUMMARY:Quoi faire édition relâche scolaire - 3 mars
DESCRIPTION:PÊCHE BLANCHE\nQuai Villa Saguenay | 13 h à 15 h 30\nLa classique journée de pêche sur glace est de retour cette année! Venez taquiner le poisson\, boire du chocolat chaud et vous amuser avec nous! \nBIBLIOTHÈQUE\nLa bibliothèque est ouverte de 10 h 30 h à 20 h\nLecture\, jeux de société\, casse-têtes.\nhttps://www.facebook.com/biblio.alma \nACTIVITÉS LIBRES \nPatinage libre\nDe 9 h 45 à 10 h 50 et de 13 h à 14 h 15 | Centre Mario-Tremblay – Grande glace\nEnfant – Étudiant 2 $ | Adulte 3\,50 $ + tx \nHockey libre\nDe 14 h 25 à 15 h 30 | Centre Mario-Tremblay – Petite glace\nEnfant – Étudiant 2 $ | Adulte 3\,50 $ + tx \nBain libre (2 bassins ouverts et jeux d’eau)\nJour : 25 ans et – 2$ | Adulte 3\,05 $ +txs | 60 ans et + gratuit\nSoir : Gratuit \nDe 10 h 15 à 12 h\nDe 13 h 15 à 15 h 30\nDe 18 h à 19 h 30 \nSoccer libre\nGratuit \nCentre multisport | Terrain synthétique\nDe 13 h à 16 h \nAires de glissade\nGratuit \nParc Cristal | Butte à glisser\nDe 9 h à 21 h \nPlaines vertes | Butte à glisser\nDe 9 h à 21 h \nParc Falaise | Aire de glissade\nDe 9 h à 16 h \nPatinoires extérieures\n11 h à 20 h 30 \nConsultez également les horaires de nos organismes partenaires dans la section des événements : \n\nL’Odyssées des Bâtisseurs\nParc d’une rive à l’autre\nDam-en-Terre\nIQ Atelier\nLangage Plus\nCentre Sagamie
URL:https://quoifairealma.com/evenement/quoi-faire-edition-relache-scolaire-3-mars/
LOCATION:QC
CATEGORIES:Activités de loisir,Activités de plein air,Loisirs et culture,Sports et plein air
ATTACH;FMTTYPE=image/jpeg:https://quoifairealma.com/app/uploads/2026/02/QFA_relache-05.jpg
END:VEVENT
END:VCALENDAR