BEGIN:VCALENDAR
VERSION:2.0
PRODID:-//Quoi faire à Alma - ECPv6.15.14//NONSGML v1.0//EN
CALSCALE:GREGORIAN
METHOD:PUBLISH
X-WR-CALNAME:Quoi faire à Alma
X-ORIGINAL-URL:https://quoifairealma.com
X-WR-CALDESC:Évènements pour Quoi faire à Alma
REFRESH-INTERVAL;VALUE=DURATION:PT1H
X-Robots-Tag:noindex
X-PUBLISHED-TTL:PT1H
BEGIN:VTIMEZONE
TZID:America/New_York
BEGIN:DAYLIGHT
TZOFFSETFROM:-0500
TZOFFSETTO:-0400
TZNAME:EDT
DTSTART:20250309T070000
END:DAYLIGHT
BEGIN:STANDARD
TZOFFSETFROM:-0400
TZOFFSETTO:-0500
TZNAME:EST
DTSTART:20251102T060000
END:STANDARD
BEGIN:DAYLIGHT
TZOFFSETFROM:-0500
TZOFFSETTO:-0400
TZNAME:EDT
DTSTART:20260308T070000
END:DAYLIGHT
BEGIN:STANDARD
TZOFFSETFROM:-0400
TZOFFSETTO:-0500
TZNAME:EST
DTSTART:20261101T060000
END:STANDARD
BEGIN:DAYLIGHT
TZOFFSETFROM:-0500
TZOFFSETTO:-0400
TZNAME:EDT
DTSTART:20270314T070000
END:DAYLIGHT
BEGIN:STANDARD
TZOFFSETFROM:-0400
TZOFFSETTO:-0500
TZNAME:EST
DTSTART:20271107T060000
END:STANDARD
END:VTIMEZONE
BEGIN:VEVENT
DTSTART;TZID=America/New_York:20260112T163000
DTEND;TZID=America/New_York:20260318T193000
DTSTAMP:20260425T092116
CREATED:20260105T221944Z
LAST-MODIFIED:20260108T185831Z
UID:10001138-1768235400-1773862200@quoifairealma.com
SUMMARY:Cardio-rame - Hiver 2026 - Entraînement 10 semaines sur ergorameur
DESCRIPTION:Séances d’entraînement sur ergorameur à raison de 55 min par séance échelonnées sur 10 semaines. Adultes (lundi-mercredi / 3 groupes 16h30-17h30-18h-30) Jeunesse (Mardi – 1 groupe 16h00) Prix: Adultes (140$/2x sem – 100$/1x sem) Jeunesse 18 ans moins (110$/2x sem – Élite – 70$/1x sem)
URL:https://quoifairealma.com/evenement/cardio-rame-hiver-2026-entrainement-10-semaines-sur-ergorameur/
LOCATION:Centre multisport\, 605\, boulevard Saint-Luc\, Alma\, Québec\, G8B 2K8\, Canada
CATEGORIES:Activités sportives,Sports et plein air
ATTACH;FMTTYPE=image/jpeg:https://quoifairealma.com/app/uploads/2026/01/CR-Affiche-hiver-2026-page-001.jpg
ORGANIZER;CN="Club d'Aviron d'Alma":MAILTO:clubavironalma@gmail.com
END:VEVENT
BEGIN:VEVENT
DTSTART;TZID=America/New_York:20260216T000000
DTEND;TZID=America/New_York:20260318T000000
DTSTAMP:20260425T092116
CREATED:20260212T203949Z
LAST-MODIFIED:20260213T140259Z
UID:10001704-1771200000-1773792000@quoifairealma.com
SUMMARY:Rallye des oiseaux
DESCRIPTION:🦉 Vous cherchez quelque chose à faire ?\nPourquoi ne pas essayer le rallye des oiseaux !\nC’est un petit rallye dans nos sentiers de raquettes 🌲\n👉 Il suffit de prendre le sentier #12 et vous y trouverez des bancs\, des mangeoires et une aire de repos pour observer et nourrir les oiseaux.\n❄️ Raquettes obligatoires dans les sentiers.\nℹ️ Informez-vous à la billetterie pour plus de détails.\nUne belle activité calme à faire en solo\, en famille ou entre amis 💚
URL:https://quoifairealma.com/evenement/rallye-des-oiseaux/
LOCATION:Centre Dorval\, Alma\, Québec\, G8B 5V2\, Canada
CATEGORIES:Activités de plein air,Sports et plein air
ATTACH;FMTTYPE=image/jpeg:https://quoifairealma.com/app/uploads/2026/02/Rallye-des-oiseaux.jpg
ORGANIZER;CN="Parc d'une rive %C3%A0 l'autre":MAILTO:info@urala.ca
GEO:48.506441;-71.560855
END:VEVENT
BEGIN:VEVENT
DTSTART;TZID=America/New_York:20260222T100000
DTEND;TZID=America/New_York:20260222T160000
DTSTAMP:20260425T092116
CREATED:20260212T193307Z
LAST-MODIFIED:20260213T135431Z
UID:10001694-1771754400-1771776000@quoifairealma.com
SUMMARY:Glissade Mont Villa
DESCRIPTION:🎉 Viens t’amuser !\nC’est l’ouverture de la glissade 🛷❄️\nSors ta tuque\, apporte ton sourire et viens profiter d’un beau moment en plein air avec nous !\nVendredi 18h30 à 21h – samedi et dimanche 12h à 16h
URL:https://quoifairealma.com/evenement/glissade-mont-villa-2/
LOCATION:Mont Villa Saguenay\, Alma\, Québec\, G8B 5X9\, Canada
CATEGORIES:Activités de plein air,Activités sportives,Sports et plein air
ATTACH;FMTTYPE=image/jpeg:https://quoifairealma.com/app/uploads/2026/02/ouverture-des-glissades13.jpg
ORGANIZER;CN="Parc d'une rive %C3%A0 l'autre":MAILTO:info@urala.ca
GEO:48.548025;-71.631581
END:VEVENT
BEGIN:VEVENT
DTSTART;TZID=America/New_York:20260222T130000
DTEND;TZID=America/New_York:20260222T150000
DTSTAMP:20260425T092116
CREATED:20260119T164809Z
LAST-MODIFIED:20260120T131614Z
UID:10001300-1771765200-1771772400@quoifairealma.com
SUMMARY:Hockey D1 : Jeannois reçoivent Sainte-Foy
DESCRIPTION:Les Dynamiques du Cégep de Sainte-Foy sont de retour. Faites partie d’une équation gagnante en venant encourager vos Jeannois! \nWEBDIFFUSION : https://www.youtube.com/live/rMXZtNim2Ok
URL:https://quoifairealma.com/evenement/hockey-d1-jeannois-recoivent-sainte-foy/
LOCATION:Centre Mario-Tremblay\, 605\, boulevard Saint-Luc\, Alma\, G8B 2K8
CATEGORIES:Compétitions et rencontres sportives,Sports et plein air
ATTACH;FMTTYPE=image/jpeg:https://quoifairealma.com/app/uploads/2026/01/edouard-nadeau_photographe-0596-web825.jpg
ORGANIZER;CN="Coll%C3%A8ge d'Alma":MAILTO:melina.regimbal@collegealma.ca
END:VEVENT
BEGIN:VEVENT
DTSTART;TZID=America/New_York:20260222T130000
DTEND;TZID=America/New_York:20260222T150000
DTSTAMP:20260425T092116
CREATED:20260119T165656Z
LAST-MODIFIED:20260120T131702Z
UID:10001305-1771765200-1771772400@quoifairealma.com
SUMMARY:Basketball D2 : Jeannois contre les Élans du cégep Garneau
DESCRIPTION:Venez sur place encourager les Jeannois qui reçoivent pour l’occasion les Élans du Cégep Garneau. \nParticipez en grand nombre! \nWEBDIFFUSION : https://www.youtube.com/live/bs0QdfifL8c
URL:https://quoifairealma.com/evenement/basketball-d2-jeannois-contre-les-elans-du-cegep-garneau/
LOCATION:Collège d’Alma\, 675\, boulevard Auger Ouest\, Alma\, G8B 2B7
CATEGORIES:Compétitions et rencontres sportives,Sports et plein air
ATTACH;FMTTYPE=image/jpeg:https://quoifairealma.com/app/uploads/2026/01/edouard-nadeau_photographe-0856-web825.jpg
ORGANIZER;CN="Coll%C3%A8ge d'Alma":MAILTO:melina.regimbal@collegealma.ca
END:VEVENT
BEGIN:VEVENT
DTSTART;TZID=America/New_York:20260222T150000
DTEND;TZID=America/New_York:20260222T170000
DTSTAMP:20260425T092116
CREATED:20260119T183000Z
LAST-MODIFIED:20260120T131728Z
UID:10001308-1771772400-1771779600@quoifairealma.com
SUMMARY:Basketball D3 : Chicoutimi contre Alma
DESCRIPTION:Assistez à la partie opposant les Cougars du Cégep de Chicoutimi aux Jeannois du Collège d’Alma. \nPlaisir garanti! \nWEBDIFFUSION : https://www.youtube.com/live/AU2HhmxYgnA
URL:https://quoifairealma.com/evenement/basketball-d3-chicoutimi-contre-alma/
LOCATION:Collège d’Alma\, 675\, boulevard Auger Ouest\, Alma\, G8B 2B7
CATEGORIES:Compétitions et rencontres sportives,Sports et plein air
ATTACH;FMTTYPE=image/jpeg:https://quoifairealma.com/app/uploads/2026/01/edouard-nadeau_photographe-1637-web825.jpg
ORGANIZER;CN="Coll%C3%A8ge d'Alma":MAILTO:melina.regimbal@collegealma.ca
END:VEVENT
BEGIN:VEVENT
DTSTART;TZID=America/New_York:20260222T153000
DTEND;TZID=America/New_York:20260222T173000
DTSTAMP:20260425T092116
CREATED:20260119T165235Z
LAST-MODIFIED:20260120T131639Z
UID:10001302-1771774200-1771781400@quoifairealma.com
SUMMARY:Hockey D2 : Victoriaville contre Alma
DESCRIPTION:Après l’équipe D1 de hockey du Collège d’Alma\, c’est maintenant su tour de l’équipe D2 de sauter sur la glace pour y retrouver les Vulkins du Cégep de Victoriaville. \nRestez avec nous pour ce duel! \nWEBDIFFUSION : https://www.youtube.com/live/qpMVRQDsXqY
URL:https://quoifairealma.com/evenement/hockey-d2-victoriaville-contre-alma/
LOCATION:Centre Mario-Tremblay\, 605\, boulevard Saint-Luc\, Alma\, G8B 2K8
CATEGORIES:Compétitions et rencontres sportives,Sports et plein air
ATTACH;FMTTYPE=image/jpeg:https://quoifairealma.com/app/uploads/2026/01/edouard-nadeau_photographe-2316-web25.jpg
ORGANIZER;CN="Coll%C3%A8ge d'Alma":MAILTO:melina.regimbal@collegealma.ca
END:VEVENT
END:VCALENDAR