BEGIN:VCALENDAR
VERSION:2.0
PRODID:-//Quoi faire à Alma - ECPv6.15.14//NONSGML v1.0//EN
CALSCALE:GREGORIAN
METHOD:PUBLISH
X-WR-CALNAME:Quoi faire à Alma
X-ORIGINAL-URL:https://quoifairealma.com
X-WR-CALDESC:Évènements pour Quoi faire à Alma
REFRESH-INTERVAL;VALUE=DURATION:PT1H
X-Robots-Tag:noindex
X-PUBLISHED-TTL:PT1H
BEGIN:VTIMEZONE
TZID:America/New_York
BEGIN:DAYLIGHT
TZOFFSETFROM:-0500
TZOFFSETTO:-0400
TZNAME:EDT
DTSTART:20250309T070000
END:DAYLIGHT
BEGIN:STANDARD
TZOFFSETFROM:-0400
TZOFFSETTO:-0500
TZNAME:EST
DTSTART:20251102T060000
END:STANDARD
BEGIN:DAYLIGHT
TZOFFSETFROM:-0500
TZOFFSETTO:-0400
TZNAME:EDT
DTSTART:20260308T070000
END:DAYLIGHT
BEGIN:STANDARD
TZOFFSETFROM:-0400
TZOFFSETTO:-0500
TZNAME:EST
DTSTART:20261101T060000
END:STANDARD
BEGIN:DAYLIGHT
TZOFFSETFROM:-0500
TZOFFSETTO:-0400
TZNAME:EDT
DTSTART:20270314T070000
END:DAYLIGHT
BEGIN:STANDARD
TZOFFSETFROM:-0400
TZOFFSETTO:-0500
TZNAME:EST
DTSTART:20271107T060000
END:STANDARD
END:VTIMEZONE
BEGIN:VEVENT
DTSTART;TZID=America/New_York:20260112T163000
DTEND;TZID=America/New_York:20260318T193000
DTSTAMP:20260425T075208
CREATED:20260105T221944Z
LAST-MODIFIED:20260108T185831Z
UID:10001138-1768235400-1773862200@quoifairealma.com
SUMMARY:Cardio-rame - Hiver 2026 - Entraînement 10 semaines sur ergorameur
DESCRIPTION:Séances d’entraînement sur ergorameur à raison de 55 min par séance échelonnées sur 10 semaines. Adultes (lundi-mercredi / 3 groupes 16h30-17h30-18h-30) Jeunesse (Mardi – 1 groupe 16h00) Prix: Adultes (140$/2x sem – 100$/1x sem) Jeunesse 18 ans moins (110$/2x sem – Élite – 70$/1x sem)
URL:https://quoifairealma.com/evenement/cardio-rame-hiver-2026-entrainement-10-semaines-sur-ergorameur/
LOCATION:Centre multisport\, 605\, boulevard Saint-Luc\, Alma\, Québec\, G8B 2K8\, Canada
CATEGORIES:Activités sportives,Sports et plein air
ATTACH;FMTTYPE=image/jpeg:https://quoifairealma.com/app/uploads/2026/01/CR-Affiche-hiver-2026-page-001.jpg
ORGANIZER;CN="Club d'Aviron d'Alma":MAILTO:clubavironalma@gmail.com
END:VEVENT
BEGIN:VEVENT
DTSTART;TZID=America/New_York:20260208T080000
DTEND;TZID=America/New_York:20260208T160000
DTSTAMP:20260425T075208
CREATED:20260203T194451Z
LAST-MODIFIED:20260204T133833Z
UID:10001664-1770537600-1770566400@quoifairealma.com
SUMMARY:Cheerleading – évènement scolaire du RSEQ
DESCRIPTION:Ce dimanche\, vous aurez la chance de voir plusieurs équipes de cheerleading en action! \nBloc 1-Primaire N1 de 8 h 15 à 9 h\nBloc 2- Benjamin N1 – Ouvert N1 de 9 h 15 à 10 h 30\nBloc 3-Collégial N4 – Primaire N1 de 11 h à 12 h 30\nBloc 4- Collégial N4 – Primaire N1 de 13 h à 14 h 30\nBloc 5- Ouvert N2 – N2ST – N3 de 15 h à 17 h \nHoraire complète : https://rseq.ca/media/3107145/cheer-08-02-2026-_horaire_d_taill___quipes.pdf
URL:https://quoifairealma.com/evenement/cheerleading-evenement-scolaire-du-rseq-2/
LOCATION:Centre Mario-Tremblay\, 605\, boulevard Saint-Luc\, Alma\, G8B 2K8
CATEGORIES:Compétitions et rencontres sportives,Sports et plein air
ATTACH;FMTTYPE=image/jpeg:https://quoifairealma.com/app/uploads/2026/02/Cheerleading.jpg
ORGANIZER;CN="Coll%C3%A8ge d'Alma":MAILTO:melina.regimbal@collegealma.ca
END:VEVENT
BEGIN:VEVENT
DTSTART;TZID=America/New_York:20260208T130000
DTEND;TZID=America/New_York:20260208T150000
DTSTAMP:20260425T075208
CREATED:20260109T182859Z
LAST-MODIFIED:20260112T134108Z
UID:10001534-1770555600-1770562800@quoifairealma.com
SUMMARY:Hockey D2 : Thetford contre Alma
DESCRIPTION:L’équipe de hockey D2 du Collège d’Alma vous invite à venir les encourager lors de la rencontre les opposant aux Filons du Cégep de Thetford. \nSoyez des nôtres! \nWEBDIFFUSION : https://www.youtube.com/live/6w2wTkeRd2k
URL:https://quoifairealma.com/evenement/hockey-d2-thetford-contre-alma-4/
LOCATION:Centre Mario-Tremblay\, 605\, boulevard Saint-Luc\, Alma\, G8B 2K8
CATEGORIES:Compétitions et rencontres sportives,Sports et plein air
ATTACH;FMTTYPE=image/jpeg:https://quoifairealma.com/app/uploads/2026/01/edouard-nadeau_photographe-2421-web825.jpg
ORGANIZER;CN="Coll%C3%A8ge d'Alma":MAILTO:melina.regimbal@collegealma.ca
END:VEVENT
END:VCALENDAR